{"text_format":"1","workbook":"xlsx","n_sheets":12,"sheets":["ORÇ. DESON.","ORÇ. SEM DESON.","MEM.CALC.","CRONOGRAMA","RESUMO","Plan1","BDI DESON.","BDI SEM DESON.","L.S.","L.S SEM DESON.","COMP. CIVIL","ETAPAS DA OBRA"],"not_rendered":{"charts":0,"images":4,"macros":1,"external_links":2,"defined_names":41,"comments":0,"pivot_tables":0},"unopened":[],"bounds":{"document_bytes":16777216,"sheet_cells":100000,"rows_first":2000,"rows_last":500,"rows_between":2000,"halvings":0,"cell_chars":16384,"cell_head_chars":4096},"cells_cut":0,"cells_raw":0,"read":"whole","date_system":"1900"}

{"sheet":"ORÇ. DESON.","index":0,"n_rows":45,"n_cols":24,"rows_kept":45,"cut":false,"hidden":false,"merged":[[7,11,7,19],[9,11,9,19],[44,11,44,20],[4,13,4,17],[42,11,42,13],[42,16,42,17],[40,11,40,13],[40,16,40,17],[41,11,41,13],[41,16,41,17],[1,11,1,19],[2,11,2,19],[3,11,3,19],[5,11,5,19],[6,11,6,19]]}
[]
[null,null,null,null,null,null,null,null,null,null,null,"GOVERNO DO ESTADO DO PIAUÍ"]
[null,null,null,null,null,null,null,null,null,null,null,"SECRETARIA DE ESTADO DA ADMINISTRAÇÃO E PREVIDÊNCIA DO PIAUÍ - SEADPREV"]
[null,null,null,null,null,null,null,null,null,null,null,"UNIDADE DE MODERNIZAÇÃO ADMINISTRATIVA - UMA"]
[]
[null,null,null,null,null,null,null,null,null,null,null,"MUNICÍPIO: TERESINA - PI"]
[null,null,null,null,null,null,null,null,null,null,null,"OBRA: REVITALIZAÇÃO: CAMPO DE FUTEBOL"]
[null,null,null,null,null,null,null,null,null,null,null,{"$f":"TODAY()","v":"2021-03-04"}]
[]
[null,null,null,null,null,null,null,null,null,null,null,"PLANILHA ORÇAMENTÁRIA (DESONERADA)"]
[]
[null,null,null,null,null,null,null,null,null,null,null,"DATA-BASE: SINAPI - 01/2021 - Piauí - ORSE DEZEMBRO.2019",null,null,null,null,"L.S.=",{"$f":"L.S.!G49","v":83.37},"BDI=",{"$f":"'BDI DESON.'!E34","v":0.25690000000000002}]
[]
[null,{"$f":"COLUMN()","v":2},{"$f":"COLUMN()","v":3},{"$f":"COLUMN()","v":4},{"$f":"COLUMN()","v":5},{"$f":"COLUMN()","v":6},{"$f":"COLUMN()","v":7},{"$f":"COLUMN()","v":8},{"$f":"COLUMN()","v":9},{"$f":"COLUMN()","v":10},{"$f":"COLUMN()","v":11},"REFER.","CÓDIGO","ÍTEM","DESCRIÇÃO","UNIDADE","QUANT.","CUSTO UNITÁRIO","CUSTO COM BDI","CUSTO PARCIAL"]
[null,null,null,null,null,null,null,null,null,null,null," 1 ",null,null,"ADMINISTRAÇÃO LOCAL DA OBRA",null,null,null,null,{"$f":"SUM(T16:T17)","v":4952.88},{"$f":"T15 / 114551.27","v":4.3200000000000002E-2}]
[null,null,null,null,null,null,null,null,null,null,null," 1.1 "," 90777 ","SINAPI","ENGENHEIRO CIVIL DE OBRA JUNIOR COM ENCARGOS COMPLEMENTARES","H",30,79.91,{"$f":"ROUND(R16 * (1 + 25.69 / 100), 2)","v":100.44},{"$f":"ROUND(Q16 * S16, 2)","v":3013.2},2.63E-2]
[null,null,null,null,null,null,null,null,null,null,null," 1.2 "," 90780 ","SINAPI","MESTRE DE OBRAS COM ENCARGOS COMPLEMENTARES","H",48,32.15,{"$f":"ROUND(R17 * (1 + 25.69 / 100), 2)","v":40.409999999999997},{"$f":"ROUND(Q17 * S17, 2)","v":1939.68},1.6899999999999998E-2]
[null,null,null,null,null,null,null,null,null,null,null," 2 ",null,null,"SERVIÇOS INICIAIS/ TERRAPLENAGEM",null,null,null,null,{"$f":"SUM(T19:T21)","v":2193.23},1.9099999999999999E-2]
[null,null,null,null,null,null,null,null,null,null,null," 2.1 "," 74209/001 ","SINAPI","PLACA DE OBRA EM CHAPA DE ACO GALVANIZADO","m²",4.5,278.55,{"$f":"ROUND(R19 * (1 + 25.69 / 100), 2)","v":350.11},{"$f":"ROUND(Q19 * S19, 2)","v":1575.5},1.38E-2]
[null,null,null,null,null,null,null,null,null,null,null," 2.2 "," 73822/002 ","SINAPI","LIMPEZA MECANIZADA DE TERRENO COM REMOCAO DE CAMADA VEGETAL, UTILIZANDO MOTONIVELADORA","m²",519.1,0.49,{"$f":"ROUND(R20 * (1 + 25.69 / 100), 2)","v":0.62},{"$f":"ROUND(Q20 * S20, 2)","v":321.83999999999997},2.8E-3]
[null,null,null,null,null,null,null,null,null,null,null," 2.3 "," 79472 ","SINAPI","REGULARIZACAO DE SUPERFICIES EM TERRA COM MOTONIVELADORA","m²",519.1,0.45,{"$f":"ROUND(R21 * (1 + 25.69 / 100), 2)","v":0.56999999999999995},{"$f":"ROUND(Q21 * S21, 2)","v":295.89},2.5999999999999999E-3]
[null,null,null,null,null,null,null,null,null,null,null," 3 ",null,null,"CAMPO DE FUTEBOL",null,null,null,null,{"$f":"SUM(T23:T25)","v":73178.960000000006},0.63880000000000003]
[null,null,null,null,null,null,null,null,null,null,null," 3.1 "," 98504 ","SINAPI","PLANTIO DE GRAMA EM PLACAS. AF_05/2018","m²",766.21,12.83,{"$f":"ROUND(R23 * (1 + 25.69 / 100), 2)","v":16.13},{"$f":"ROUND(Q23 * S23, 2)","v":12358.97},0.1079]
[null,null,null,null,null,null,null,null,null,null,null," 3.2 "," COMP. 01 SEAD ","Próprio","CONJUNTO DE TRAVES PARA FUTSAL/ SOCIETY EM TUBOS DE AÇO GALVANIZADO; DIMENSÕES OFICIAIS; PINTADA A PRIMER COM TINTA ESMALTE: INCLUSO REDES DE NYLON","UN",1,3506.46,{"$f":"ROUND(R24 * (1 + 25.69 / 100), 2)","v":4407.2700000000004},{"$f":"ROUND(Q24 * S24, 2)","v":4407.2700000000004},3.85E-2]
[null,null,null,null,null,null,null,null,null,null,null," 3.3 "," COMP. 02 SEAD","Próprio","ALAMBRADO (HT=4.00M) COM TELA GALV. 2\"X2\" (H=1,50M), MONTANTES EM TUBO DE AÇO GALVANIZADO DE 2\" A CADA 2M, TUBO DE AÇO GALVANIZADO DE 1\" (HORIZONTAIS), MURETA (H=0,50M) EM ALVENARIA DE BLOCOS DE CIMENTO REVESTIDA E PINTADA EM PVA LÁTEX 2 DEMÃOS (Ref. ORSE  4301)","M",109.2,411.01,{"$f":"ROUND(R25 * (1 + 25.69 / 100), 2)","v":516.6},{"$f":"ROUND(Q25 * S25, 2)","v":56412.72},0.49249999999999999]
[null,null,null,null,null,null,null,null,null,null,null," 4 ",null,null,"ESQUADRIA",null,null,null,null,{"$f":"T27","v":1736.34},1.52E-2]
[null,null,null,null,null,null,null,null,null,null,null," 4.1 "," 100701 ","SINAPI","PORTA DE FERRO, DE ABRIR, TIPO GRADE COM CHAPA, COM GUARNIÇÕES. AF_12/2019","m²",3.78,365.46,{"$f":"ROUND(R27 * (1 + 25.69 / 100), 2)","v":459.35},{"$f":"ROUND(Q27 * S27, 2)","v":1736.34},1.52E-2]
[null,null,null,null,null,null,null,null,null,null,null," 5 ",null,null,"URBANIZAÇÃO/PAVIMENTAÇÃO/ILUMINAÇÃO EXTERNA",null,null,null,null,{"$f":"SUM(T29,T35)","v":73375.69},0.64049999999999996]
[null,null,null,null,null,null,null,null,null,null,null," 5.1 ",null,null,"PAVIMENTO",null,null,null,null,{"$f":"SUM(T30:T34)","v":30189.11},0.26350000000000001]
[null,null,null,null,null,null,null,null,null,null,null," 5.1.1 "," 85335 ","SINAPI","RETIRADA DE MEIO FIO C/ EMPILHAMENTO E S/ REMOCAO","M",70,6.64,{"$f":"ROUND(R30 * (1 + 25.69 / 100), 2)","v":8.35},{"$f":"ROUND(Q30 * S30, 2)","v":584.5},5.1000000000000004E-3]
[null,null,null,null,null,null,null,null,null,null,null," 5.1.2 "," 94273 ","SINAPI","ASSENTAMENTO DE GUIA (MEIO-FIO) EM TRECHO RETO, CONFECCIONADA EM CONCRETO PRÉ-FABRICADO, DIMENSÕES 100X15X13X30 CM (COMPRIMENTO X BASE INFERIOR X BASE SUPERIOR X ALTURA), PARA VIAS URBANAS (USO VIÁRIO). AF_06/2016","M",70,37.229999999999997,{"$f":"ROUND(R31 * (1 + 25.69 / 100), 2)","v":46.79},{"$f":"ROUND(Q31 * S31, 2)","v":3275.3},2.86E-2]
[null,null,null,null,null,null,null,null,null,null,null," 5.1.3 "," 101864 ","SINAPI","REASSENTAMENTO DE BLOCOS RETANGULAR PARA PISO INTERTRAVADO, ESPESSURA DE 8 CM, EM VIA/ESTACIONAMENTO, COM REAPROVEITAMENTO DOS BLOCOS RETANGULAR. AF_12/2020","m²",108.5,19.28,{"$f":"ROUND(R32 * (1 + 25.69 / 100), 2)","v":24.23},{"$f":"ROUND(Q32 * S32, 2)","v":2628.96},2.3E-2]
[null,null,null,null,null,null,null,null,null,null,null," 5.1.4 "," 92396 ","SINAPI","EXECUÇÃO DE PASSEIO EM PISO INTERTRAVADO, COM BLOCO RETANGULAR COR NATURAL DE 20 X 10 CM, ESPESSURA 6 CM. AF_12/2015","m²",257.87,49.22,{"$f":"ROUND(R33 * (1 + 25.69 / 100), 2)","v":61.86},{"$f":"ROUND(Q33 * S33, 2)","v":15951.84},0.13930000000000001]
[null,null,null,null,null,null,null,null,null,null,null," 5.1.5 "," 93679 ","SINAPI","EXECUÇÃO DE PASSEIO EM PISO INTERTRAVADO, COM BLOCO RETANGULAR COLORIDO DE 20 X 10 CM, ESPESSURA 6 CM. AF_12/2015","m²",113.15,54.48,{"$f":"ROUND(R34 * (1 + 25.69 / 100), 2)","v":68.48},{"$f":"ROUND(Q34 * S34, 2)","v":7748.51},6.7599999999999993E-2]
[null,null,null,null,null,null,null,null,null,null,null," 5.2 ",null,null,"ILUMINAÇÃO ELÉTRICA EM ANEXO",null,null,null,null,{"$f":"T36","v":43186.58},0.377]
[null,null,null,null,null,null,null,null,null,null,null,"5.2.1",null,"ANEXO","ILUMINAÇÃO","UN",1,{"$f":"S36/1.2569","v":34359.599999999999},43186.58,{"$f":"Q36*S36","v":43186.58},0.377,null,null,{"$f":"W43-'ORÇ. SEM DESON.'!W43","v":3354.85}]
[null,null,null,null,null,null,null,null,null,null,null," 6 ",null,null,"SERVIÇOS FINAIS",null,null,null,null,{"$f":"SUM(T38:T39)","v":2300.75},2.01E-2]
[null,null,null,null,null,null,null,null,null,null,null," 6.1 "," 9537 ","SINAPI","LIMPEZA FINAL DA OBRA","m²",766.21,2.2400000000000002,{"$f":"ROUND(R38 * (1 + 25.69 / 100), 2)","v":2.82},{"$f":"ROUND(Q38 * S38, 2)","v":2160.71},1.89E-2]
[null,null,null,null,null,null,null,null,null,null,null," 6.2 "," 72897 ","SINAPI","CARGA MANUAL DE ENTULHO EM CAMINHAO BASCULANTE 6 M3","m³",6,18.57,{"$f":"ROUND(R39 * (1 + 25.69 / 100), 2)","v":23.34},{"$f":"ROUND(Q39 * S39, 2)","v":140.04},1.1999999999999999E-3]
[]
[null,null,null,null,null,null,null,null,null,null,null,null,null,null,null,null,"Total sem BDI",null,null,{"$f":"W41","v":125497.53},null,null,{"$f":"W43/1.2569","v":125497.53}]
[null,null,null,null,null,null,null,null,null,null,null,null,null,null,null,null,"Total do BDI",null,null,{"$f":"W42","v":32240.32},null,null,{"$f":"W41*0.2569","v":32240.32}]
[null,null,null,null,null,null,null,null,null,null,null,null,null,null,null,null,"Total Geral",null,null,{"$f":"W43","v":157737.85},null,null,{"$f":"SUM(T15,T18,T22,T26,T28,T37)","v":157737.85}]
[]
[null,null,null,null,null,null,null,null,null,null,null,"_______________________________________________________________\nPEDRO HENRIQUE\nSetor de Engenharia"]

{"sheet":"ORÇ. SEM DESON.","index":1,"n_rows":45,"n_cols":33,"rows_kept":45,"cut":false,"hidden":false,"merged":[[6,11,6,19],[7,11,7,19],[9,11,9,19],[12,25,12,26],[12,27,12,28],[1,11,1,19],[2,11,2,19],[3,11,3,19],[4,13,4,17],[5,11,5,19],[42,16,42,17],[40,11,40,13],[40,16,40,17],[44,11,44,20],[12,31,12,32],[12,29,12,30],[41,11,41,13],[41,16,41,17],[42,11,42,13]]}
[]
[null,null,null,null,null,null,null,null,null,null,null,"GOVERNO DO ESTADO DO PIAUÍ"]
[null,null,null,null,null,null,null,null,null,null,null,"SECRETARIA DE ESTADO DA ADMINISTRAÇÃO E PREVIDÊNCIA DO PIAUÍ - SEADPREV"]
[null,null,null,null,null,null,null,null,null,null,null,"UNIDADE DE MODERNIZAÇÃO ADMINISTRATIVA - UMA",null,null,null,null,null,null,null,null,null,null,null,null,null,""]
[]
[null,null,null,null,null,null,null,null,null,null,null,"MUNICÍPIO: TERESINA - PI"]
[null,null,null,null,null,null,null,null,null,null,null,"OBRA: REVITALIZAÇÃO: CAMPO DE FUTEBOL"]
[null,null,null,null,null,null,null,null,null,null,null,{"$f":"TODAY()","v":"2021-03-04"}]
[]
[null,null,null,null,null,null,null,null,null,null,null,"PLANILHA ORÇAMENTÁRIA (SEM DESONERADA)"]
[]
[null,null,null,null,null,null,null,null,null,null,null,"DATA-BASE: SINAPI - 01/2021 - Piauí - ORSE DEZEMBRO.2019",null,null,null,null,"L.S.=",{"$f":"'L.S SEM DESON.'!G49","v":112.15},"BDI=",{"$f":"'BDI SEM DESON.'!E34","v":0.1971}]
[null,null,null,null,null,null,null,null,null,null,null,null,null,null,null,null,null,null,null,null,null,null,null,null,null,"MEMÓRIA",null,"DESCRITIVO",null,"CRONOGRAMA",null,"RESUMO"]
[null,{"$f":"COLUMN()","v":2},{"$f":"COLUMN()","v":3},{"$f":"COLUMN()","v":4},{"$f":"COLUMN()","v":5},{"$f":"COLUMN()","v":6},{"$f":"COLUMN()","v":7},{"$f":"COLUMN()","v":8},{"$f":"COLUMN()","v":9},{"$f":"COLUMN()","v":10},{"$f":"COLUMN()","v":11},"REFER.","CÓDIGO","ÍTEM","DESCRIÇÃO","UNIDADE","QUANT.","CUSTO UNITÁRIO","CUSTO COM BDI","CUSTO PARCIAL",null,null,null,null,null,{"$f":"COLUMN()","v":26},{"$f":"COLUMN()","v":27},{"$f":"COLUMN()","v":28},{"$f":"COLUMN()","v":29},{"$f":"COLUMN()","v":30},{"$f":"COLUMN()","v":31},{"$f":"COLUMN()","v":32},{"$f":"COLUMN()","v":33}]
[null,null,null,null,null,null,null,null,null,null,null," 1 ",null,null,"ADMINISTRAÇÃO LOCAL DA OBRA",null,null,null,null,{"$f":"SUM(T16:T17)","v":5436.36},{"$f":"T15 / 112925.1","v":4.8099999999999997E-2}]
[null,null,null,null,null,null,null,null,null,null,null," 1.1 "," 90777 ","SINAPI","ENGENHEIRO CIVIL DE OBRA JUNIOR COM ENCARGOS COMPLEMENTARES","H",30,92.27,{"$f":"ROUND(R16 * (1 + 19.71 / 100), 2)","v":110.46},{"$f":"ROUND(Q16 * S16, 2)","v":3313.8},2.93E-2]
[null,null,null,null,null,null,null,null,null,null,null," 1.2 "," 90780 ","SINAPI","MESTRE DE OBRAS COM ENCARGOS COMPLEMENTARES","H",48,36.94,{"$f":"ROUND(R17 * (1 + 19.71 / 100), 2)","v":44.22},{"$f":"ROUND(Q17 * S17, 2)","v":2122.56},1.8800000000000001E-2]
[null,null,null,null,null,null,null,null,null,null,null," 2 ",null,null,"SERVIÇOS INICIAIS/ TERRAPLENAGEM",null,null,null,null,{"$f":"SUM(T19:T21)","v":2124.77},1.8800000000000001E-2]
[null,null,null,null,null,null,null,null,null,null,null," 2.1 "," 74209/001 ","SINAPI","PLACA DE OBRA EM CHAPA DE ACO GALVANIZADO","m²",4.5,283.61,{"$f":"ROUND(R19 * (1 + 19.71 / 100), 2)","v":339.51},{"$f":"ROUND(Q19 * S19, 2)","v":1527.8},1.35E-2]
[null,null,null,null,null,null,null,null,null,null,null," 2.2 "," 73822/002 ","SINAPI","LIMPEZA MECANIZADA DE TERRENO COM REMOCAO DE CAMADA VEGETAL, UTILIZANDO MOTONIVELADORA","m²",519.1,0.5,{"$f":"ROUND(R20 * (1 + 19.71 / 100), 2)","v":0.6},{"$f":"ROUND(Q20 * S20, 2)","v":311.45999999999998},2.8E-3]
[null,null,null,null,null,null,null,null,null,null,null," 2.3 "," 79472 ","SINAPI","REGULARIZACAO DE SUPERFICIES EM TERRA COM MOTONIVELADORA","m²",519.1,0.46,{"$f":"ROUND(R21 * (1 + 19.71 / 100), 2)","v":0.55000000000000004},{"$f":"ROUND(Q21 * S21, 2)","v":285.51},2.5000000000000001E-3]
[null,null,null,null,null,null,null,null,null,null,null," 3 ",null,null,"CAMPO DE FUTEBOL",null,null,null,null,{"$f":"SUM(T23:T25)","v":71515.09},0.63329999999999997]
[null,null,null,null,null,null,null,null,null,null,null," 3.1 "," 98504 ","SINAPI","PLANTIO DE GRAMA EM PLACAS. AF_05/2018","m²",766.21,13.14,{"$f":"ROUND(R23 * (1 + 19.71 / 100), 2)","v":15.73},{"$f":"ROUND(Q23 * S23, 2)","v":12052.48},0.1067]
[null,null,null,null,null,null,null,null,null,null,null," 3.2 "," COMP. 01 SEAD ","Próprio","CONJUNTO DE TRAVES PARA FUTSAL/ SOCIETY EM TUBOS DE AÇO GALVANIZADO; DIMENSÕES OFICIAIS; PINTADA A PRIMER COM TINTA ESMALTE: INCLUSO REDES DE NYLON","UN",1,3506.46,{"$f":"ROUND(R24 * (1 + 19.71 / 100), 2)","v":4197.58},{"$f":"ROUND(Q24 * S24, 2)","v":4197.58},3.7199999999999997E-2]
[null,null,null,null,null,null,null,null,null,null,null," 3.3 "," COMP. 02 SEAD","Próprio","ALAMBRADO (HT=4.00M) COM TELA GALV. 2\"X2\" (H=1,50M), MONTANTES EM TUBO DE AÇO GALVANIZADO DE 2\" A CADA 2M, TUBO DE AÇO GALVANIZADO DE 1\" (HORIZONTAIS), MURETA (H=0,50M) EM ALVENARIA DE BLOCOS DE CIMENTO REVESTIDA E PINTADA EM PVA LÁTEX 2 DEMÃOS (Ref. ORSE  4301)","M",109.2,422.76,{"$f":"ROUND(R25 * (1 + 19.71 / 100), 2)","v":506.09},{"$f":"ROUND(Q25 * S25, 2)","v":55265.03},0.4894]
[null,null,null,null,null,null,null,null,null,null,null," 4 ",null,null,"ESQUADRIA",null,null,null,null,{"$f":"T27","v":1660.25},1.47E-2]
[null,null,null,null,null,null,null,null,null,null,null," 4.1 "," 100701 ","SINAPI","PORTA DE FERRO, DE ABRIR, TIPO GRADE COM CHAPA, COM GUARNIÇÕES. AF_12/2019","m²",3.78,366.9,{"$f":"ROUND(R27 * (1 + 19.71 / 100), 2)","v":439.22},{"$f":"ROUND(Q27 * S27, 2)","v":1660.25},1.47E-2]
[null,null,null,null,null,null,null,null,null,null,null," 5 ",null,null,"URBANIZAÇÃO/PAVIMENTAÇÃO/ILUMINAÇÃO EXTERNA",null,null,null,null,{"$f":"T29+T35","v":71264.66},0.63109999999999999]
[null,null,null,null,null,null,null,null,null,null,null," 5.1 ",null,null,"PAVIMENTO",null,null,null,null,{"$f":"SUM(T30:T34)","v":29806.76},0.26400000000000001]
[null,null,null,null,null,null,null,null,null,null,null," 5.1.1 "," 85335 ","SINAPI","RETIRADA DE MEIO FIO C/ EMPILHAMENTO E S/ REMOCAO","M",70,7.38,{"$f":"ROUND(R30 * (1 + 19.71 / 100), 2)","v":8.83},{"$f":"ROUND(Q30 * S30, 2)","v":618.1},5.4999999999999997E-3]
[null,null,null,null,null,null,null,null,null,null,null," 5.1.2 "," 94273 ","SINAPI","ASSENTAMENTO DE GUIA (MEIO-FIO) EM TRECHO RETO, CONFECCIONADA EM CONCRETO PRÉ-FABRICADO, DIMENSÕES 100X15X13X30 CM (COMPRIMENTO X BASE INFERIOR X BASE SUPERIOR X ALTURA), PARA VIAS URBANAS (USO VIÁRIO). AF_06/2016","M",70,38.65,{"$f":"ROUND(R31 * (1 + 19.71 / 100), 2)","v":46.27},{"$f":"ROUND(Q31 * S31, 2)","v":3238.9},2.87E-2]
[null,null,null,null,null,null,null,null,null,null,null," 5.1.3 "," 101864 ","SINAPI","REASSENTAMENTO DE BLOCOS RETANGULAR PARA PISO INTERTRAVADO, ESPESSURA DE 8 CM, EM VIA/ESTACIONAMENTO, COM REAPROVEITAMENTO DOS BLOCOS RETANGULAR. AF_12/2020","m²",108.5,21.17,{"$f":"ROUND(R32 * (1 + 19.71 / 100), 2)","v":25.34},{"$f":"ROUND(Q32 * S32, 2)","v":2749.39},2.4299999999999999E-2]
[null,null,null,null,null,null,null,null,null,null,null," 5.1.4 "," 92396 ","SINAPI","EXECUÇÃO DE PASSEIO EM PISO INTERTRAVADO, COM BLOCO RETANGULAR COR NATURAL DE 20 X 10 CM, ESPESSURA 6 CM. AF_12/2015","m²",257.87,50.63,{"$f":"ROUND(R33 * (1 + 19.71 / 100), 2)","v":60.61},{"$f":"ROUND(Q33 * S33, 2)","v":15629.5},0.1384]
[null,null,null,null,null,null,null,null,null,null,null," 5.1.5 "," 93679 ","SINAPI","EXECUÇÃO DE PASSEIO EM PISO INTERTRAVADO, COM BLOCO RETANGULAR COLORIDO DE 20 X 10 CM, ESPESSURA 6 CM. AF_12/2015","m²",113.15,55.89,{"$f":"ROUND(R34 * (1 + 19.71 / 100), 2)","v":66.91},{"$f":"ROUND(Q34 * S34, 2)","v":7570.87},6.7000000000000004E-2]
[null,null,null,null,null,null,null,null,null,null,null," 5.2 ",null,null,"ILUMINAÇÃO ELÉTRICA EM ANEXO",null,null,null,null,{"$f":"T36","v":41457.9},0.36709999999999998]
[null,null,null,null,null,null,null,null,null,null,null,"5.2.1",null,null,null,"ANEXO",1,{"$f":"S36/1.2569","v":32984.25},41457.9,{"$f":"Q36*S36","v":41457.9},{"$f":"T36 / 114551.27","v":0.3619}]
[null,null,null,null,null,null,null,null,null,null,null," 6 ",null,null,"SERVIÇOS FINAIS",null,null,null,null,{"$f":"SUM(T38:T39)","v":2381.87},2.1100000000000001E-2]
[null,null,null,null,null,null,null,null,null,null,null," 6.1 "," 9537 ","SINAPI","LIMPEZA FINAL DA OBRA","m²",766.21,2.44,{"$f":"ROUND(R38 * (1 + 19.71 / 100), 2)","v":2.92},{"$f":"ROUND(Q38 * S38, 2)","v":2237.33},1.9800000000000002E-2]
[null,null,null,null,null,null,null,null,null,null,null," 6.2 "," 72897 ","SINAPI","CARGA MANUAL DE ENTULHO EM CAMINHAO BASCULANTE 6 M3","m³",6,20.12,{"$f":"ROUND(R39 * (1 + 19.71 / 100), 2)","v":24.09},{"$f":"ROUND(Q39 * S39, 2)","v":144.54},1.2999999999999999E-3]
[]
[null,null,null,null,null,null,null,null,null,null,null,null,null,null,null,null,"Total sem BDI",null,null,{"$f":"W41","v":128964.16},null,null,{"$f":"W43/1.1971","v":128964.16}]
[null,null,null,null,null,null,null,null,null,null,null,null,null,null,null,null,"Total do BDI",null,null,{"$f":"W42","v":25418.84},null,null,{"$f":"W41*0.1971","v":25418.84}]
[null,null,null,null,null,null,null,null,null,null,null,null,null,null,null,null,"Total Geral",null,null,{"$f":"W43","v":154383},null,null,{"$f":"SUM(T15,T18,T22,T26,T28,T37)","v":154383}]
[]
[null,null,null,null,null,null,null,null,null,null,null,"_______________________________________________________________\nPEDRO HENRIQUE\nSetor de Engenharia"]

{"sheet":"MEM.CALC.","index":2,"n_rows":61,"n_cols":16,"rows_kept":61,"cut":false,"hidden":false,"merged":[[58,1,58,15],[59,2,59,5],[55,2,55,5],[56,1,56,5],[60,1,60,5],[53,1,53,15],[41,2,41,5],[42,1,42,5],[44,2,44,5],[45,1,45,5],[50,2,50,5],[51,1,51,5],[47,2,47,5],[48,1,48,5],[34,1,34,5],[38,2,38,5],[39,1,39,5],[37,1,37,15],[36,1,36,15],[16,2,16,5],[17,1,17,5],[19,2,19,5],[30,1,30,5],[33,2,33,5],[29,2,29,5],[20,1,20,5],[23,2,23,5],[24,1,24,5],[26,2,26,5],[27,1,27,5],[22,1,22,15],[32,1,32,15],[0,0,0,15],[1,0,1,15],[2,0,2,15],[3,10,3,11],[4,2,4,5],[13,2,13,5],[14,1,14,5],[5,1,5,15],[6,2,6,5],[7,1,7,5],[10,1,10,5],[9,2,9,5],[12,1,12,15]]}
[{"$f":"'ORÇ. DESON.'!L6","v":"MUNICÍPIO: TERESINA - PI"}]
[{"$f":"'ORÇ. DESON.'!L7","v":"OBRA: REVITALIZAÇÃO: CAMPO DE FUTEBOL"}]
["MEMÓRIA DE CÁLCULO"]
[null,{"$f":"'ORÇ. DESON.'!L12","v":"DATA-BASE: SINAPI - 01/2021 - Piauí - ORSE DEZEMBRO.2019"},null,null,null,null,null,null,null,null,"LEIS SOCIAIS (%):",null,{"$f":"LEI","v":82.44},null,"BDI (%):",{"$f":"'BDI DESON.'!E34","v":0.25690000000000002}]
["ITEM","CÓDIGO","DESCRIÇÃO",null,null,null,"UNID","QUANT","COEF","COMP (m)","LARG (m)","ALT (m)","ÁREA (m2)","VOL (m3)","PARCIAL","TOTAL"]
[1,"ADMINISTRAÇÃO LOCAL"]
["1.1",{"$f":"'ORÇ. DESON.'!M16","v":" 90777 "},{"$f":"'ORÇ. DESON.'!O16","v":"ENGENHEIRO CIVIL DE OBRA JUNIOR COM ENCARGOS COMPLEMENTARES"},null,null,null,{"$f":"'ORÇ. DESON.'!P16","v":"H"},null,null,null,null,null,null,null,null,{"$f":"SUM(O7:O9)","v":26}]
["1.1.1",null,null,null,null,null,null,26,null,null,null,null,{"$f":"IF(COUNTA(J8:L8)=2,ROUND(PRODUCT(J8:L8),2),\"\")","v":""},{"$f":"IF(OR(COUNTA(J8:L8)=3,AND(COUNTA(J8:L8)=1,M8<>\"\")),ROUND(PRODUCT(J8:M8),2),\"\")","v":""},{"$f":"IF(N8<>\"\",ROUND(PRODUCT(H8,I8,N8),2),IF(M8<>\"\",ROUND(PRODUCT(H8,I8,M8),2),ROUND(PRODUCT(H8:L8),2)))","v":26}]
[]
[" 1.2 ",{"$f":"'ORÇ. DESON.'!M17","v":" 90780 "},{"$f":"'ORÇ. DESON.'!O17","v":"MESTRE DE OBRAS COM ENCARGOS COMPLEMENTARES"},null,null,null,{"$f":"G7","v":"H"},null,null,null,null,null,null,null,null,{"$f":"SUM(O10:O12)","v":33}]
["1.2.1",null,null,null,null,null,null,33,null,null,null,null,null,{"$f":"IF(OR(COUNTA(J11:L11)=3,AND(COUNTA(J11:L11)=1,M11<>\"\")),ROUND(PRODUCT(J11:M11),2),\"\")","v":""},{"$f":"IF(N11<>\"\",ROUND(PRODUCT(H11,I11,N11),2),IF(M11<>\"\",ROUND(PRODUCT(H11,I11,M11),2),ROUND(PRODUCT(H11:L11),2)))","v":33}]
[]
[2,{"$f":"'ORÇ. DESON.'!O18","v":"SERVIÇOS INICIAIS/ TERRAPLENAGEM"}]
["2.1"," 74209/001 ",{"$f":"'ORÇ. DESON.'!O19","v":"PLACA DE OBRA EM CHAPA DE ACO GALVANIZADO"},null,null,null,{"$f":"'ORÇ. DESON.'!P23","v":"m²"},null,null,null,null,null,null,null,null,{"$f":"SUM(O14:O16)","v":4.5}]
["2.1.1",null,null,null,null,null,null,null,null,3,1.5,null,{"$f":"IF(COUNTA(J15:L15)=2,ROUND(PRODUCT(J15:L15),2),\"\")","v":4.5},{"$f":"IF(OR(COUNTA(J15:L15)=3,AND(COUNTA(J15:L15)=1,M15<>\"\")),ROUND(PRODUCT(J15:M15),2),\"\")","v":""},{"$f":"IF(N15<>\"\",ROUND(PRODUCT(H15,I15,N15),2),IF(M15<>\"\",ROUND(PRODUCT(H15,I15,M15),2),ROUND(PRODUCT(H15:L15),2)))","v":4.5}]
[]
["2.2",{"$f":"'ORÇ. DESON.'!M20","v":" 73822/002 "},{"$f":"'ORÇ. DESON.'!O20","v":"LIMPEZA MECANIZADA DE TERRENO COM REMOCAO DE CAMADA VEGETAL, UTILIZANDO MOTONIVELADORA"},null,null,null,{"$f":"'ORÇ. DESON.'!P20","v":"m²"},null,null,null,null,null,null,null,null,{"$f":"SUM(O17:O19)","v":519.1}]
["2.2.1","Área Campo (ver projeto arq.)",null,null,null,null,null,1,null,null,null,null,{"$f":"'ORÇ. DESON.'!Q20","v":519.1},{"$f":"IF(OR(COUNTA(J18:L18)=3,AND(COUNTA(J18:L18)=1,M18<>\"\")),ROUND(PRODUCT(J18:M18),2),\"\")","v":""},{"$f":"IF(N18<>\"\",ROUND(PRODUCT(H18,I18,N18),2),IF(M18<>\"\",ROUND(PRODUCT(H18,I18,M18),2),ROUND(PRODUCT(H18:L18),2)))","v":519.1}]
[]
["2.3",{"$f":"'ORÇ. DESON.'!M21","v":" 79472 "},{"$f":"'ORÇ. DESON.'!O21","v":"REGULARIZACAO DE SUPERFICIES EM TERRA COM MOTONIVELADORA"},null,null,null,{"$f":"'ORÇ. DESON.'!P21","v":"m²"},null,null,null,null,null,null,null,null,{"$f":"SUM(O20:O22)","v":519.1}]
["2.3.1","Área Campo (ver projeto arq.)",null,null,null,null,null,1,null,null,null,null,{"$f":"M18","v":519.1},{"$f":"IF(OR(COUNTA(J21:L21)=3,AND(COUNTA(J21:L21)=1,M21<>\"\")),ROUND(PRODUCT(J21:M21),2),\"\")","v":""},{"$f":"IF(N21<>\"\",ROUND(PRODUCT(H21,I21,N21),2),IF(M21<>\"\",ROUND(PRODUCT(H21,I21,M21),2),ROUND(PRODUCT(H21:L21),2)))","v":519.1}]
[]
[3,{"$f":"'ORÇ. DESON.'!O22","v":"CAMPO DE FUTEBOL"}]
["3.1",{"$f":"'ORÇ. DESON.'!M23","v":" 98504 "},{"$f":"'ORÇ. DESON.'!O23","v":"PLANTIO DE GRAMA EM PLACAS. AF_05/2018"},null,null,null,{"$f":"'ORÇ. DESON.'!P23","v":"m²"},null,null,null,null,null,null,null,null,{"$f":"SUM(O24:O26)","v":766.21}]
["3.1.1","Área de Plantio de Grama (ver projeto arq.)",null,null,null,null,null,1,null,null,null,null,{"$f":"'ORÇ. DESON.'!Q23","v":766.21},{"$f":"IF(OR(COUNTA(J25:L25)=3,AND(COUNTA(J25:L25)=1,M25<>\"\")),ROUND(PRODUCT(J25:M25),2),\"\")","v":""},{"$f":"IF(N25<>\"\",ROUND(PRODUCT(H25,I25,N25),2),IF(M25<>\"\",ROUND(PRODUCT(H25,I25,M25),2),ROUND(PRODUCT(H25:L25),2)))","v":766.21}]
[]
["3.2",{"$f":"'ORÇ. DESON.'!M24","v":" COMP. 01 SEAD "},{"$f":"'ORÇ. DESON.'!O24","v":"CONJUNTO DE TRAVES PARA FUTSAL/ SOCIETY EM TUBOS DE AÇO GALVANIZADO; DIMENSÕES OFICIAIS; PINTADA A PRIMER COM TINTA ESMALTE: INCLUSO REDES DE NYLON"},null,null,null,{"$f":"'ORÇ. DESON.'!P24","v":"UN"},null,null,null,null,null,null,null,null,{"$f":"SUM(O27:O29)","v":1}]
["3.2.1",null,null,null,null,null,null,1,null,null,null,null,null,{"$f":"IF(OR(COUNTA(J28:L28)=3,AND(COUNTA(J28:L28)=1,M28<>\"\")),ROUND(PRODUCT(J28:M28),2),\"\")","v":""},{"$f":"IF(N28<>\"\",ROUND(PRODUCT(H28,I28,N28),2),IF(M28<>\"\",ROUND(PRODUCT(H28,I28,M28),2),ROUND(PRODUCT(H28:L28),2)))","v":1}]
[]
["3.3",{"$f":"'ORÇ. DESON.'!M25","v":" COMP. 02 SEAD"},{"$f":"'ORÇ. DESON.'!O25","v":"ALAMBRADO (HT=4.00M) COM TELA GALV. 2\"X2\" (H=1,50M), MONTANTES EM TUBO DE AÇO GALVANIZADO DE 2\" A CADA 2M, TUBO DE AÇO GALVANIZADO DE 1\" (HORIZONTAIS), MURETA (H=0,50M) EM ALVENARIA DE BLOCOS DE CIMENTO REVESTIDA E PINTADA EM PVA LÁTEX 2 DEMÃOS (Ref. ORSE  4301)"},null,null,null,"M",null,null,null,null,null,null,null,null,{"$f":"SUM(O30:O32)","v":109.2}]
["3.3.1","Alambrado campo h=4,0m (Perímetro = 2x(37,30+17,30) = 109,20",null,null,null,null,null,2,null,{"$f":"37.3+17.3","v":54.6},null,null,{"$f":"IF(COUNTA(J31:L31)=2,ROUND(PRODUCT(J31:L31),2),\"\")","v":""},{"$f":"IF(OR(COUNTA(J31:L31)=3,AND(COUNTA(J31:L31)=1,M31<>\"\")),ROUND(PRODUCT(J31:M31),2),\"\")","v":""},{"$f":"IF(N31<>\"\",ROUND(PRODUCT(H31,I31,N31),2),IF(M31<>\"\",ROUND(PRODUCT(H31,I31,M31),2),ROUND(PRODUCT(H31:L31),2)))","v":109.2}]
[]
[4,{"$f":"'ORÇ. DESON.'!O26","v":"ESQUADRIA"}]
["4.1",{"$f":"'ORÇ. DESON.'!M27","v":" 100701 "},{"$f":"'ORÇ. DESON.'!O27","v":"PORTA DE FERRO, DE ABRIR, TIPO GRADE COM CHAPA, COM GUARNIÇÕES. AF_12/2019"},null,null,null,{"$f":"'ORÇ. DESON.'!P27","v":"m²"},null,null,null,null,null,null,null,null,{"$f":"SUM(O34:O36)","v":3.78}]
["4.1.1","P01",null,null,null,null,null,2,null,0.9,2.1,null,{"$f":"IF(COUNTA(J35:L35)=2,ROUND(PRODUCT(J35:L35),2),\"\")","v":1.89},{"$f":"IF(OR(COUNTA(J35:L35)=3,AND(COUNTA(J35:L35)=1,M35<>\"\")),ROUND(PRODUCT(J35:M35),2),\"\")","v":""},{"$f":"IF(N35<>\"\",ROUND(PRODUCT(H35,I35,N35),2),IF(M35<>\"\",ROUND(PRODUCT(H35,I35,M35),2),ROUND(PRODUCT(H35:L35),2)))","v":3.78}]
[]
[5,{"$f":"'ORÇ. DESON.'!O28","v":"URBANIZAÇÃO/PAVIMENTAÇÃO/ILUMINAÇÃO EXTERNA"}]
["5.1",{"$f":"'ORÇ. DESON.'!O29","v":"PAVIMENTO"}]
["5.1.1",{"$f":"'ORÇ. DESON.'!M30","v":" 85335 "},{"$f":"'ORÇ. DESON.'!O30","v":"RETIRADA DE MEIO FIO C/ EMPILHAMENTO E S/ REMOCAO"},null,null,null,{"$f":"'ORÇ. DESON.'!P30","v":"M"},null,null,null,null,null,null,null,null,{"$f":"SUM(O39:O40)","v":70}]
["5.1.1.1",null,null,null,null,null,null,1,null,{"$f":"70","v":70},null,null,{"$f":"IF(COUNTA(J40:L40)=2,ROUND(PRODUCT(J40:L40),2),\"\")","v":""},{"$f":"IF(OR(COUNTA(J40:L40)=3,AND(COUNTA(J40:L40)=1,M40<>\"\")),ROUND(PRODUCT(J40:M40),2),\"\")","v":""},{"$f":"IF(N40<>\"\",ROUND(PRODUCT(H40,I40,N40),2),IF(M40<>\"\",ROUND(PRODUCT(H40,I40,M40),2),ROUND(PRODUCT(H40:L40),2)))","v":70}]
[]
["5.1.2",{"$f":"'ORÇ. DESON.'!M31","v":" 94273 "},{"$f":"'ORÇ. DESON.'!O31","v":"ASSENTAMENTO DE GUIA (MEIO-FIO) EM TRECHO RETO, CONFECCIONADA EM CONCRETO PRÉ-FABRICADO, DIMENSÕES 100X15X13X30 CM (COMPRIMENTO X BASE INFERIOR X BASE SUPERIOR X ALTURA), PARA VIAS URBANAS (USO VIÁRIO). AF_06/2016"},null,null,null,{"$f":"'ORÇ. DESON.'!P31","v":"M"},null,null,null,null,null,null,null,null,{"$f":"SUM(O42:O44)","v":70}]
["5.1.2.1",null,null,null,null,null,null,1,null,70,null,null,null,{"$f":"IF(OR(COUNTA(J43:L43)=3,AND(COUNTA(J43:L43)=1,M43<>\"\")),ROUND(PRODUCT(J43:M43),2),\"\")","v":""},{"$f":"IF(N43<>\"\",ROUND(PRODUCT(H43,I43,N43),2),IF(M43<>\"\",ROUND(PRODUCT(H43,I43,M43),2),ROUND(PRODUCT(H43:L43),2)))","v":70}]
[]
["5.1.3",{"$f":"'ORÇ. DESON.'!M32","v":" 101864 "},{"$f":"'ORÇ. DESON.'!O32","v":"REASSENTAMENTO DE BLOCOS RETANGULAR PARA PISO INTERTRAVADO, ESPESSURA DE 8 CM, EM VIA/ESTACIONAMENTO, COM REAPROVEITAMENTO DOS BLOCOS RETANGULAR. AF_12/2020"},null,null,null,{"$f":"'ORÇ. DESON.'!P32","v":"m²"},null,null,null,null,null,null,null,null,{"$f":"SUM(O45:O47)","v":108.5}]
["5.1.3.1",null,null,null,null,null,null,1,null,null,null,null,{"$f":"'ORÇ. DESON.'!Q32","v":108.5},{"$f":"IF(OR(COUNTA(J46:L46)=3,AND(COUNTA(J46:L46)=1,M46<>\"\")),ROUND(PRODUCT(J46:M46),2),\"\")","v":""},{"$f":"IF(N46<>\"\",ROUND(PRODUCT(H46,I46,N46),2),IF(M46<>\"\",ROUND(PRODUCT(H46,I46,M46),2),ROUND(PRODUCT(H46:L46),2)))","v":108.5}]
[]
["5.1.4",{"$f":"'ORÇ. DESON.'!M33","v":" 92396 "},{"$f":"'ORÇ. DESON.'!O33","v":"EXECUÇÃO DE PASSEIO EM PISO INTERTRAVADO, COM BLOCO RETANGULAR COR NATURAL DE 20 X 10 CM, ESPESSURA 6 CM. AF_12/2015"},null,null,null,{"$f":"G45","v":"m²"},null,null,null,null,null,null,null,null,{"$f":"SUM(O48:O50)","v":257.87}]
["5.1.4.1","Área Circ.(m²) - Área Reassent.(m²)  (=366,42-108,50 = 257,87)",null,null,null,null,null,1,null,null,null,null,{"$f":"366.42-108.55","v":257.87},null,{"$f":"IF(N49<>\"\",ROUND(PRODUCT(H49,I49,N49),2),IF(M49<>\"\",ROUND(PRODUCT(H49,I49,M49),2),ROUND(PRODUCT(H49:L49),2)))","v":257.87}]
[]
["5.1.5",{"$f":"'ORÇ. DESON.'!M34","v":" 93679 "},{"$f":"'ORÇ. DESON.'!O34","v":"EXECUÇÃO DE PASSEIO EM PISO INTERTRAVADO, COM BLOCO RETANGULAR COLORIDO DE 20 X 10 CM, ESPESSURA 6 CM. AF_12/2015"},null,null,null,{"$f":"G48","v":"m²"},null,null,null,null,null,null,null,null,{"$f":"SUM(O51:O53)","v":113.15}]
["5.1.5.1","Ver projeto",null,null,null,null,null,1,null,null,null,null,{"$f":"'ORÇ. DESON.'!Q34","v":113.15},{"$f":"IF(OR(COUNTA(J52:L52)=3,AND(COUNTA(J52:L52)=1,M52<>\"\")),ROUND(PRODUCT(J52:M52),2),\"\")","v":""},{"$f":"IF(N52<>\"\",ROUND(PRODUCT(H52,I52,N52),2),IF(M52<>\"\",ROUND(PRODUCT(H52,I52,M52),2),ROUND(PRODUCT(H52:L52),2)))","v":113.15}]
[]
["5.2",{"$f":"'ORÇ. DESON.'!O35","v":"ILUMINAÇÃO ELÉTRICA EM ANEXO"}]
[]
["5.2.1","ANEXO",{"$f":"'ORÇ. DESON.'!O36","v":"ILUMINAÇÃO"},null,null,null,"UM",null,null,null,null,null,null,null,null,{"$f":"SUM(O56:O57)","v":1}]
["5.2.1.1",null,null,null,null,null,null,1,null,null,null,null,1,{"$f":"IF(OR(COUNTA(J57:L57)=3,AND(COUNTA(J57:L57)=1,M57<>\"\")),ROUND(PRODUCT(J57:M57),2),\"\")","v":""},{"$f":"IF(N57<>\"\",ROUND(PRODUCT(H57,I57,N57),2),IF(M57<>\"\",ROUND(PRODUCT(H57,I57,M57),2),ROUND(PRODUCT(H57:L57),2)))","v":1}]
[]
[6,{"$f":"'ORÇ. DESON.'!O38","v":"LIMPEZA FINAL DA OBRA"}]
["6.1",{"$f":"'ORÇ. DESON.'!M39","v":" 72897 "},{"$f":"'ORÇ. DESON.'!O39","v":"CARGA MANUAL DE ENTULHO EM CAMINHAO BASCULANTE 6 M3"},null,null,null,{"$f":"'ORÇ. DESON.'!P39","v":"m³"},null,null,null,null,null,null,null,null,{"$f":"SUM(O60:O61)","v":6}]
["6.1.1",null,null,null,null,null,null,1,null,null,null,null,{"$f":"'ORÇ. DESON.'!Q39","v":6},{"$f":"IF(OR(COUNTA(J61:L61)=3,AND(COUNTA(J61:L61)=1,M61<>\"\")),ROUND(PRODUCT(J61:M61),2),\"\")","v":""},{"$f":"IF(N61<>\"\",ROUND(PRODUCT(H61,I61,N61),2),IF(M61<>\"\",ROUND(PRODUCT(H61,I61,M61),2),ROUND(PRODUCT(H61:L61),2)))","v":6}]

{"sheet":"CRONOGRAMA","index":3,"n_rows":269,"n_cols":12,"rows_kept":269,"cut":false,"hidden":false,"merged":[[7,3,7,9],[9,3,9,9],[1,3,1,9],[2,3,2,9],[3,3,3,9],[4,3,4,9],[5,3,5,9],[6,3,6,9]]}
[{"$f":"ROW(36:36)","v":36},{"$f":"COLUMN(K:K)","v":11}]
[null,null,null,{"$f":"'ORÇ. DESON.'!L2","v":"GOVERNO DO ESTADO DO PIAUÍ"},null,null,null,null,null,null,"#"]
[null,null,null,{"$f":"'ORÇ. DESON.'!L3","v":"SECRETARIA DE ESTADO DA ADMINISTRAÇÃO E PREVIDÊNCIA DO PIAUÍ - SEADPREV"},null,null,null,null,null,null,"#"]
[null,null,null,{"$f":"'ORÇ. DESON.'!L4","v":"UNIDADE DE MODERNIZAÇÃO ADMINISTRATIVA - UMA"},null,null,null,null,null,null,"#"]
[]
[null,null,null,{"$f":"'ORÇ. DESON.'!L6","v":"MUNICÍPIO: TERESINA - PI"},null,null,null,null,null,null,"#"]
[null,null,null,{"$f":"'ORÇ. DESON.'!L7","v":"OBRA: REVITALIZAÇÃO: CAMPO DE FUTEBOL"},null,null,null,null,null,null,"#"]
[null,null,null,{"$f":"'ORÇ. DESON.'!L8","v":"2021-03-04"},null,null,null,null,null,null,"#"]
[]
[null,null,null,"C R O N O G R A M A     F Í S I C O   - F I N A N C E I R O ",null,null,null,null,null,null,"#"]
[]
[null,null,"ITEM","DISCRIMINAÇÃO DOS SERVIÇOS","R$","%",0,{"$f":"INDIRECT(ADDRESS(ROW(),COLUMN()-1))+30","v":30},60,90]
[]
[]
[]
[null,{"$f":"ROW()","v":16},{"$f":"'ORÇ. SEM DESON.'!L15","v":" 1 "},{"$f":"'ORÇ. DESON.'!O15","v":"ADMINISTRAÇÃO LOCAL DA OBRA"},{"$f":"'ORÇ. SEM DESON.'!T15","v":5436.36},{"$f":"E16/$E$28","v":3.5200000000000002E-2},"FÍSICO",0.33,0.33,0.34,"##",{"$f":"SUM(H16:J16)","v":1}]
[null,null,null,null,null,null,"FINANCEIRO",{"$f":"ROUND(H16*$E16-0.01,2)","v":1793.99},{"$f":"ROUND(I16*$E16,2)","v":1794},{"$f":"ROUND(J16*$E16,2)","v":1848.36},null,5436.35]
[null,{"$f":"ROW()","v":18},{"$f":"'ORÇ. SEM DESON.'!L18","v":" 2 "},{"$f":"'ORÇ. SEM DESON.'!O18","v":"SERVIÇOS INICIAIS/ TERRAPLENAGEM"},{"$f":"'ORÇ. SEM DESON.'!T18","v":2124.77},{"$f":"E18/$E$28","v":1.38E-2},"FÍSICO",1,null,null,"##",1]
[null,null,null,null,null,null,"FINANCEIRO",{"$f":"ROUND(H18*$E18,2)","v":2124.77},0,0,null,2124.77]
[null,{"$f":"ROW()","v":20},{"$f":"'ORÇ. SEM DESON.'!L22","v":" 3 "},{"$f":"'ORÇ. SEM DESON.'!O22","v":"CAMPO DE FUTEBOL"},{"$f":"'ORÇ. SEM DESON.'!T22","v":71515.09},{"$f":"E20/$E$28","v":0.4632},"FÍSICO",0.6,0.2,0.2,"##",1]
[null,null,null,null,null,null,"FINANCEIRO",{"$f":"ROUND(H20*$E20,2)","v":42909.05},14303.02,14303.02,null,71515.09]
[null,{"$f":"ROW()","v":22},{"$f":"'ORÇ. SEM DESON.'!L26","v":" 4 "},{"$f":"'ORÇ. SEM DESON.'!O26","v":"ESQUADRIA"},{"$f":"'ORÇ. SEM DESON.'!T26","v":1660.25},{"$f":"E22/$E$28","v":1.0800000000000001E-2},"FÍSICO",null,null,1,"##",1]
[null,null,null,null,null,null,"FINANCEIRO",{"$f":"ROUND(H22*$E22,2)","v":0},0,1660.25,null,1660.25]
[null,{"$f":"ROW()","v":24},{"$f":"'ORÇ. SEM DESON.'!L28","v":" 5 "},{"$f":"'ORÇ. SEM DESON.'!O28","v":"URBANIZAÇÃO/PAVIMENTAÇÃO/ILUMINAÇÃO EXTERNA"},{"$f":"'ORÇ. SEM DESON.'!T28","v":71264.66},{"$f":"E24/$E$28","v":0.46160000000000001},"FÍSICO",null,0.5,0.5,"##",1]
[null,null,null,null,null,null,"FINANCEIRO",{"$f":"ROUND(H24*$E24,2)","v":0},35632.33,35632.33,null,71264.66]
[null,{"$f":"ROW()","v":26},{"$f":"'ORÇ. SEM DESON.'!L37","v":" 6 "},{"$f":"'ORÇ. SEM DESON.'!O37","v":"SERVIÇOS FINAIS"},{"$f":"'ORÇ. SEM DESON.'!T37","v":2381.87},{"$f":"E26/$E$28","v":1.54E-2},"FÍSICO",null,null,1,"##",1]
[null,null,null,null,null,null,"FINANCEIRO",{"$f":"ROUND(H26*$E26,2)","v":0},0,2381.87,null,2381.87]
[null,null,null,null,{"$f":"SUM(E16:E27)","v":154383},{"$f":"SUM(F16:F27)","v":1}]
[null,null,null,"TOTAL DE PERÍODO (R$)",null,null,null,{"$f":"H17+H19+H21+H23+H25+H27","v":46827.81},{"$f":"I17+I19+I21+I23+I25+I27","v":51729.35},55825.83,{"$f":"K17+K21+K23+K25+K27+#REF!+#REF!+#REF!+#REF!+#REF!+#REF!+#REF!+#REF!+#REF!+#REF!+#REF!+#REF!+#REF!","v":{"$error":"#REF!"}}]
[null,null,null,"TOTAL ACUMULADO (R$)",null,null,null,{"$f":"H29","v":46827.81},{"$f":"I29+H30","v":98557.16},{"$f":"J29+I30+0.01","v":154383},{"$f":"K29+#REF!","v":{"$error":"#REF!"}}]
[null,null,null,"PORCENTAGEM DO PERÍODO (%)",null,null,null,{"$f":"H29/$E$28","v":0.30330000000000001},0.33510000000000001,0.36159999999999998,{"$error":"#REF!"}]
[null,null,null,"PORCENTAGEM ACUMULADO (%)",null,null,null,{"$f":"H31","v":0.30330000000000001},{"$f":"I31+H32","v":0.63839999999999997},{"$f":"J31+I32","v":1},{"$f":"K31+#REF!","v":{"$error":"#REF!"}}]
[]
[]
[]
[{"$f":"'ORÇ. DESON.'!#REF!","v":{"$error":"#REF!"}},null,"CUSTO TOTAL DA OBRA",null,null,null,null,null,null,{"$f":"J30","v":154383},"*"]
[]
[]
[]
[]
[]
[]
[]
[]
[]
[]
[]
[]
[null,null,{"$f":"'ORÇ. DESON.'!#REF!","v":{"$error":"#REF!"}},{"$f":"IF(C49=\"\",\"\",INDEX(ORÇAMENTO,MATCH(C49,'ORÇ. DESON.'!$N:$N,0),4))","v":{"$error":"#REF!"}},{"$f":"'ORÇ. DESON.'!#REF!","v":{"$error":"#REF!"}},{"$f":"E49/$E$28","v":{"$error":"#REF!"}}]
[]
[]
[]
[null,null,{"$f":"'ORÇ. DESON.'!#REF!","v":{"$error":"#REF!"}},{"$f":"IF(C53=\"\",\"\",INDEX(ORÇAMENTO,MATCH(C53,'ORÇ. DESON.'!$N:$N,0),4))","v":{"$error":"#REF!"}},{"$f":"'ORÇ. DESON.'!#REF!","v":{"$error":"#REF!"}},{"$f":"E53/$E$28","v":{"$error":"#REF!"}}]
[]
[]
[]
[]
[]
[]
[]
[]
[]
[]
[]
[]
[null,null,{"$f":"'ORÇ. DESON.'!#REF!","v":{"$error":"#REF!"}},{"$f":"IF(C66=\"\",\"\",INDEX(ORÇAMENTO,MATCH(C66,'ORÇ. DESON.'!$N:$N,0),4))","v":{"$error":"#REF!"}},{"$f":"'ORÇ. DESON.'!#REF!","v":{"$error":"#REF!"}},{"$f":"E66/$E$28","v":{"$error":"#REF!"}}]
[]
[]
[]
[]
[]
[]
[]
[]
[]
[]
[]
[]
[]
[]
[]
[]
[]
[]
[]
[]
[]
[]
[]
[]
[]
[]
[]
[]
[]
[]
[]
[]
[]
[]
[]
[]
[]
[]
[]
[]
[]
[]
[]
[]
[]
[]
[]
[]
[]
[]
[]
[]
[]
[]
[]
[]
[]
[]
[]
[]
[]
[]
[]
[]
[]
[]
[]
[]
[]
[]
[]
[]
[]
[]
[]
[]
[]
[]
[]
[]
[]
[]
[]
[]
[]
[]
[]
[]
[]
[]
[]
[]
[]
[]
[]
[]
[]
[]
[]
[]
[]
[]
[]
[]
[]
[]
[]
[]
[]
[]
[]
[]
[]
[]
[]
[]
[]
[]
[]
[]
[]
[]
[]
[]
[]
[]
[]
[]
[]
[]
[]
[]
[]
[]
[]
[]
[]
[]
[]
[]
[]
[null,null,null,null,{"$f":"'ORÇ. DESON.'!#REF!","v":{"$error":"#REF!"}}]
[]
[]
[]
[]
[]
[]
[]
[]
[]
[]
[]
[]
[]
[]
[]
[]
[]
[null,null,null,null,{"$f":"'ORÇ. DESON.'!#REF!","v":{"$error":"#REF!"}}]
[]
[]
[]
[]
[]
[]
[]
[]
[]
[]
[]
[]
[]
[]
[]
[]
[null,null,null,null,{"$f":"'ORÇ. DESON.'!#REF!","v":{"$error":"#REF!"}}]
[]
[]
[]
[]
[]
[]
[]
[]
[]
[]
[]
[]
[]
[]
[]
[]
[]
[]
[]
[]
[]
[]
[]
[]
[]
[null,null,null,null,{"$f":"'ORÇ. DESON.'!#REF!","v":{"$error":"#REF!"}}]

{"sheet":"RESUMO","index":4,"n_rows":25,"n_cols":5,"rows_kept":25,"cut":false,"hidden":true,"merged":[[22,2,22,4],[1,2,1,4],[10,1,10,3],[5,2,5,4],[6,2,6,4],[7,2,7,4],[9,2,9,4],[2,2,2,4],[3,2,3,4]]}
[]
[null,null,{"$f":"'ORÇ. DESON.'!L2","v":"GOVERNO DO ESTADO DO PIAUÍ"}]
[null,null,{"$f":"'ORÇ. DESON.'!L3","v":"SECRETARIA DE ESTADO DA ADMINISTRAÇÃO E PREVIDÊNCIA DO PIAUÍ - SEADPREV"}]
[null,null,{"$f":"'ORÇ. DESON.'!L4","v":"UNIDADE DE MODERNIZAÇÃO ADMINISTRATIVA - UMA"}]
[]
[null,null,{"$f":"'ORÇ. DESON.'!L6","v":"MUNICÍPIO: TERESINA - PI"}]
[null,null,{"$f":"'ORÇ. DESON.'!L7","v":"OBRA: REVITALIZAÇÃO: CAMPO DE FUTEBOL"}]
[null,null,{"$f":"TODAY()","v":"2021-03-04"}]
[]
[null,null,"PLANILHA RESUMO"]
[]
[null,null,"ÍTEM","DESCRIÇÃO","PREÇO TOTAL"]
[]
[{"$f":"ROW(20:20)","v":20},{"$f":"ROW()","v":14},{"$f":"'ORÇ. DESON.'!#REF!","v":{"$error":"#REF!"}},{"$f":"IF(C14=\"\",\"\",INDEX(ORÇAMENTO,MATCH(C14,'ORÇ. DESON.'!$N:$N,0),4))","v":{"$error":"#REF!"}},{"$f":"'ORÇ. DESON.'!#REF!","v":{"$error":"#REF!"}}]
[]
[{"$f":"ROW(19:19)","v":19},{"$f":"ROW()","v":16},{"$f":"#REF!","v":{"$error":"#REF!"}},{"$f":"IF(C16=\"\",\"\",INDEX(ORÇAMENTO,MATCH(C16,'ORÇ. DESON.'!$N:$N,0),4))","v":{"$error":"#REF!"}},{"$f":"'ORÇ. DESON.'!#REF!","v":{"$error":"#REF!"}}]
[]
[null,{"$f":"ROW()","v":18},{"$f":"'ORÇ. DESON.'!#REF!","v":{"$error":"#REF!"}},{"$f":"IF(C18=\"\",\"\",INDEX(ORÇAMENTO,MATCH(C18,'ORÇ. DESON.'!$N:$N,0),4))","v":{"$error":"#REF!"}},{"$f":"IF(C18=\"\",\"\",INDEX(ORÇAMENTO,MATCH(C18,'ORÇ. DESON.'!$N:$N,0),9))","v":{"$error":"#REF!"}}]
[]
[]
[null,null,null,"TOTAL (R$)",{"$f":"'ORÇ. DESON.'!#REF!","v":{"$error":"#REF!"}}]
[]
[null,null,{"$f":"'ORÇ. DESON.'!#REF!","v":{"$error":"#REF!"}}]
[]
[null,null,{"$f":"UPPER(L1)","v":""}]

{"sheet":"Plan1","index":5,"n_rows":32,"n_cols":7,"rows_kept":32,"cut":false,"hidden":true,"merged":[[29,0,29,7],[3,0,3,7],[2,0,2,7],[1,0,1,7],[6,0,6,7],[9,0,9,7],[18,0,18,1]]}
[]
["MUNICÍPIO: TERESINA"]
["OBRA: ADEQUAÇÃO DE SALA AEE - CETI JOAO HENRIQUE ALMEIDA SOUSA"]
["ADMINISTRAÇÃO DE OBRA"]
[]
[]
["MEMÓRIA DE CÁLCULO"]
["Atividade: ","Contratação de técnico de segurança do trabalho "]
[]
["Honorários e Remunerações"]
[]
["FONTE","CÓDIGO","DESCRIÇÃO","UNIDADE","COEF.","CUSTO UNITÁRIO1","TOTAL"]
["iSINAPI",40944,{"$f":"IF(A13=\"SINAPI\",VLOOKUP(B13,SINAPI,2,FALSE),IF(A13=\"iSINAPI\",VLOOKUP(B13,iSINAPI,2,FALSE),IF(A13=\"SEINFRA\",VLOOKUP(B13,SEINFRA,2,FALSE),IF(A13=\"iSEINFRA\",VLOOKUP(B13,iSEINFRA,2,FALSE),IF(A13=\"ORSE\",VLOOKUP(B13,ORSE,2,FALSE),IF(A13=\"iORSE\",VLOOKUP(B13,iORSE,2,FALSE),\"NÃO ENCONTRADO\"))))))","v":{"$error":"#REF!"}},{"$f":"IF(A13=\"SINAPI\",VLOOKUP(B13,SINAPI,3,FALSE),IF(A13=\"iSINAPI\",VLOOKUP(B13,iSINAPI,3,FALSE),IF(A13=\"SEINFRA\",VLOOKUP(B13,SEINFRA,3,FALSE),IF(A13=\"iSEINFRA\",VLOOKUP(B13,iSEINFRA,3,FALSE),IF(A13=\"ORSE\",VLOOKUP(B13,ORSE,3,FALSE),IF(A13=\"iORSE\",VLOOKUP(B13,iORSE,3,FALSE),\"x\"))))))","v":{"$error":"#REF!"}},1,{"$f":"IF(A13=\"SINAPI\",VLOOKUP(B13,SINAPI,4,FALSE),IF(A13=\"iSINAPI\",VLOOKUP(B13,iSINAPI,4,FALSE),IF(A13=\"SEINFRA\",VLOOKUP(B13,SEINFRA,4,FALSE),IF(A13=\"iSEINFRA\",VLOOKUP(B13,iSEINFRA,4,FALSE),IF(A13=\"ORSE\",VLOOKUP(B13,ORSE,4,FALSE),IF(A13=\"iORSE\",VLOOKUP(B13,iORSE,4,FALSE),\"\"))))))","v":{"$error":"#REF!"}},{"$f":"ROUND(E13*F13,2)","v":{"$error":"#REF!"}}]
["iSINAPI",40863,{"$f":"IF(A14=\"SINAPI\",VLOOKUP(B14,SINAPI,2,FALSE),IF(A14=\"iSINAPI\",VLOOKUP(B14,iSINAPI,2,FALSE),IF(A14=\"SEINFRA\",VLOOKUP(B14,SEINFRA,2,FALSE),IF(A14=\"iSEINFRA\",VLOOKUP(B14,iSEINFRA,2,FALSE),IF(A14=\"ORSE\",VLOOKUP(B14,ORSE,2,FALSE),IF(A14=\"iORSE\",VLOOKUP(B14,iORSE,2,FALSE),\"NÃO ENCONTRADO\"))))))","v":{"$error":"#REF!"}},{"$f":"IF(A14=\"SINAPI\",VLOOKUP(B14,SINAPI,3,FALSE),IF(A14=\"iSINAPI\",VLOOKUP(B14,iSINAPI,3,FALSE),IF(A14=\"SEINFRA\",VLOOKUP(B14,SEINFRA,3,FALSE),IF(A14=\"iSEINFRA\",VLOOKUP(B14,iSEINFRA,3,FALSE),IF(A14=\"ORSE\",VLOOKUP(B14,ORSE,3,FALSE),IF(A14=\"iORSE\",VLOOKUP(B14,iORSE,3,FALSE),\"x\"))))))","v":{"$error":"#REF!"}},1,{"$f":"IF(A14=\"SINAPI\",VLOOKUP(B14,SINAPI,4,FALSE),IF(A14=\"iSINAPI\",VLOOKUP(B14,iSINAPI,4,FALSE),IF(A14=\"SEINFRA\",VLOOKUP(B14,SEINFRA,4,FALSE),IF(A14=\"iSEINFRA\",VLOOKUP(B14,iSEINFRA,4,FALSE),IF(A14=\"ORSE\",VLOOKUP(B14,ORSE,4,FALSE),IF(A14=\"iORSE\",VLOOKUP(B14,iORSE,4,FALSE),\"\"))))))","v":{"$error":"#REF!"}},{"$f":"ROUND(E14*F14,2)","v":{"$error":"#REF!"}}]
["iSINAPI",40864,{"$f":"IF(A15=\"SINAPI\",VLOOKUP(B15,SINAPI,2,FALSE),IF(A15=\"iSINAPI\",VLOOKUP(B15,iSINAPI,2,FALSE),IF(A15=\"SEINFRA\",VLOOKUP(B15,SEINFRA,2,FALSE),IF(A15=\"iSEINFRA\",VLOOKUP(B15,iSEINFRA,2,FALSE),IF(A15=\"ORSE\",VLOOKUP(B15,ORSE,2,FALSE),IF(A15=\"iORSE\",VLOOKUP(B15,iORSE,2,FALSE),\"NÃO ENCONTRADO\"))))))","v":{"$error":"#REF!"}},{"$f":"IF(A15=\"SINAPI\",VLOOKUP(B15,SINAPI,3,FALSE),IF(A15=\"iSINAPI\",VLOOKUP(B15,iSINAPI,3,FALSE),IF(A15=\"SEINFRA\",VLOOKUP(B15,SEINFRA,3,FALSE),IF(A15=\"iSEINFRA\",VLOOKUP(B15,iSEINFRA,3,FALSE),IF(A15=\"ORSE\",VLOOKUP(B15,ORSE,3,FALSE),IF(A15=\"iORSE\",VLOOKUP(B15,iORSE,3,FALSE),\"x\"))))))","v":{"$error":"#REF!"}},1,{"$f":"IF(A15=\"SINAPI\",VLOOKUP(B15,SINAPI,4,FALSE),IF(A15=\"iSINAPI\",VLOOKUP(B15,iSINAPI,4,FALSE),IF(A15=\"SEINFRA\",VLOOKUP(B15,SEINFRA,4,FALSE),IF(A15=\"iSEINFRA\",VLOOKUP(B15,iSEINFRA,4,FALSE),IF(A15=\"ORSE\",VLOOKUP(B15,ORSE,4,FALSE),IF(A15=\"iORSE\",VLOOKUP(B15,iORSE,4,FALSE),\"\"))))))","v":{"$error":"#REF!"}},{"$f":"ROUND(E15*F15,2)","v":{"$error":"#REF!"}}]
["SINAPI",93557,{"$f":"IF(A16=\"SINAPI\",VLOOKUP(B16,SINAPI,2,FALSE),IF(A16=\"iSINAPI\",VLOOKUP(B16,iSINAPI,2,FALSE),IF(A16=\"SEINFRA\",VLOOKUP(B16,SEINFRA,2,FALSE),IF(A16=\"iSEINFRA\",VLOOKUP(B16,iSEINFRA,2,FALSE),IF(A16=\"ORSE\",VLOOKUP(B16,ORSE,2,FALSE),IF(A16=\"iORSE\",VLOOKUP(B16,iORSE,2,FALSE),\"NÃO ENCONTRADO\"))))))","v":{"$error":"#REF!"}},{"$f":"IF(A16=\"SINAPI\",VLOOKUP(B16,SINAPI,3,FALSE),IF(A16=\"iSINAPI\",VLOOKUP(B16,iSINAPI,3,FALSE),IF(A16=\"SEINFRA\",VLOOKUP(B16,SEINFRA,3,FALSE),IF(A16=\"iSEINFRA\",VLOOKUP(B16,iSEINFRA,3,FALSE),IF(A16=\"ORSE\",VLOOKUP(B16,ORSE,3,FALSE),IF(A16=\"iORSE\",VLOOKUP(B16,iORSE,3,FALSE),\"x\"))))))","v":{"$error":"#REF!"}},0.05,{"$f":"IF(A16=\"SINAPI\",VLOOKUP(B16,SINAPI,4,FALSE),IF(A16=\"iSINAPI\",VLOOKUP(B16,iSINAPI,4,FALSE),IF(A16=\"SEINFRA\",VLOOKUP(B16,SEINFRA,4,FALSE),IF(A16=\"iSEINFRA\",VLOOKUP(B16,iSEINFRA,4,FALSE),IF(A16=\"ORSE\",VLOOKUP(B16,ORSE,4,FALSE),IF(A16=\"iORSE\",VLOOKUP(B16,iORSE,4,FALSE),\"\"))))))","v":{"$error":"#REF!"}},{"$f":"ROUND(E16*F16,2)","v":{"$error":"#REF!"}}]
["SINAPI",95416,{"$f":"IF(A17=\"SINAPI\",VLOOKUP(B17,SINAPI,2,FALSE),IF(A17=\"iSINAPI\",VLOOKUP(B17,iSINAPI,2,FALSE),IF(A17=\"SEINFRA\",VLOOKUP(B17,SEINFRA,2,FALSE),IF(A17=\"iSEINFRA\",VLOOKUP(B17,iSEINFRA,2,FALSE),IF(A17=\"ORSE\",VLOOKUP(B17,ORSE,2,FALSE),IF(A17=\"iORSE\",VLOOKUP(B17,iORSE,2,FALSE),\"NÃO ENCONTRADO\"))))))","v":{"$error":"#REF!"}},{"$f":"IF(A17=\"SINAPI\",VLOOKUP(B17,SINAPI,3,FALSE),IF(A17=\"iSINAPI\",VLOOKUP(B17,iSINAPI,3,FALSE),IF(A17=\"SEINFRA\",VLOOKUP(B17,SEINFRA,3,FALSE),IF(A17=\"iSEINFRA\",VLOOKUP(B17,iSEINFRA,3,FALSE),IF(A17=\"ORSE\",VLOOKUP(B17,ORSE,3,FALSE),IF(A17=\"iORSE\",VLOOKUP(B17,iORSE,3,FALSE),\"x\"))))))","v":{"$error":"#REF!"}},1,{"$f":"IF(A17=\"SINAPI\",VLOOKUP(B17,SINAPI,4,FALSE),IF(A17=\"iSINAPI\",VLOOKUP(B17,iSINAPI,4,FALSE),IF(A17=\"SEINFRA\",VLOOKUP(B17,SEINFRA,4,FALSE),IF(A17=\"iSEINFRA\",VLOOKUP(B17,iSEINFRA,4,FALSE),IF(A17=\"ORSE\",VLOOKUP(B17,ORSE,4,FALSE),IF(A17=\"iORSE\",VLOOKUP(B17,iORSE,4,FALSE),\"\"))))))","v":{"$error":"#REF!"}},{"$f":"ROUND(E17*F17,2)","v":{"$error":"#REF!"}}]
[]
[]
[]
[]
["Total honorários:",{"$f":"SUM(G13:G17)","v":{"$error":"#REF!"}}]
["BDI (ISS 3%)",{"$f":"ROUND(B22*0.2569,2)","v":{"$error":"#REF!"}}]
["BDI (ISS 4%)",{"$f":"ROUND(B22*0.2654,2)","v":{"$error":"#REF!"}}]
["BDI (ISS 4%)",{"$f":"ROUND(B22*0.2739,2)","v":{"$error":"#REF!"}}]
["Total Geral (ISS 3%):",{"$f":"B22+B23","v":{"$error":"#REF!"}}]
["Total Geral (ISS 4%):",{"$f":"B22+B24","v":{"$error":"#REF!"}}]
["Total Geral (ISS 5%):",{"$f":"B22+B25","v":{"$error":"#REF!"}}]
[]
["REFERÊNCIAS CONSULTADAS"]
[]
["1SINAPI 02/2019 "]

{"sheet":"BDI DESON.","index":6,"n_rows":428,"n_cols":7,"rows_kept":428,"cut":false,"hidden":false,"merged":[[32,2,32,4],[33,2,33,3],[3,2,3,4],[2,2,2,4],[1,2,1,4],[5,2,5,4],[6,2,6,4],[11,2,11,4],[12,2,12,4],[14,2,14,4],[7,2,7,4],[9,2,9,4]]}
[]
[null,null,{"$f":"'ORÇ. DESON.'!L2","v":"GOVERNO DO ESTADO DO PIAUÍ"}]
[null,null,{"$f":"'ORÇ. DESON.'!L3","v":"SECRETARIA DE ESTADO DA ADMINISTRAÇÃO E PREVIDÊNCIA DO PIAUÍ - SEADPREV"}]
[null,null,{"$f":"'ORÇ. DESON.'!L4","v":"UNIDADE DE MODERNIZAÇÃO ADMINISTRATIVA - UMA"}]
[]
[null,null,{"$f":"'ORÇ. DESON.'!L6","v":"MUNICÍPIO: TERESINA - PI"}]
[null,null,{"$f":"'ORÇ. DESON.'!L7","v":"OBRA: REVITALIZAÇÃO: CAMPO DE FUTEBOL"}]
[null,null,{"$f":"'ORÇ. DESON.'!L8","v":"2021-03-04"}]
[]
[null,null,"BONIFICAÇÕES E DESPESAS INDIRETAS ( DESONERADO)"]
[]
[null,null,"COMPOSIÇÃO DO BDI"]
[]
[null,null,"ITEM","COMPONENTE DO BDI","PERCENTUAL"]
[]
[null,null,"B","BENEFÍCIOS",{"$f":"SUM(E17)","v":7.3999999999999996E-2},null,{"$f":"(100%+E16)","v":1.0740000000000001}]
[null,null,null,"LUCRO",7.3999999999999996E-2]
[]
[null,null,"CA","CUSTOS ADMINISTRATIVOS",{"$f":"SUM(E20:E22)","v":4.7699999999999999E-2},null,{"$f":"(100%+E19)","v":1.0477000000000001}]
[null,null,null,"DESPESAS COM A ADMINISTRAÇAO CENTRAL",0.03]
[null,null,null,"GARANTIAS E SEGUROS ",8.0000000000000002E-3]
[null,null,null,"RISCOS",9.7000000000000003E-3]
[]
[null,null,"CF","CUSTOS FINANCEIROS",{"$f":"SUM(E25)","v":5.8999999999999999E-3},null,{"$f":"(100%+E24)","v":1.0059}]
[null,null,null,"DESPESAS FINANCEIRAS",5.8999999999999999E-3]
[]
[null,null,"IT","IMPOSTOS",{"$f":"SUM(E28:E31)","v":9.9500000000000005E-2},null,{"$f":"(100%-E27)","v":0.90049999999999997}]
[null,null,null,"ISS *",{"$f":"E44","v":1.7999999999999999E-2}]
[null,null,null,"PIS",6.4999999999999997E-3]
[null,null,null,"COFINS",0.03]
[null,null,null,"CONTRIBUIÇÃO PREVIDENCIÁRIA PARA RECEITA BRUTA",4.4999999999999998E-2]
[]
[]
[null,null,"TOTAL",null,{"$f":"((G16*G19*G24)/G27)-1","v":0.25690000000000002}]
[]
[]
[]
[]
[]
[null,null,"ISS - ALÍQUOTA: TERESINA",null,0.03]
[]
[null,null,"ISS -  BASE DE CÁLCULO:",null,0.6]
[]
[null,null,"ISS - SOBRE PREÇO DE VENDA:",null,{"$f":"E42*E40","v":1.7999999999999999E-2}]
[]
[]
[]
[]
[]
[]
[]
[]
[]
[]
[]
[]
[]
[]
[]
[]
[]
[]
[]
[]
[]
[]
[]
[]
[]
[]
[]
[]
[]
[]
[]
[]
[]
[]
[]
[]
[]
[]
[]
[]
[]
[]
[]
[]
[]
[]
[]
[]
[]
[]
[]
[]
[]
[]
[]
[]
[]
[]
[]
[]
[]
[]
[]
[]
[]
[]
[]
[]
[]
[]
[]
[]
[]
[]
[]
[]
[]
[]
[]
[]
[]
[]
[]
[]
[]
[]
[]
[]
[]
[]
[]
[]
[]
[]
[]
[]
[]
[]
[]
[]
[]
[]
[]
[]
[]
[]
[]
[]
[]
[]
[]
[]
[]
[]
[]
[]
[]
[]
[]
[]
[]
[]
[]
[]
[]
[]
[]
[]
[]
[]
[]
[]
[]
[]
[]
[]
[]
[]
[null,null,null,null,{"$f":"'ORÇ. DESON.'!#REF!","v":{"$error":"#REF!"}}]
[]
[]
[]
[]
[]
[]
[]
[]
[]
[]
[]
[]
[]
[]
[]
[]
[]
[]
[]
[]
[]
[]
[]
[]
[null,null,null,null,{"$f":"'ORÇ. DESON.'!#REF!","v":{"$error":"#REF!"}}]
[]
[]
[]
[null,null,null,null,{"$f":"'ORÇ. DESON.'!#REF!","v":{"$error":"#REF!"}}]
[]
[]
[]
[]
[]
[]
[]
[]
[]
[]
[]
[]
[null,null,null,null,{"$f":"'ORÇ. DESON.'!#REF!","v":{"$error":"#REF!"}}]
[]
[]
[]
[]
[]
[]
[]
[]
[]
[]
[]
[]
[]
[]
[]
[]
[]
[]
[]
[]
[]
[]
[]
[]
[]
[]
[]
[]
[]
[]
[]
[]
[]
[]
[]
[]
[]
[]
[]
[]
[]
[]
[]
[]
[]
[]
[]
[]
[]
[]
[]
[]
[]
[]
[]
[]
[]
[]
[]
[]
[]
[]
[]
[]
[]
[]
[]
[]
[]
[]
[]
[]
[]
[]
[]
[]
[]
[]
[]
[]
[]
[]
[]
[]
[]
[]
[]
[]
[]
[]
[]
[]
[]
[]
[]
[]
[]
[]
[]
[]
[]
[]
[]
[]
[]
[]
[]
[]
[]
[]
[]
[]
[]
[]
[]
[]
[]
[]
[]
[]
[]
[]
[]
[]
[]
[]
[]
[]
[]
[]
[]
[]
[]
[]
[]
[]
[]
[]
[]
[]
[]
[null,null,null,null,{"$f":"'ORÇ. DESON.'!#REF!","v":{"$error":"#REF!"}}]
[]
[]
[]
[]
[]
[]
[]
[]
[]
[]
[]
[]
[]
[]
[]
[]
[]
[null,null,null,null,{"$f":"'ORÇ. DESON.'!#REF!","v":{"$error":"#REF!"}}]
[]
[]
[]
[]
[]
[]
[]
[]
[]
[]
[]
[]
[]
[]
[]
[]
[null,null,null,null,{"$f":"'ORÇ. DESON.'!#REF!","v":{"$error":"#REF!"}}]
[]
[]
[]
[]
[]
[]
[]
[]
[]
[]
[]
[]
[]
[]
[]
[]
[]
[]
[]
[]
[]
[]
[]
[]
[]
[null,null,null,null,{"$f":"'ORÇ. DESON.'!#REF!","v":{"$error":"#REF!"}}]

{"sheet":"BDI SEM DESON.","index":7,"n_rows":183,"n_cols":7,"rows_kept":183,"cut":false,"hidden":false,"merged":[[33,2,33,3],[1,2,1,4],[2,2,2,4],[3,2,3,4],[5,2,5,4],[6,2,6,4],[7,2,7,4],[9,2,9,4],[11,2,11,4],[12,2,12,4],[14,2,14,4],[32,2,32,4]]}
[]
[null,null,{"$f":"'ORÇ. DESON.'!L2","v":"GOVERNO DO ESTADO DO PIAUÍ"}]
[null,null,{"$f":"'ORÇ. DESON.'!L3","v":"SECRETARIA DE ESTADO DA ADMINISTRAÇÃO E PREVIDÊNCIA DO PIAUÍ - SEADPREV"}]
[null,null,{"$f":"'ORÇ. DESON.'!L4","v":"UNIDADE DE MODERNIZAÇÃO ADMINISTRATIVA - UMA"}]
[]
[null,null,{"$f":"'ORÇ. DESON.'!L6","v":"MUNICÍPIO: TERESINA - PI"}]
[null,null,{"$f":"'ORÇ. DESON.'!L7","v":"OBRA: REVITALIZAÇÃO: CAMPO DE FUTEBOL"}]
[null,null,{"$f":"'ORÇ. DESON.'!L8","v":"2021-03-04"}]
[]
[null,null,"BONIFICAÇÕES E DESPESAS INDIRETAS (SEM DESONERADO)"]
[]
[null,null,"COMPOSIÇÃO DO BDI"]
[]
[null,null,"ITEM","COMPONENTE DO BDI","PERCENTUAL"]
[]
[null,null,"B","BENEFÍCIOS",{"$f":"SUM(E17)","v":7.3999999999999996E-2},null,{"$f":"(100%+E16)","v":1.0740000000000001}]
[null,null,null,"LUCRO",7.3999999999999996E-2]
[]
[null,null,"CA","CUSTOS ADMINISTRATIVOS",{"$f":"SUM(E20:E22)","v":4.7699999999999999E-2},null,{"$f":"(100%+E19)","v":1.0477000000000001}]
[null,null,null,"DESPESAS COM A ADMINISTRAÇAO CENTRAL",0.03]
[null,null,null,"GARANTIAS E SEGUROS ",8.0000000000000002E-3]
[null,null,null,"RISCOS",9.7000000000000003E-3]
[]
[null,null,"CF","CUSTOS FINANCEIROS",{"$f":"SUM(E25)","v":5.8999999999999999E-3},null,{"$f":"(100%+E24)","v":1.0059}]
[null,null,null,"DESPESAS FINANCEIRAS",5.8999999999999999E-3]
[]
[null,null,"IT","IMPOSTOS",{"$f":"SUM(E28:E31)","v":5.45E-2},null,{"$f":"(100%-E27)","v":0.94550000000000001}]
[null,null,null,"ISS *",{"$f":"E44","v":1.7999999999999999E-2}]
[null,null,null,"PIS",6.4999999999999997E-3]
[null,null,null,"COFINS",0.03]
[null,null,null,"CONTRIBUIÇÃO PREVIDENCIÁRIA PARA RECEITA BRUTA",0]
[]
[]
[null,null,"TOTAL",null,{"$f":"((G16*G19*G24)/G27)-1","v":0.1971}]
[]
[]
[]
[]
[]
[null,null,"ISS - ALÍQUOTA: TERESINA",null,0.03]
[]
[null,null,"ISS -  BASE DE CÁLCULO:",null,0.6]
[]
[null,null,"ISS - SOBRE PREÇO DE VENDA:",null,{"$f":"E42*E40","v":1.7999999999999999E-2}]
[]
[]
[]
[]
[]
[]
[]
[]
[]
[]
[]
[]
[]
[]
[]
[]
[]
[]
[]
[]
[]
[]
[]
[]
[]
[]
[]
[]
[]
[]
[]
[]
[]
[]
[]
[]
[]
[]
[]
[]
[]
[]
[]
[]
[]
[]
[]
[]
[]
[]
[]
[]
[]
[]
[]
[]
[]
[]
[]
[]
[]
[]
[]
[]
[]
[]
[]
[]
[]
[]
[]
[]
[]
[]
[]
[]
[]
[]
[]
[]
[]
[]
[]
[]
[]
[]
[]
[]
[]
[]
[]
[]
[]
[]
[]
[]
[]
[]
[]
[]
[]
[]
[]
[]
[]
[]
[]
[]
[]
[]
[]
[]
[]
[]
[]
[]
[]
[]
[]
[]
[]
[]
[]
[]
[]
[]
[]
[]
[]
[]
[]
[]
[]
[]
[]
[]
[]
[]
[null,null,null,null,{"$f":"'ORÇ. DESON.'!#REF!","v":{"$error":"#REF!"}}]

{"sheet":"L.S.","index":8,"n_rows":428,"n_cols":8,"rows_kept":428,"cut":false,"hidden":false,"merged":[[44,2,44,5],[48,1,48,5],[46,1,46,7],[43,2,43,5],[33,1,33,7],[34,2,34,5],[35,2,35,5],[36,2,36,5],[37,2,37,5],[38,2,38,5],[39,2,39,5],[41,1,41,7],[42,2,42,5],[31,2,31,5],[20,1,20,7],[21,2,21,5],[22,2,22,5],[23,2,23,5],[24,2,24,5],[25,2,25,5],[26,2,26,5],[27,2,27,5],[28,2,28,5],[29,2,29,5],[30,2,30,5],[18,2,18,5],[7,2,7,5],[6,1,6,7],[2,1,2,7],[3,1,3,7],[5,5,5,6],[13,2,13,5],[14,2,14,5],[15,2,15,5],[16,2,16,5],[17,2,17,5],[8,1,8,7],[9,2,9,5],[10,2,10,5],[11,2,11,5],[12,2,12,5]]}
[]
[]
[null,"SINAPI- SISTEMA NACIONAL DE PESQUISA DE CUSTO E ÍNDICES DA CONSTRUÇÃO CIVIL"]
[null,"ENCARGOS SOCIAIS SOBRE PREÇOS DA MÃO DE OBRA HORISTA E MENSALISTA    (COM DESONERAÇÃO)"]
[]
[null,"UF: PIAUÍ"]
[null,"ENCARGOS SOCIAIS SOBRE A MÃO DE OBRA"]
[null,"CÓDIGO","DESCRIÇÃO",null,null,null,"HORISTA %","MENSALISTA %"]
[null,"GRUPO A"]
[null,"A1","INSS",null,null,null,0,0]
[null,"A2","SESI",null,null,null,1.5,1.5]
[null,"A3","SENAI",null,null,null,1,1]
[null,"A4","INCRA",null,null,null,0.2,0.2]
[null,"A5","SEBRAE",null,null,null,0.6,0.6]
[null,"A6","Salário-Educação",null,null,null,2.5,2.5]
[null,"A7","Segura Contra Acidentes de Trabalho",null,null,null,3,3]
[null,"A8","FGTS",null,null,null,8,8]
[null,"A9","SECONCI",null,null,null,0,0]
[null,"A","Total dos Encargos Sociais",null,null,null,{"$f":"SUM(G10:G18)","v":16.8},{"$f":"SUM(H10:H18)","v":16.8}]
[]
[null,"GRUPO B"]
[null,"B1","Repouso Semanal Remunerado",null,null,null,17.82,0]
[null,"B2","Feriados",null,null,null,3.95,0]
[null,"B3","Auxílio-Enfermidade",null,null,null,0.87,0.67]
[null,"B4"," 13º salário",null,null,null,10.76,8.33]
[null,"B5","Licença Paternidade",null,null,null,7.0000000000000007E-2,0.06]
[null,"B6","Faltas Justificadas",null,null,null,0.72,0.56000000000000005]
[null,"B7","Dias de Chuvas",null,null,null,1.1599999999999999,0]
[null,"B8","Auxílio Acidente de Trabalho",null,null,null,0.11,0.08]
[null,"B9","Férias Gozadas",null,null,null,8.35,6.47]
[null,"B10","Salário Maternidade",null,null,null,0.03,0.03]
[null,"B","Total dos Encargos Sociais que recebem incidências de A",null,null,null,{"$f":"SUM(G22:G31)","v":43.84},{"$f":"SUM(H22:H31)","v":16.2}]
[]
[null,"GRUPO C"]
[null,"C1","Aviso Prévio Idenizado",null,null,null,5.2,4.03]
[null,"C2","Aviso Prévio Trabalhado",null,null,null,0.12,0.09]
[null,"C3","Férias Indenizadas",null,null,null,5.26,4.07]
[null,"C4","Depósito Recisão sem justa causa",null,null,null,3.9,3.02]
[null,"C5","Idenização Adicional",null,null,null,0.44,0.34]
[null,"C","Total dos Encargos Sociais que não recebem incidências globais de A",null,null,null,{"$f":"SUM(G35:G39)","v":14.92},{"$f":"SUM(H35:H39)","v":11.55}]
[]
[null,"GRUPO D"]
[null,"D1","Reincidência de Grupo A sobre Grupo B",null,null,null,7.37,2.72]
[null,"D2","Reincidência de Grupo A sobre Aviso Prévio Trabalhado e Reincidência do FGTS sobre Aviso Prévio Idenizado",null,null,null,0.44,0.34]
[null,"D","Total de reincidências de um grupo sobre o outro",null,null,null,{"$f":"SUM(G43:G44)","v":7.81},{"$f":"SUM(H43:H44)","v":3.06}]
[]
[null,"Total dos encargos Sociais Complementares"]
[]
[null,"TOTAL (A+B+C+D+E)",null,null,null,null,{"$f":"SUM(G45+G40+G32+G19)","v":83.37},{"$f":"SUM(H45+H40+H32+H19)","v":47.61}]
[]
[]
[]
[]
[]
[]
[]
[]
[]
[]
[]
[]
[]
[]
[]
[]
[]
[]
[]
[]
[]
[]
[]
[]
[]
[]
[]
[]
[]
[]
[]
[]
[]
[]
[]
[]
[]
[]
[]
[]
[]
[]
[]
[]
[]
[]
[]
[]
[]
[]
[]
[]
[]
[]
[]
[]
[]
[]
[]
[]
[]
[]
[]
[]
[]
[]
[]
[]
[]
[]
[]
[]
[]
[]
[]
[]
[]
[]
[]
[]
[]
[]
[]
[]
[]
[]
[]
[]
[]
[]
[]
[]
[]
[]
[]
[]
[]
[]
[]
[]
[]
[]
[]
[]
[]
[]
[]
[]
[]
[]
[]
[]
[]
[]
[]
[]
[]
[]
[]
[]
[]
[]
[]
[]
[]
[]
[]
[]
[]
[]
[]
[]
[]
[null,null,null,null,{"$f":"'ORÇ. DESON.'!#REF!","v":{"$error":"#REF!"}}]
[]
[]
[]
[]
[]
[]
[]
[]
[]
[]
[]
[]
[]
[]
[]
[]
[]
[]
[]
[]
[]
[]
[]
[]
[null,null,null,null,{"$f":"'ORÇ. DESON.'!#REF!","v":{"$error":"#REF!"}}]
[]
[]
[]
[null,null,null,null,{"$f":"'ORÇ. DESON.'!#REF!","v":{"$error":"#REF!"}}]
[]
[]
[]
[]
[]
[]
[]
[]
[]
[]
[]
[]
[null,null,null,null,{"$f":"'ORÇ. DESON.'!#REF!","v":{"$error":"#REF!"}}]
[]
[]
[]
[]
[]
[]
[]
[]
[]
[]
[]
[]
[]
[]
[]
[]
[]
[]
[]
[]
[]
[]
[]
[]
[]
[]
[]
[]
[]
[]
[]
[]
[]
[]
[]
[]
[]
[]
[]
[]
[]
[]
[]
[]
[]
[]
[]
[]
[]
[]
[]
[]
[]
[]
[]
[]
[]
[]
[]
[]
[]
[]
[]
[]
[]
[]
[]
[]
[]
[]
[]
[]
[]
[]
[]
[]
[]
[]
[]
[]
[]
[]
[]
[]
[]
[]
[]
[]
[]
[]
[]
[]
[]
[]
[]
[]
[]
[]
[]
[]
[]
[]
[]
[]
[]
[]
[]
[]
[]
[]
[]
[]
[]
[]
[]
[]
[]
[]
[]
[]
[]
[]
[]
[]
[]
[]
[]
[]
[]
[]
[]
[]
[]
[]
[]
[]
[]
[]
[]
[]
[]
[null,null,null,null,{"$f":"'ORÇ. DESON.'!#REF!","v":{"$error":"#REF!"}}]
[]
[]
[]
[]
[]
[]
[]
[]
[]
[]
[]
[]
[]
[]
[]
[]
[]
[null,null,null,null,{"$f":"'ORÇ. DESON.'!#REF!","v":{"$error":"#REF!"}}]
[]
[]
[]
[]
[]
[]
[]
[]
[]
[]
[]
[]
[]
[]
[]
[]
[null,null,null,null,{"$f":"'ORÇ. DESON.'!#REF!","v":{"$error":"#REF!"}}]
[]
[]
[]
[]
[]
[]
[]
[]
[]
[]
[]
[]
[]
[]
[]
[]
[]
[]
[]
[]
[]
[]
[]
[]
[]
[null,null,null,null,{"$f":"'ORÇ. DESON.'!#REF!","v":{"$error":"#REF!"}}]

{"sheet":"L.S SEM DESON.","index":9,"n_rows":428,"n_cols":8,"rows_kept":428,"cut":false,"hidden":false,"merged":[[14,2,14,5],[3,1,3,7],[5,5,5,6],[6,1,6,7],[7,2,7,5],[8,1,8,7],[9,2,9,5],[10,2,10,5],[11,2,11,5],[12,2,12,5],[13,2,13,5],[27,2,27,5],[15,2,15,5],[16,2,16,5],[17,2,17,5],[18,2,18,5],[20,1,20,7],[21,2,21,5],[22,2,22,5],[23,2,23,5],[24,2,24,5],[25,2,25,5],[26,2,26,5],[41,1,41,7],[28,2,28,5],[29,2,29,5],[30,2,30,5],[31,2,31,5],[33,1,33,7],[34,2,34,5],[35,2,35,5],[36,2,36,5],[37,2,37,5],[38,2,38,5],[39,2,39,5],[42,2,42,5],[43,2,43,5],[44,2,44,5],[46,1,46,7],[48,1,48,5]]}
[]
[]
[null,"SINAPI- SISTEMA NACIONAL DE PESQUISA DE CUSTO E ÍNDICES DA CONSTRUÇÃO CIVIL"]
[null,"ENCARGOS SOCIAIS SOBRE PREÇOS DA MÃO DE OBRA HORISTA E MENSALISTA    (SEM DESONERAÇÃO)"]
[]
[null,"UF: PIAUÍ"]
[null,"ENCARGOS SOCIAIS SOBRE A MÃO DE OBRA"]
[null,"CÓDIGO","DESCRIÇÃO",null,null,null,"HORISTA %","MENSALISTA %"]
[null,"GRUPO A"]
[null,"A1","INSS",null,null,null,20,20]
[null,"A2","SESI",null,null,null,1.5,1.5]
[null,"A3","SENAI",null,null,null,1,1]
[null,"A4","INCRA",null,null,null,0.2,0.2]
[null,"A5","SEBRAE",null,null,null,0.6,0.6]
[null,"A6","Salário-Educação",null,null,null,2.5,2.5]
[null,"A7","Segura Contra Acidentes de Trabalho",null,null,null,3,3]
[null,"A8","FGTS",null,null,null,8,8]
[null,"A9","SECONCI",null,null,null,0,0]
[null,"A","Total dos Encargos Sociais",null,null,null,{"$f":"SUM(G10:G18)","v":36.799999999999997},{"$f":"SUM(H10:H18)","v":36.799999999999997}]
[]
[null,"GRUPO B"]
[null,"B1","Repouso Semanal Remunerado",null,null,null,17.82,0]
[null,"B2","Feriados",null,null,null,3.95,0]
[null,"B3","Auxílio-Enfermidade",null,null,null,0.87,0.67]
[null,"B4"," 13º salário",null,null,null,10.76,8.33]
[null,"B5","Licença Paternidade",null,null,null,7.0000000000000007E-2,0.06]
[null,"B6","Faltas Justificadas",null,null,null,0.72,0.56000000000000005]
[null,"B7","Dias de Chuvas",null,null,null,1.1599999999999999,0]
[null,"B8","Auxílio Acidente de Trabalho",null,null,null,0.11,0.08]
[null,"B9","Férias Gozadas",null,null,null,8.35,6.47]
[null,"B10","Salário Maternidade",null,null,null,0.03,0.03]
[null,"B","Total dos Encargos Sociais que recebem incidências de A",null,null,null,{"$f":"SUM(G22:G31)","v":43.84},{"$f":"SUM(H22:H31)","v":16.2}]
[]
[null,"GRUPO C"]
[null,"C1","Aviso Prévio Idenizado",null,null,null,5.2,4.03]
[null,"C2","Aviso Prévio Trabalhado",null,null,null,0.12,0.09]
[null,"C3","Férias Indenizadas",null,null,null,5.26,4.07]
[null,"C4","Depósito Recisão sem justa causa",null,null,null,3.9,3.02]
[null,"C5","Idenização Adicional",null,null,null,0.44,0.34]
[null,"C","Total dos Encargos Sociais que não recebem incidências globais de A",null,null,null,{"$f":"SUM(G35:G39)","v":14.92},{"$f":"SUM(H35:H39)","v":11.55}]
[]
[null,"GRUPO D"]
[null,"D1","Reincidência de Grupo A sobre Grupo B",null,null,null,16.13,5.96]
[null,"D2","Reincidência de Grupo A sobre Aviso Prévio Trabalhado e Reincidência do FGTS sobre Aviso Prévio Idenizado",null,null,null,0.46,0.36]
[null,"D","Total de reincidências de um grupo sobre o outro",null,null,null,{"$f":"SUM(G43:G44)","v":16.59},{"$f":"SUM(H43:H44)","v":6.32}]
[]
[null,"Total dos encargos Sociais Complementares"]
[]
[null,"TOTAL (A+B+C+D+E)",null,null,null,null,{"$f":"SUM(G45+G40+G32+G19)","v":112.15},{"$f":"SUM(H45+H40+H32+H19)","v":70.87}]
[]
[]
[]
[]
[]
[]
[]
[]
[]
[]
[]
[]
[]
[]
[]
[]
[]
[]
[]
[]
[]
[]
[]
[]
[]
[]
[]
[]
[]
[]
[]
[]
[]
[]
[]
[]
[]
[]
[]
[]
[]
[]
[]
[]
[]
[]
[]
[]
[]
[]
[]
[]
[]
[]
[]
[]
[]
[]
[]
[]
[]
[]
[]
[]
[]
[]
[]
[]
[]
[]
[]
[]
[]
[]
[]
[]
[]
[]
[]
[]
[]
[]
[]
[]
[]
[]
[]
[]
[]
[]
[]
[]
[]
[]
[]
[]
[]
[]
[]
[]
[]
[]
[]
[]
[]
[]
[]
[]
[]
[]
[]
[]
[]
[]
[]
[]
[]
[]
[]
[]
[]
[]
[]
[]
[]
[]
[]
[]
[]
[]
[]
[]
[]
[null,null,null,null,{"$f":"'ORÇ. DESON.'!#REF!","v":{"$error":"#REF!"}}]
[]
[]
[]
[]
[]
[]
[]
[]
[]
[]
[]
[]
[]
[]
[]
[]
[]
[]
[]
[]
[]
[]
[]
[]
[null,null,null,null,{"$f":"'ORÇ. DESON.'!#REF!","v":{"$error":"#REF!"}}]
[]
[]
[]
[null,null,null,null,{"$f":"'ORÇ. DESON.'!#REF!","v":{"$error":"#REF!"}}]
[]
[]
[]
[]
[]
[]
[]
[]
[]
[]
[]
[]
[null,null,null,null,{"$f":"'ORÇ. DESON.'!#REF!","v":{"$error":"#REF!"}}]
[]
[]
[]
[]
[]
[]
[]
[]
[]
[]
[]
[]
[]
[]
[]
[]
[]
[]
[]
[]
[]
[]
[]
[]
[]
[]
[]
[]
[]
[]
[]
[]
[]
[]
[]
[]
[]
[]
[]
[]
[]
[]
[]
[]
[]
[]
[]
[]
[]
[]
[]
[]
[]
[]
[]
[]
[]
[]
[]
[]
[]
[]
[]
[]
[]
[]
[]
[]
[]
[]
[]
[]
[]
[]
[]
[]
[]
[]
[]
[]
[]
[]
[]
[]
[]
[]
[]
[]
[]
[]
[]
[]
[]
[]
[]
[]
[]
[]
[]
[]
[]
[]
[]
[]
[]
[]
[]
[]
[]
[]
[]
[]
[]
[]
[]
[]
[]
[]
[]
[]
[]
[]
[]
[]
[]
[]
[]
[]
[]
[]
[]
[]
[]
[]
[]
[]
[]
[]
[]
[]
[]
[null,null,null,null,{"$f":"'ORÇ. DESON.'!#REF!","v":{"$error":"#REF!"}}]
[]
[]
[]
[]
[]
[]
[]
[]
[]
[]
[]
[]
[]
[]
[]
[]
[]
[null,null,null,null,{"$f":"'ORÇ. DESON.'!#REF!","v":{"$error":"#REF!"}}]
[]
[]
[]
[]
[]
[]
[]
[]
[]
[]
[]
[]
[]
[]
[]
[]
[null,null,null,null,{"$f":"'ORÇ. DESON.'!#REF!","v":{"$error":"#REF!"}}]
[]
[]
[]
[]
[]
[]
[]
[]
[]
[]
[]
[]
[]
[]
[]
[]
[]
[]
[]
[]
[]
[]
[]
[]
[]
[null,null,null,null,{"$f":"'ORÇ. DESON.'!#REF!","v":{"$error":"#REF!"}}]

{"sheet":"COMP. CIVIL","index":10,"n_rows":1112,"n_cols":15,"rows_kept":1112,"cut":false,"hidden":false,"merged":[[10,7,10,13],[9,0,9,6],[10,0,10,6],[1,0,1,6],[2,0,2,6],[3,0,3,6],[5,0,5,6],[6,0,6,6],[7,0,7,6]]}
[]
["GOVERNO DO ESTADO DO PIAUÍ"]
[{"$f":"CRONOGRAMA!D3","v":"SECRETARIA DE ESTADO DA ADMINISTRAÇÃO E PREVIDÊNCIA DO PIAUÍ - SEADPREV"}]
[{"$f":"CRONOGRAMA!D4","v":"UNIDADE DE MODERNIZAÇÃO ADMINISTRATIVA - UMA"}]
[]
[{"$f":"'ORÇ. DESON.'!L6","v":"MUNICÍPIO: TERESINA - PI"},null,null,null,null,null,null,null,null,null,null,"MUNICÍPIO: ALEGRETE DO PIAUÍ - PI"]
[{"$f":"'ORÇ. DESON.'!L7","v":"OBRA: REVITALIZAÇÃO: CAMPO DE FUTEBOL"}]
[{"$f":"'ORÇ. DESON.'!L8","v":"2021-03-04"}]
[]
[{"$f":"'ORÇ. DESON.'!L12","v":"DATA-BASE: SINAPI - 01/2021 - Piauí - ORSE DEZEMBRO.2019"}]
["COMPOSIÇÕES ANALÍTICAS AUXILIARES - CONSTRUÇÃO CIVIL - SEAD"]
["Fonte","Código","Descreição","Unid.","Valor sem Desoneração","Valor com Desoneração","Coeficiente","Valor sem Desoneração","Valor com Desoneração",null,null,"DESCRIÇÃO"]
[]
[null,"SEDUC 1","SERVIÇOS PRELIMINARES",null,null,null,null,null,{"$f":"B14","v":"SEDUC 1"},null,{"$f":"IF(A14=\"\",\"\",IF(E14=0,\"ERRO\",\"\"))","v":""}]
[null,"SEDUC 1.01","RETIRADA DE ÁRVORES (Ref. Seinfra C2204)","UN",null,null,{"$f":"SUM(G16)","v":24},null,{"$f":"$B$15","v":"SEDUC 1.01"},null,{"$f":"IF(A15=\"\",\"\",IF(E15=0,\"ERRO\",\"\"))","v":""},"RETIRAR MANUALMENTE ÁRVORES DE MÉDIO A GRANDE PORTE QUE ESTEJAM PRESENTES EM ÁREAS DESTINADAS A NOVA CONSTRUÇÃO OU QUE DEVAM SER REMOVIDAS A CRITÉRIO DA ADMINISTRAÇÃO."]
["SINAPI",88316,{"$f":"IFERROR(INDEX(INDIRECT(A16&\"!A:D\"),MATCH(B16,INDIRECT(A16&\"!A:A\"),0),2),\"\")","v":""},{"$f":"IFERROR(INDEX(INDIRECT(A16&\"!A:D\"),MATCH(B16,INDIRECT(A16&\"!A:A\"),0),3),\"\")","v":""},{"$f":"IFERROR(INDEX(INDIRECT(A16&\"!A:D\"),MATCH(B16,INDIRECT(A16&\"!A:A\"),0),4),\"\")","v":""},24,{"$f":"ROUND(PRODUCT(E16:F16),2)","v":24},null,{"$f":"$B$15","v":"SEDUC 1.01"},null,""]
[null,null,null,null,null,null,null,null,{"$f":"$B$15","v":"SEDUC 1.01"},null,""]
[null,"SEDUC 1.02","LIGAÇÃO PREDIAL DE ÁGUA EM MURETA DE CONCRETO, PROVISÓRIA OU DEFINITIVA, INCLUSIVE MURETA E HIDRÔMETRO, REDE DN 50MM (Ref. Orse 6096)","UN",null,null,{"$f":"SUM(G19:G36)","v":20},null,{"$f":"$B$18","v":"SEDUC 1.02"},null,""]
["iORSE",980,{"$f":"IFERROR(INDEX(INDIRECT(A19&\"!A:D\"),MATCH(B19,INDIRECT(A19&\"!A:A\"),0),2),\"\")","v":""},{"$f":"IFERROR(INDEX(INDIRECT(A19&\"!A:D\"),MATCH(B19,INDIRECT(A19&\"!A:A\"),0),3),\"\")","v":""},{"$f":"IFERROR(INDEX(INDIRECT(A19&\"!A:D\"),MATCH(B19,INDIRECT(A19&\"!A:A\"),0),4),\"\")","v":""},1,{"$f":"ROUND(PRODUCT(E19:F19),2)","v":1},null,{"$f":"$B$18","v":"SEDUC 1.02"},null,"",{"$error":"#N/A"}]
["iORSE",2260,"","","",2,{"$f":"ROUND(PRODUCT(E20:F20),2)","v":2},null,"SEDUC 1.02",null,"",{"$error":"#N/A"}]
["iORSE",2360,"","","",2,2,null,"SEDUC 1.02",null,"",{"$error":"#N/A"}]
["iORSE",5161,"","","",1,1,null,"SEDUC 1.02",null,"",{"$error":"#N/A"}]
["iORSE",5240,"","","",1,1,null,"SEDUC 1.02",null,"",{"$error":"#N/A"}]
["iORSE",6313,"","","",1,1,null,"SEDUC 1.02",null,"",{"$error":"#N/A"}]
["SINAPI",88267,"","","",1,1,null,"SEDUC 1.02",null,"",{"$error":"#N/A"}]
["iSINAPI",4895,"","","",1,1,null,"SEDUC 1.02",null,"",{"$error":"#N/A"}]
["iSINAPI",6036,"","","",1,1,null,"SEDUC 1.02",null,"",{"$error":"#N/A"}]
["SINAPI",88316,"","","",1,1,null,"SEDUC 1.02",null,"",{"$error":"#N/A"}]
["iSINAPI",7098,"","","",6,{"$f":"ROUND(PRODUCT(E29:F29),2)","v":6},null,"SEDUC 1.02",null,"",{"$error":"#N/A"}]
["iSINAPI",9813,"","","",1,1,null,"SEDUC 1.02",null,"",{"$error":"#N/A"}]
["iSINAPI",9856,"","","",1,{"$f":"ROUND(PRODUCT(E31:F31),2)","v":1},null,"SEDUC 1.02",null,"",{"$error":"#N/A"}]
["iSINAPI",12773,"","","","0.021",0,null,"SEDUC 1.02",null,"",{"$error":"#N/A"}]
["SINAPI",72897,"","","","0.022",0,null,"SEDUC 1.02",null,"",{"$error":"#N/A"}]
["SINAPI",96995,"","","","0.023",0,null,"SEDUC 1.02",null,"",{"$error":"#N/A"}]
["SINAPI",93358,"","","","0.024",0,null,"SEDUC 1.02",null,"",{"$error":"#N/A"}]
["ORSE",6083,"","","","0.025",0,null,"SEDUC 1.02",null,"",{"$error":"#N/A"}]
[null,null,null,null,null,null,null,null,"SEDUC 1.02",null,"",{"$error":"#N/A"}]
[null," COMP. 01 SEAD ",{"$f":"'ORÇ. DESON.'!O24","v":"CONJUNTO DE TRAVES PARA FUTSAL/ SOCIETY EM TUBOS DE AÇO GALVANIZADO; DIMENSÕES OFICIAIS; PINTADA A PRIMER COM TINTA ESMALTE: INCLUSO REDES DE NYLON"},"UT",null,null,null,{"$f":"H39","v":3506.46},{"$f":"I39","v":3506.46},null,"",0]
["iSINAPI",25398,"CONJUNTO PARA FUTSAL COM TRAVES OFICIAIS DE 3,00 X 2,00 M EM TUBO DE ACO GALVANIZADO 3\" COM REQUADRO EM TUBO DE 1\", PINTURA EM PRIMER COM TINTA ESMALTE SINTETICO E REDES DE POLIETILENO FIO 4 MM",{"$f":"IFERROR(INDEX(INDIRECT(A39&\"!A:D\"),MATCH(B39,INDIRECT(A39&\"!A:A\"),0),3),\"\")","v":""},3506.46,3506.46,1,3506.46,3506.46,null,"",{"$error":"#N/A"}]
[null,null,null,null,null,null,null,null,null,null,"",{"$error":"#N/A"}]
[null,"SEDUC 1.04","ENTRADA PROVISORIA DE ENERGIA ELETRICA AEREA TRIFASICA 40A EM POSTE MADEIRA (Ref. SINAPI 01/2020: 41598)","UN",null,null,{"$f":"SUM(G42:G60)","v":91.09},null,{"$f":"$B$41","v":"SEDUC 1.04"},null,{"$f":"IF(A41=\"\",\"\",IF(E41=0,\"ERRO\",\"\"))","v":""},0]
["iSINAPI",406,{"$f":"IFERROR(INDEX(INDIRECT(A42&\"!A:D\"),MATCH(B42,INDIRECT(A42&\"!A:A\"),0),2),\"\")","v":""},{"$f":"IFERROR(INDEX(INDIRECT(A42&\"!A:D\"),MATCH(B42,INDIRECT(A42&\"!A:A\"),0),3),\"\")","v":""},{"$f":"IFERROR(INDEX(INDIRECT(A42&\"!A:D\"),MATCH(B42,INDIRECT(A42&\"!A:A\"),0),4),\"\")","v":""},0.13333,{"$f":"ROUND(PRODUCT(E42:F42),2)","v":0.13},null,{"$f":"$B$41","v":"SEDUC 1.04"},null,"",{"$error":"#N/A"}]
["iSINAPI",420,"","","",2,{"$f":"ROUND(PRODUCT(E43:F43),2)","v":2},null,"SEDUC 1.04",null,"",{"$error":"#N/A"}]
["iSINAPI",857,"","","",3,3,null,"SEDUC 1.04",null,"",{"$error":"#N/A"}]
["iSINAPI",937,"","","",27,27,null,"SEDUC 1.04",null,"",{"$error":"#N/A"}]
["iSINAPI",1062,"","","",1,1,null,"SEDUC 1.04",null,"",{"$error":"#N/A"}]
["iSINAPI",1096,"","","",2,2,null,"SEDUC 1.04",null,"",{"$error":"#N/A"}]
["iSINAPI",1539,"","","",8,8,null,"SEDUC 1.04",null,"",{"$error":"#N/A"}]
["iSINAPI",1892,"","","",4,4,null,"SEDUC 1.04",null,"",{"$error":"#N/A"}]
["iSINAPI",2392,{"$f":"IFERROR(INDEX(INDIRECT(A50&\"!A:D\"),MATCH(B50,INDIRECT(A50&\"!A:A\"),0),2),\"\")","v":""},{"$f":"IFERROR(INDEX(INDIRECT(A50&\"!A:D\"),MATCH(B50,INDIRECT(A50&\"!A:A\"),0),3),\"\")","v":""},{"$f":"IFERROR(INDEX(INDIRECT(A50&\"!A:D\"),MATCH(B50,INDIRECT(A50&\"!A:A\"),0),4),\"\")","v":""},1,{"$f":"ROUND(PRODUCT(E50:F50),2)","v":1},null,"SEDUC 1.04",null,{"$f":"IF(A50=\"\",\"\",IF(E50=0,\"ERRO\",\"\"))","v":""},{"$error":"#N/A"}]
["iSINAPI",2685,{"$f":"IFERROR(INDEX(INDIRECT(A51&\"!A:D\"),MATCH(B51,INDIRECT(A51&\"!A:A\"),0),2),\"\")","v":""},{"$f":"IFERROR(INDEX(INDIRECT(A51&\"!A:D\"),MATCH(B51,INDIRECT(A51&\"!A:A\"),0),3),\"\")","v":""},{"$f":"IFERROR(INDEX(INDIRECT(A51&\"!A:D\"),MATCH(B51,INDIRECT(A51&\"!A:A\"),0),4),\"\")","v":""},8,{"$f":"ROUND(PRODUCT(E51:F51),2)","v":8},null,"SEDUC 1.04",null,{"$f":"IF(A51=\"\",\"\",IF(E51=0,\"ERRO\",\"\"))","v":""},{"$error":"#N/A"}]
["iSINAPI",2731,{"$f":"IFERROR(INDEX(INDIRECT(A52&\"!A:D\"),MATCH(B52,INDIRECT(A52&\"!A:A\"),0),2),\"\")","v":""},{"$f":"IFERROR(INDEX(INDIRECT(A52&\"!A:D\"),MATCH(B52,INDIRECT(A52&\"!A:A\"),0),3),\"\")","v":""},{"$f":"IFERROR(INDEX(INDIRECT(A52&\"!A:D\"),MATCH(B52,INDIRECT(A52&\"!A:A\"),0),4),\"\")","v":""},7.96,{"$f":"ROUND(PRODUCT(E52:F52),2)","v":7.96},null,"SEDUC 1.04",null,{"$f":"IF(A52=\"\",\"\",IF(E52=0,\"ERRO\",\"\"))","v":""},{"$error":"#N/A"}]
["iSINAPI",3379,"","","",1,1,null,"SEDUC 1.04",null,"",{"$error":"#N/A"}]
["iSINAPI",4346,"","","",2,2,null,"SEDUC 1.04",null,"",{"$error":"#N/A"}]
["iSINAPI",11267,"","","",2,2,null,"SEDUC 1.04",null,"",{"$error":"#N/A"}]
["iSINAPI",12034,"","","",2,2,null,"SEDUC 1.04",null,"",{"$error":"#N/A"}]
["iSINAPI",39176,"","","",2,2,null,"SEDUC 1.04",null,"",{"$error":"#N/A"}]
["iSINAPI",39210,"","","",2,2,null,"SEDUC 1.04",null,"",{"$error":"#N/A"}]
["SINAPI",88264,"","","",8,8,null,"SEDUC 1.04",null,"",{"$error":"#N/A"}]
["SINAPI",88316,"","","",8,8,null,"SEDUC 1.04",null,"",{"$error":"#N/A"}]
[null,null,null,null,null,null,null,null,"SEDUC 1.04",null,"",{"$error":"#N/A"}]
[null,null,null,null,null,null,null,null,null,null,"",{"$error":"#N/A"}]
[null,"SEDUC 2","DEMOLIÇÕES E RETIRADAS",null,null,null,null,null,{"$f":"B63","v":"SEDUC 2"},null,"",{"$error":"#N/A"}]
[null,"SEDUC 2.01","REMOÇÃO DE TELHAMANTO COM TELHAS ONDULADAS FIBROCIMENTO OU ALUMÍNIO (Ref. ORSE 4943)","M²",null,null,{"$f":"SUM(G65:G66)","v":0.5},null,{"$f":"$B$64","v":"SEDUC 2.01"},null,"","REMOVER MANUALMENTE TELHAS ONDULADAS (SEJAM EM FIBROCIMENTO OU ALUMÍNIO) EXISTENTES EM COBERTURAS CUJO TELHAMENTO DEVA SER SUBSTITUÍDO; AS PEÇAS RETIRADAS DEVEM PERMANECER ÍNTEGRAS O QUANTO POSSÍVEL E, POSTERIORMENTE, DEPOSITADAS NO CANTEIRO DE OBRAS; A DESTINAÇÃO DE TAIS PEÇAS DEVE OBEDECER O CRITÉRIO DA ADMINISTRAÇÃO; OBSERVAR ÁREAS INDICADAS EM PROJETO."]
["SINAPI",88309,{"$f":"IFERROR(INDEX(INDIRECT(A65&\"!A:D\"),MATCH(B65,INDIRECT(A65&\"!A:A\"),0),2),\"\")","v":""},{"$f":"IFERROR(INDEX(INDIRECT(A65&\"!A:D\"),MATCH(B65,INDIRECT(A65&\"!A:A\"),0),3),\"\")","v":""},{"$f":"IFERROR(INDEX(INDIRECT(A65&\"!A:D\"),MATCH(B65,INDIRECT(A65&\"!A:A\"),0),4),\"\")","v":""},0.1,{"$f":"ROUND(PRODUCT(E65:F65),2)","v":0.1},null,{"$f":"$B$64","v":"SEDUC 2.01"},null,"",{"$error":"#N/A"}]
["SINAPI",88316,{"$f":"IFERROR(INDEX(INDIRECT(A66&\"!A:D\"),MATCH(B66,INDIRECT(A66&\"!A:A\"),0),2),\"\")","v":""},{"$f":"IFERROR(INDEX(INDIRECT(A66&\"!A:D\"),MATCH(B66,INDIRECT(A66&\"!A:A\"),0),3),\"\")","v":""},{"$f":"IFERROR(INDEX(INDIRECT(A66&\"!A:D\"),MATCH(B66,INDIRECT(A66&\"!A:A\"),0),4),\"\")","v":""},0.4,{"$f":"ROUND(PRODUCT(E66:F66),2)","v":0.4},null,{"$f":"$B$64","v":"SEDUC 2.01"},null,"",{"$error":"#N/A"}]
[null,null,null,null,null,null,null,null,{"$f":"$B$64","v":"SEDUC 2.01"},null,"",{"$error":"#N/A"}]
[null,"SEDUC 2.02","DEMOLIÇÃO DE TELHA ONDULADA DE FIBROCIMENTO (Ref. SEINFRA C1046)","M²",null,null,{"$f":"SUM(G69:G70)","v":0.28000000000000003},null,{"$f":"$B$68","v":"SEDUC 2.02"},null,"","DEMOLIR MANUALMENTE COM MARRETA (OU SEMELHANTE) TELHAMENTO EM FIBROCIMENTO DE MODO QUE AS PEÇAS FIQUEM DESINTEGRADAS; PROCEDER TAL SERVIÇO COM CAUTELA SUFICIENTE À CONSERVAÇÃO DE MOBILIÁRIOS DA EDIFICAÇÃO, BEM COMO À SEGURANÇA DE SEUS OCUPANTES; OBSERVAR ÁREAS INDICADAS EM PROJETO."]
["SINAPI",88323,{"$f":"IFERROR(INDEX(INDIRECT(A69&\"!A:D\"),MATCH(B69,INDIRECT(A69&\"!A:A\"),0),2),\"\")","v":""},{"$f":"IFERROR(INDEX(INDIRECT(A69&\"!A:D\"),MATCH(B69,INDIRECT(A69&\"!A:A\"),0),3),\"\")","v":""},{"$f":"IFERROR(INDEX(INDIRECT(A69&\"!A:D\"),MATCH(B69,INDIRECT(A69&\"!A:A\"),0),4),\"\")","v":""},2.5000000000000001E-2,{"$f":"ROUND(PRODUCT(E69:F69),2)","v":0.03},null,{"$f":"$B$68","v":"SEDUC 2.02"},null,"",{"$error":"#N/A"}]
["SINAPI",88316,{"$f":"IFERROR(INDEX(INDIRECT(A70&\"!A:D\"),MATCH(B70,INDIRECT(A70&\"!A:A\"),0),2),\"\")","v":""},{"$f":"IFERROR(INDEX(INDIRECT(A70&\"!A:D\"),MATCH(B70,INDIRECT(A70&\"!A:A\"),0),3),\"\")","v":""},{"$f":"IFERROR(INDEX(INDIRECT(A70&\"!A:D\"),MATCH(B70,INDIRECT(A70&\"!A:A\"),0),4),\"\")","v":""},0.25,{"$f":"ROUND(PRODUCT(E70:F70),2)","v":0.25},null,{"$f":"$B$68","v":"SEDUC 2.02"},null,"",{"$error":"#N/A"}]
[null,null,null,null,null,null,null,null,{"$f":"$B$68","v":"SEDUC 2.02"},null,"",{"$error":"#N/A"}]
[null,"SEDUC 2.04","DEMOLIÇÃO DE PISO CERÂMICO (Ref. SEINFRA C1064)","M²",null,null,{"$f":"SUM(G73:G74)","v":0.77},null,{"$f":"$B$72","v":"SEDUC 2.04"},null,"","DEMOLIR MANUALMENTE PISO CERÂMICO DE ACABAMENTO, SEJA ELE EM MOSAICO, CERÂMICA ESMALTADA OU VERMELHA; TAL SERVIÇO DEVE SER FEITO APENAS NAS PEÇAS CERÂMICAS, DE MANEIRA QUE O CONTRAPISO CORRESPONDENTE PERMANEÇA ÍNTEGRO E TOTALMENTE EXPOSTO; DEMOLIR ÁREAS DE SUBSTITUIÇÃO DE PISO, SEGUNDO PROJETO, OU QUE ESTEJAM DEGRADADAS."]
["SINAPI",88309,{"$f":"IFERROR(INDEX(INDIRECT(A73&\"!A:D\"),MATCH(B73,INDIRECT(A73&\"!A:A\"),0),2),\"\")","v":""},{"$f":"IFERROR(INDEX(INDIRECT(A73&\"!A:D\"),MATCH(B73,INDIRECT(A73&\"!A:A\"),0),3),\"\")","v":""},{"$f":"IFERROR(INDEX(INDIRECT(A73&\"!A:D\"),MATCH(B73,INDIRECT(A73&\"!A:A\"),0),4),\"\")","v":""},7.0000000000000007E-2,{"$f":"ROUND(PRODUCT(E73:F73),2)","v":7.0000000000000007E-2},null,{"$f":"$B$72","v":"SEDUC 2.04"},null,"",{"$error":"#N/A"}]
["SINAPI",88316,{"$f":"IFERROR(INDEX(INDIRECT(A74&\"!A:D\"),MATCH(B74,INDIRECT(A74&\"!A:A\"),0),2),\"\")","v":""},{"$f":"IFERROR(INDEX(INDIRECT(A74&\"!A:D\"),MATCH(B74,INDIRECT(A74&\"!A:A\"),0),3),\"\")","v":""},{"$f":"IFERROR(INDEX(INDIRECT(A74&\"!A:D\"),MATCH(B74,INDIRECT(A74&\"!A:A\"),0),4),\"\")","v":""},0.7,{"$f":"ROUND(PRODUCT(E74:F74),2)","v":0.7},null,{"$f":"$B$72","v":"SEDUC 2.04"},null,"",{"$error":"#N/A"}]
[null,null,null,null,null,null,null,null,{"$f":"$B$72","v":"SEDUC 2.04"},null,"",{"$error":"#N/A"}]
[null,"SEDUC 2.05","DEMOLIÇÃO DE ALVENARIA DE PEDRA (Ref. ORSE 0008)","M³",null,null,{"$f":"SUM(G77:G78)","v":4.4000000000000004},null,{"$f":"$B$76","v":"SEDUC 2.05"},null,"","DEMOLIR ALVENARIA DE PEDRA ARGAMASSADA QUEM ESTEJA DEGRADADA EM FUNDAÇÕES PARA POSTERIOR SUBSTITUIÇÃO POR NOVO MATERIAL; DEVEM SER SEGUIDAS INDICAÇÕES EM PROJETO E/OU ORIENTAÇÕES DA ADMINISTRAÇÃO."]
["SINAPI",88309,{"$f":"IFERROR(INDEX(INDIRECT(A77&\"!A:D\"),MATCH(B77,INDIRECT(A77&\"!A:A\"),0),2),\"\")","v":""},{"$f":"IFERROR(INDEX(INDIRECT(A77&\"!A:D\"),MATCH(B77,INDIRECT(A77&\"!A:A\"),0),3),\"\")","v":""},{"$f":"IFERROR(INDEX(INDIRECT(A77&\"!A:D\"),MATCH(B77,INDIRECT(A77&\"!A:A\"),0),4),\"\")","v":""},0.4,{"$f":"ROUND(PRODUCT(E77:F77),2)","v":0.4},null,{"$f":"$B$76","v":"SEDUC 2.05"},null,"",{"$error":"#N/A"}]
["SINAPI",88316,{"$f":"IFERROR(INDEX(INDIRECT(A78&\"!A:D\"),MATCH(B78,INDIRECT(A78&\"!A:A\"),0),2),\"\")","v":""},{"$f":"IFERROR(INDEX(INDIRECT(A78&\"!A:D\"),MATCH(B78,INDIRECT(A78&\"!A:A\"),0),3),\"\")","v":""},{"$f":"IFERROR(INDEX(INDIRECT(A78&\"!A:D\"),MATCH(B78,INDIRECT(A78&\"!A:A\"),0),4),\"\")","v":""},4,{"$f":"ROUND(PRODUCT(E78:F78),2)","v":4},null,{"$f":"$B$76","v":"SEDUC 2.05"},null,"",{"$error":"#N/A"}]
[null,null,null,null,null,null,null,null,{"$f":"$B$76","v":"SEDUC 2.05"},null,"",{"$error":"#N/A"}]
[null,"SEDUC 2.06","DEMOLIÇÃO DE PISO EM PEDRA CALCÁRIA (Ref. ORSE 4801)","M³",null,null,{"$f":"SUM(G81:G82)","v":1.43},null,{"$f":"$B$80","v":"SEDUC 2.06"},null,"","DEMOLIR MANUALMENTE PISO EM PEDRA CALCÁRIA DE ACABAMENTO; TAL SERVIÇO DEVE SER FEITO APENAS NAS PEÇAS CALCÁRIAS, DE MANEIRA QUE O CONTRAPISO CORRESPONDENTE PERMANEÇA ÍNTEGRO E TOTALMENTE EXPOSTO; DEMOLIR ÁREAS DE SUBSTITUIÇÃO DE PISO, SEGUNDO PROJETO, OU QUE ESTEJAM DEGRADADAS."]
["SINAPI",88309,{"$f":"IFERROR(INDEX(INDIRECT(A81&\"!A:D\"),MATCH(B81,INDIRECT(A81&\"!A:A\"),0),2),\"\")","v":""},{"$f":"IFERROR(INDEX(INDIRECT(A81&\"!A:D\"),MATCH(B81,INDIRECT(A81&\"!A:A\"),0),3),\"\")","v":""},{"$f":"IFERROR(INDEX(INDIRECT(A81&\"!A:D\"),MATCH(B81,INDIRECT(A81&\"!A:A\"),0),4),\"\")","v":""},0.13,{"$f":"ROUND(PRODUCT(E81:F81),2)","v":0.13},null,{"$f":"$B$80","v":"SEDUC 2.06"},null,{"$f":"IF(A81=\"\",\"\",IF(E81=0,\"ERRO\",\"\"))","v":""},{"$error":"#N/A"}]
["SINAPI",88316,{"$f":"IFERROR(INDEX(INDIRECT(A82&\"!A:D\"),MATCH(B82,INDIRECT(A82&\"!A:A\"),0),2),\"\")","v":""},{"$f":"IFERROR(INDEX(INDIRECT(A82&\"!A:D\"),MATCH(B82,INDIRECT(A82&\"!A:A\"),0),3),\"\")","v":""},{"$f":"IFERROR(INDEX(INDIRECT(A82&\"!A:D\"),MATCH(B82,INDIRECT(A82&\"!A:A\"),0),4),\"\")","v":""},1.3,{"$f":"ROUND(PRODUCT(E82:F82),2)","v":1.3},null,{"$f":"$B$80","v":"SEDUC 2.06"},null,"",{"$error":"#N/A"}]
[null,null,null,null,null,null,null,null,{"$f":"$B$80","v":"SEDUC 2.06"},null,"",{"$error":"#N/A"}]
[null,"SEDUC 2.07","DEMOLIÇÃO DE REVESTIMENTO CERÂMICO OU AZULEJO (Ref. ORSE 00022)","M²",null,null,{"$f":"SUM(G85:G86)","v":1.1000000000000001},null,{"$f":"$B$84","v":"SEDUC 2.07"},null,"","DEMOLIR MANUALMENTE REVESTIMENTOS CERÂMICOS DE PAREDE DE MODO QUE AS PEÇAS FIQUEM DESINTEGRADAS, INCLUSIVE ARGAMASSA DE ASSENTAMENTO; A ALVENARIA DEVE PERMANECER COMPLETAMENTE EXPOSTA, UMA VEZ QUE NÃO DEVE SER REAPROVEITADA A MASSA DE CHAPISCO EXISTENTE; APLICAR EM ÁREAS COM PEÇAS COMPROMETIDAS OU COM PREVISÃO DE SUBSTITUIÇÃO."]
["SINAPI",88309,{"$f":"IFERROR(INDEX(INDIRECT(A85&\"!A:D\"),MATCH(B85,INDIRECT(A85&\"!A:A\"),0),2),\"\")","v":""},{"$f":"IFERROR(INDEX(INDIRECT(A85&\"!A:D\"),MATCH(B85,INDIRECT(A85&\"!A:A\"),0),3),\"\")","v":""},{"$f":"IFERROR(INDEX(INDIRECT(A85&\"!A:D\"),MATCH(B85,INDIRECT(A85&\"!A:A\"),0),4),\"\")","v":""},0.1,{"$f":"ROUND(PRODUCT(E85:F85),2)","v":0.1},null,{"$f":"$B$84","v":"SEDUC 2.07"},null,"",{"$error":"#N/A"}]
["SINAPI",88316,{"$f":"IFERROR(INDEX(INDIRECT(A86&\"!A:D\"),MATCH(B86,INDIRECT(A86&\"!A:A\"),0),2),\"\")","v":""},{"$f":"IFERROR(INDEX(INDIRECT(A86&\"!A:D\"),MATCH(B86,INDIRECT(A86&\"!A:A\"),0),3),\"\")","v":""},{"$f":"IFERROR(INDEX(INDIRECT(A86&\"!A:D\"),MATCH(B86,INDIRECT(A86&\"!A:A\"),0),4),\"\")","v":""},1,{"$f":"ROUND(PRODUCT(E86:F86),2)","v":1},null,{"$f":"$B$84","v":"SEDUC 2.07"},null,"",{"$error":"#N/A"}]
[null,null,null,null,null,null,null,null,{"$f":"$B$84","v":"SEDUC 2.07"},null,"",{"$error":"#N/A"}]
[null,"SEDUC 2.09","REMOÇÃO DE ESTRUTURA METÁLICA CHUMBADA EM CONCRETO (ALAMBRADO, GUARDA CORPO) (Ref. ORSE 227)","M²",null,null,{"$f":"SUM(G89:G89)","v":3},null,{"$f":"$B$88","v":"SEDUC 2.09"},null,"","RETIRAR ALAMBRADOS OU GUARDACORPOS QUE ESTEJAM CHUMBADOS EM CONCRETO OU ALVENARIA; APLICAR EM PEÇAS DETERIORADAS OU QUE DEVAM SER REMANEJADAS A CRITÉRIO DA ADMINISTRAÇÃO."]
["SINAPI",88316,{"$f":"IFERROR(INDEX(INDIRECT(A89&\"!A:D\"),MATCH(B89,INDIRECT(A89&\"!A:A\"),0),2),\"\")","v":""},{"$f":"IFERROR(INDEX(INDIRECT(A89&\"!A:D\"),MATCH(B89,INDIRECT(A89&\"!A:A\"),0),3),\"\")","v":""},{"$f":"IFERROR(INDEX(INDIRECT(A89&\"!A:D\"),MATCH(B89,INDIRECT(A89&\"!A:A\"),0),4),\"\")","v":""},3,{"$f":"ROUND(PRODUCT(E89:F89),2)","v":3},null,{"$f":"$B$88","v":"SEDUC 2.09"},null,"",{"$error":"#N/A"}]
[null,null,null,null,null,null,null,null,{"$f":"$B$88","v":"SEDUC 2.09"},null,"",{"$error":"#N/A"}]
[null,"SEDUC 2.10","REMOÇÃO DE BANCADA DE GRANITO (Ref. Orse 8387)","M²",null,null,{"$f":"SUM(G92:G93)","v":1.1499999999999999},null,{"$f":"$B$91","v":"SEDUC 2.10"},null,"","REMOVER MANUALMENTE BANCADAS DE GRANITO (OU MÁRMORE) DE BANHEIROS, COZINHAS OU OUTROS AMBIENTES; AS PEÇAS NÃO DEVEM SER DANIFICADAS EM TAL SERVIÇO; APLICAR EM BANCADAS DANIFICADAS OU QUE MEREÇAM SUBSTITUIÇÃO SEGUNDO PROJETO OU CRITÉRIO DA ADMINISTRAÇÃO."]
["SINAPI",88309,{"$f":"IFERROR(INDEX(INDIRECT(A92&\"!A:D\"),MATCH(B92,INDIRECT(A92&\"!A:A\"),0),2),\"\")","v":""},{"$f":"IFERROR(INDEX(INDIRECT(A92&\"!A:D\"),MATCH(B92,INDIRECT(A92&\"!A:A\"),0),3),\"\")","v":""},{"$f":"IFERROR(INDEX(INDIRECT(A92&\"!A:D\"),MATCH(B92,INDIRECT(A92&\"!A:A\"),0),4),\"\")","v":""},0.15,{"$f":"ROUND(PRODUCT(E92:F92),2)","v":0.15},null,{"$f":"$B$91","v":"SEDUC 2.10"},null,"",{"$error":"#N/A"}]
["SINAPI",88316,{"$f":"IFERROR(INDEX(INDIRECT(A93&\"!A:D\"),MATCH(B93,INDIRECT(A93&\"!A:A\"),0),2),\"\")","v":""},{"$f":"IFERROR(INDEX(INDIRECT(A93&\"!A:D\"),MATCH(B93,INDIRECT(A93&\"!A:A\"),0),3),\"\")","v":""},{"$f":"IFERROR(INDEX(INDIRECT(A93&\"!A:D\"),MATCH(B93,INDIRECT(A93&\"!A:A\"),0),4),\"\")","v":""},1,{"$f":"ROUND(PRODUCT(E93:F93),2)","v":1},null,{"$f":"$B$91","v":"SEDUC 2.10"},null,"",{"$error":"#N/A"}]
[null,null,null,null,null,null,null,null,{"$f":"$B$91","v":"SEDUC 2.10"},null,"",{"$error":"#N/A"}]
[null,"SEDUC 2.11","REMOÇÃO DE FECHADURA (Ref. ORSE 4859)","UN",null,null,{"$f":"SUM(G96:G96)","v":0.25},null,{"$f":"$B$95","v":"SEDUC 2.11"},null,"","REMOVER COMPLETAMENTE FECHADURAS METÁLICAS DE PORTAS DE FORMA MANUAL; APLICAR EM PEÇAS QUE SE APRESENTEM SEM CONDIÇÕES DE FUNCIONAMENTO OU INCOMPLETAS."]
["SINAPI",88261,{"$f":"IFERROR(INDEX(INDIRECT(A96&\"!A:D\"),MATCH(B96,INDIRECT(A96&\"!A:A\"),0),2),\"\")","v":""},{"$f":"IFERROR(INDEX(INDIRECT(A96&\"!A:D\"),MATCH(B96,INDIRECT(A96&\"!A:A\"),0),3),\"\")","v":""},{"$f":"IFERROR(INDEX(INDIRECT(A96&\"!A:D\"),MATCH(B96,INDIRECT(A96&\"!A:A\"),0),4),\"\")","v":""},0.25,{"$f":"ROUND(PRODUCT(E96:F96),2)","v":0.25},null,{"$f":"$B$95","v":"SEDUC 2.11"},null,"",{"$error":"#N/A"}]
[null,null,null,null,null,null,null,null,{"$f":"$B$95","v":"SEDUC 2.11"},null,"",{"$error":"#N/A"}]
[null,"SEDUC 2.12","REMOÇÃO DE ESQUADRIA DE MADEIRA, COM OU SEM BATENTE (Ref. ORSE 0031)","M²",null,null,{"$f":"SUM(G99:G100)","v":0.88},null,{"$f":"$B$98","v":"SEDUC 2.12"},null,"","REMOVER ESQUADRIAS DE MADEIRA (PORTAS, JANELAS, ETC) SEM CONDIÇÕES DE USO OU QUE DEVAM SER SUBSTITUÍDAS EM PROJETO; DEVEM SER REMOVIDOS OS BATENTES, ALIZARES E MARCOS; PROCEDER DE FORMA MANUAL."]
["SINAPI",88261,{"$f":"IFERROR(INDEX(INDIRECT(A99&\"!A:D\"),MATCH(B99,INDIRECT(A99&\"!A:A\"),0),2),\"\")","v":""},{"$f":"IFERROR(INDEX(INDIRECT(A99&\"!A:D\"),MATCH(B99,INDIRECT(A99&\"!A:A\"),0),3),\"\")","v":""},{"$f":"IFERROR(INDEX(INDIRECT(A99&\"!A:D\"),MATCH(B99,INDIRECT(A99&\"!A:A\"),0),4),\"\")","v":""},0.08,{"$f":"ROUND(PRODUCT(E99:F99),2)","v":0.08},null,{"$f":"$B$98","v":"SEDUC 2.12"},null,"",{"$error":"#N/A"}]
["SINAPI",88316,{"$f":"IFERROR(INDEX(INDIRECT(A100&\"!A:D\"),MATCH(B100,INDIRECT(A100&\"!A:A\"),0),2),\"\")","v":""},{"$f":"IFERROR(INDEX(INDIRECT(A100&\"!A:D\"),MATCH(B100,INDIRECT(A100&\"!A:A\"),0),3),\"\")","v":""},{"$f":"IFERROR(INDEX(INDIRECT(A100&\"!A:D\"),MATCH(B100,INDIRECT(A100&\"!A:A\"),0),4),\"\")","v":""},0.8,{"$f":"ROUND(PRODUCT(E100:F100),2)","v":0.8},null,{"$f":"$B$98","v":"SEDUC 2.12"},null,"",{"$error":"#N/A"}]
[null,null,null,null,null,null,null,null,{"$f":"$B$98","v":"SEDUC 2.12"},null,"",{"$error":"#N/A"}]
[null,"SEDUC 2.13","REMOÇÃO DE PINTURA LÁTEX (RASPAGEM E/OU LIXAMENTO E/OU ESCOVAÇÃO (Ref. ORSE 7725)","M²",null,null,{"$f":"SUM(G103:G103)","v":0.4},null,{"$f":"$B$102","v":"SEDUC 2.13"},null,"","REMOVER TODA PINTURA ANTIGA EXISTENTE POR MEIO DE RASPAGEM MANUAL COM VISTAS A DEIXAR A SUPERFÍCIE PRÓPRIA PARA APLICAÇÃO DE NOVA MASSA CORRIDA E NOVA PINTURA."]
["SINAPI",88316,{"$f":"IFERROR(INDEX(INDIRECT(A103&\"!A:D\"),MATCH(B103,INDIRECT(A103&\"!A:A\"),0),2),\"\")","v":""},{"$f":"IFERROR(INDEX(INDIRECT(A103&\"!A:D\"),MATCH(B103,INDIRECT(A103&\"!A:A\"),0),3),\"\")","v":""},{"$f":"IFERROR(INDEX(INDIRECT(A103&\"!A:D\"),MATCH(B103,INDIRECT(A103&\"!A:A\"),0),4),\"\")","v":""},0.4,{"$f":"ROUND(PRODUCT(E103:F103),2)","v":0.4},null,{"$f":"$B$102","v":"SEDUC 2.13"},null,"",{"$error":"#N/A"}]
[null,null,null,null,null,null,null,null,{"$f":"$B$102","v":"SEDUC 2.13"},null,"",{"$error":"#N/A"}]
[null,"SEDUC 2.14","DEMOLIÇÃO DE PISO CIMENTADO SOBRE LASTRO DE CONCRETO (Ref. Seinfra 24.1 C1066)","M²",null,null,{"$f":"SUM(G106:G107)","v":1.43},null,{"$f":"$B$105","v":"SEDUC 2.14"},null,"","DEMOLIR MANUALMENTE PISO CIMENTADO EXISTENTE SEGUNDO INDICAÇÕES EM PROJETO, OU DE ACORDO COM ORIENTAÇÃO DA ADMINISTRAÇÃO, ATÉ COMPLETA EXPOSIÇÃO DE MATERIAL GRANULAR SOB O PISO."]
["SINAPI",88316,{"$f":"IFERROR(INDEX(INDIRECT(A106&\"!A:D\"),MATCH(B106,INDIRECT(A106&\"!A:A\"),0),2),\"\")","v":""},{"$f":"IFERROR(INDEX(INDIRECT(A106&\"!A:D\"),MATCH(B106,INDIRECT(A106&\"!A:A\"),0),3),\"\")","v":""},{"$f":"IFERROR(INDEX(INDIRECT(A106&\"!A:D\"),MATCH(B106,INDIRECT(A106&\"!A:A\"),0),4),\"\")","v":""},1.3,{"$f":"ROUND(PRODUCT(E106:F106),2)","v":1.3},null,{"$f":"$B$105","v":"SEDUC 2.14"},null,"",{"$error":"#N/A"}]
["SINAPI",88309,{"$f":"IFERROR(INDEX(INDIRECT(A107&\"!A:D\"),MATCH(B107,INDIRECT(A107&\"!A:A\"),0),2),\"\")","v":""},{"$f":"IFERROR(INDEX(INDIRECT(A107&\"!A:D\"),MATCH(B107,INDIRECT(A107&\"!A:A\"),0),3),\"\")","v":""},{"$f":"IFERROR(INDEX(INDIRECT(A107&\"!A:D\"),MATCH(B107,INDIRECT(A107&\"!A:A\"),0),4),\"\")","v":""},0.13,{"$f":"ROUND(PRODUCT(E107:F107),2)","v":0.13},null,{"$f":"$B$105","v":"SEDUC 2.14"},null,"",{"$error":"#N/A"}]
[null,null,null,null,null,null,null,null,{"$f":"$B$105","v":"SEDUC 2.14"},null,"",{"$error":"#N/A"}]
[null,"SEDUC 2.16",null,null,null,null,{"$f":"SUM(G110:G110)","v":0.6},null,{"$f":"$B$109","v":"SEDUC 2.16"},null,"",0]
["SINAPI",88316,{"$f":"IFERROR(INDEX(INDIRECT(A110&\"!A:D\"),MATCH(B110,INDIRECT(A110&\"!A:A\"),0),2),\"\")","v":""},{"$f":"IFERROR(INDEX(INDIRECT(A110&\"!A:D\"),MATCH(B110,INDIRECT(A110&\"!A:A\"),0),3),\"\")","v":""},{"$f":"IFERROR(INDEX(INDIRECT(A110&\"!A:D\"),MATCH(B110,INDIRECT(A110&\"!A:A\"),0),4),\"\")","v":""},0.6,{"$f":"ROUND(PRODUCT(E110:F110),2)","v":0.6},null,{"$f":"$B$109","v":"SEDUC 2.16"},null,"",{"$error":"#N/A"}]
[null,null,null,null,null,null,null,null,{"$f":"$B$109","v":"SEDUC 2.16"},null,"",{"$error":"#N/A"}]
[null,"SEDUC 2.17","DEMOLIÇÃO DE PISO DE ALTA RESISTÊNCIA (Ref. SINAPI 09/17 - 73801/1)","M2",null,null,{"$f":"SUM(G113:G113)","v":1.5},null,{"$f":"$B$112","v":"SEDUC 2.17"},null,"",0]
["SINAPI",88316,{"$f":"IFERROR(INDEX(INDIRECT(A113&\"!A:D\"),MATCH(B113,INDIRECT(A113&\"!A:A\"),0),2),\"\")","v":""},{"$f":"IFERROR(INDEX(INDIRECT(A113&\"!A:D\"),MATCH(B113,INDIRECT(A113&\"!A:A\"),0),3),\"\")","v":""},{"$f":"IFERROR(INDEX(INDIRECT(A113&\"!A:D\"),MATCH(B113,INDIRECT(A113&\"!A:A\"),0),4),\"\")","v":""},1.5,{"$f":"ROUND(PRODUCT(E113:F113),2)","v":1.5},null,{"$f":"$B$112","v":"SEDUC 2.17"},null,"",{"$error":"#N/A"}]
[null,null,null,null,null,null,null,null,{"$f":"$B$112","v":"SEDUC 2.17"},null,null,{"$error":"#N/A"}]
[null,"SEDUC 2.18","REMOÇÃO DE ACESSÓRIOS SANITÁRIOS (Ref. ORSE - 07216)","UN",null,null,{"$f":"SUM(G116:G117)","v":0.7},null,{"$f":"$B$115","v":"SEDUC 2.18"},null,null,0]
["SINAPI",88316,{"$f":"IFERROR(INDEX(INDIRECT(A116&\"!A:D\"),MATCH(B116,INDIRECT(A116&\"!A:A\"),0),2),\"\")","v":""},{"$f":"IFERROR(INDEX(INDIRECT(A116&\"!A:D\"),MATCH(B116,INDIRECT(A116&\"!A:A\"),0),3),\"\")","v":""},{"$f":"IFERROR(INDEX(INDIRECT(A116&\"!A:D\"),MATCH(B116,INDIRECT(A116&\"!A:A\"),0),4),\"\")","v":""},0.35,{"$f":"ROUND(PRODUCT(E116:F116),2)","v":0.35},null,{"$f":"$B$115","v":"SEDUC 2.18"},null,null,{"$error":"#N/A"}]
["SINAPI",88309,{"$f":"IFERROR(INDEX(INDIRECT(A117&\"!A:D\"),MATCH(B117,INDIRECT(A117&\"!A:A\"),0),2),\"\")","v":""},{"$f":"IFERROR(INDEX(INDIRECT(A117&\"!A:D\"),MATCH(B117,INDIRECT(A117&\"!A:A\"),0),3),\"\")","v":""},{"$f":"IFERROR(INDEX(INDIRECT(A117&\"!A:D\"),MATCH(B117,INDIRECT(A117&\"!A:A\"),0),4),\"\")","v":""},0.35,{"$f":"ROUND(PRODUCT(E117:F117),2)","v":0.35},null,{"$f":"$B$115","v":"SEDUC 2.18"},null,null,{"$error":"#N/A"}]
[null,null,null,null,null,null,null,null,{"$f":"$B$115","v":"SEDUC 2.18"},null,{"$f":"IF(A118=\"\",\"\",IF(E118=0,\"ERRO\",\"\"))","v":""},{"$error":"#N/A"}]
[null,"SEDUC 2.19","DEMOLIÇÃO DE PISO CERÂMICO SOBRE LASTRO DE CONCRETO  (Ref. SEINFRA - C1065","M²",null,null,{"$f":"SUM(G120:G121)","v":1.54},null,{"$f":"$B$119","v":"SEDUC 2.19"},null,{"$f":"IF(A119=\"\",\"\",IF(E119=0,\"ERRO\",\"\"))","v":""},{"$error":"#N/A"}]
["SINAPI",88316,{"$f":"IFERROR(INDEX(INDIRECT(A120&\"!A:D\"),MATCH(B120,INDIRECT(A120&\"!A:A\"),0),2),\"\")","v":""},{"$f":"IFERROR(INDEX(INDIRECT(A120&\"!A:D\"),MATCH(B120,INDIRECT(A120&\"!A:A\"),0),3),\"\")","v":""},{"$f":"IFERROR(INDEX(INDIRECT(A120&\"!A:D\"),MATCH(B120,INDIRECT(A120&\"!A:A\"),0),4),\"\")","v":""},1.4,{"$f":"ROUND(PRODUCT(E120:F120),2)","v":1.4},null,{"$f":"$B$119","v":"SEDUC 2.19"},null,{"$f":"IF(A120=\"\",\"\",IF(E120=0,\"ERRO\",\"\"))","v":""},{"$error":"#N/A"}]
["SINAPI",88309,{"$f":"IFERROR(INDEX(INDIRECT(A121&\"!A:D\"),MATCH(B121,INDIRECT(A121&\"!A:A\"),0),2),\"\")","v":""},{"$f":"IFERROR(INDEX(INDIRECT(A121&\"!A:D\"),MATCH(B121,INDIRECT(A121&\"!A:A\"),0),3),\"\")","v":""},{"$f":"IFERROR(INDEX(INDIRECT(A121&\"!A:D\"),MATCH(B121,INDIRECT(A121&\"!A:A\"),0),4),\"\")","v":""},0.14000000000000001,{"$f":"ROUND(PRODUCT(E121:F121),2)","v":0.14000000000000001},null,{"$f":"$B$119","v":"SEDUC 2.19"},null,{"$f":"IF(A121=\"\",\"\",IF(E121=0,\"ERRO\",\"\"))","v":""},{"$error":"#N/A"}]
[null,null,null,null,null,null,null,null,{"$f":"$B$119","v":"SEDUC 2.19"},null,"",{"$error":"#N/A"}]
[null,"SEDUC 2.20","DEMOLICAO DE CONCRETO SIMPLES (Ref. SINAPI 09/2017 - 73616)","M³",null,null,{"$f":"SUM(G124:G125)","v":14.3},null,{"$f":"$B$123","v":"SEDUC 2.20"},null,"",{"$error":"#N/A"}]
["SINAPI",88309,{"$f":"IFERROR(INDEX(INDIRECT(A124&\"!A:D\"),MATCH(B124,INDIRECT(A124&\"!A:A\"),0),2),\"\")","v":""},{"$f":"IFERROR(INDEX(INDIRECT(A124&\"!A:D\"),MATCH(B124,INDIRECT(A124&\"!A:A\"),0),3),\"\")","v":""},{"$f":"IFERROR(INDEX(INDIRECT(A124&\"!A:D\"),MATCH(B124,INDIRECT(A124&\"!A:A\"),0),4),\"\")","v":""},1.3,{"$f":"ROUND(PRODUCT(E124:F124),2)","v":1.3},null,{"$f":"I123","v":"SEDUC 2.20"},null,"",{"$error":"#N/A"}]
["SINAPI",88316,{"$f":"IFERROR(INDEX(INDIRECT(A125&\"!A:D\"),MATCH(B125,INDIRECT(A125&\"!A:A\"),0),2),\"\")","v":""},{"$f":"IFERROR(INDEX(INDIRECT(A125&\"!A:D\"),MATCH(B125,INDIRECT(A125&\"!A:A\"),0),3),\"\")","v":""},{"$f":"IFERROR(INDEX(INDIRECT(A125&\"!A:D\"),MATCH(B125,INDIRECT(A125&\"!A:A\"),0),4),\"\")","v":""},13,{"$f":"ROUND(PRODUCT(E125:F125),2)","v":13},null,{"$f":"I124","v":"SEDUC 2.20"},null,"",{"$error":"#N/A"}]
[null,null,null,null,null,null,null,null,{"$f":"I125","v":"SEDUC 2.20"},null,"",{"$error":"#N/A"}]
[null,"SEDUC 2.21","RETIRADA DE PLACAS DIVISORIAS DE GRANILITE (Ref. SINAPI 07/2017 - 72221)","M²",null,null,{"$f":"SUM(G128:G128)","v":1},null,{"$f":"$B$127","v":"SEDUC 2.21"},null,{"$f":"IF(A127=\"\",\"\",IF(E127=0,\"ERRO\",\"\"))","v":""},{"$error":"#N/A"}]
["SINAPI",88316,{"$f":"IFERROR(INDEX(INDIRECT(A128&\"!A:D\"),MATCH(B128,INDIRECT(A128&\"!A:A\"),0),2),\"\")","v":""},{"$f":"IFERROR(INDEX(INDIRECT(A128&\"!A:D\"),MATCH(B128,INDIRECT(A128&\"!A:A\"),0),3),\"\")","v":""},{"$f":"IFERROR(INDEX(INDIRECT(A128&\"!A:D\"),MATCH(B128,INDIRECT(A128&\"!A:A\"),0),4),\"\")","v":""},1,{"$f":"ROUND(PRODUCT(E128:F128),2)","v":1},null,{"$f":"$B$127","v":"SEDUC 2.21"},null,{"$f":"IF(A128=\"\",\"\",IF(E128=0,\"ERRO\",\"\"))","v":""},{"$error":"#N/A"}]
[null,null,null,null,null,null,null,null,{"$f":"$B$127","v":"SEDUC 2.21"},null,{"$f":"IF(A129=\"\",\"\",IF(E129=0,\"ERRO\",\"\"))","v":""},{"$error":"#N/A"}]
[null,null,null,null,null,null,null,null,null,null,"",{"$error":"#N/A"}]
[null,"SEDUC 3","MOVIMENTO DE TERRA",null,null,null,null,null,{"$f":"$B$131","v":"SEDUC 3"},null,"",{"$error":"#N/A"}]
[null,"SEDUC 3.02","ATERRO COM COMPACTAÇÃO MANUAL SEM CONTROLE (Ref. SEINFRA C0330)","M³",null,null,{"$f":"SUM(G133:G134)","v":2.8},null,{"$f":"$B$132","v":"SEDUC 3.02"},null,"","ATERRAR E COMPACTAR MANUALMENTE CAIXÕES ENTRE BALDRAMES DA EDIFICAÇÃO COM MATERIAL DE EMPRÉSTIMO; DEVE SER EMPREGADO A DEVIDA COMPACTAÇÃO MANUAL DO VOLUME ATERRADO A CADA 25 CM, NO MÁXIMO; AS CAMADAS DEVEM SER MOLHADA E SOCADAS NO INTUITO DE EXPULSAR OS VAZIOS DO SOLO."]
["SINAPI",88316,{"$f":"IFERROR(INDEX(INDIRECT(A133&\"!A:D\"),MATCH(B133,INDIRECT(A133&\"!A:A\"),0),2),\"\")","v":""},{"$f":"IFERROR(INDEX(INDIRECT(A133&\"!A:D\"),MATCH(B133,INDIRECT(A133&\"!A:A\"),0),3),\"\")","v":""},{"$f":"IFERROR(INDEX(INDIRECT(A133&\"!A:D\"),MATCH(B133,INDIRECT(A133&\"!A:A\"),0),4),\"\")","v":""},1.7,{"$f":"ROUND(PRODUCT(E133:F133),2)","v":1.7},null,{"$f":"$B$132","v":"SEDUC 3.02"},null,"",{"$error":"#N/A"}]
["iSINAPI",368,{"$f":"IFERROR(INDEX(INDIRECT(A134&\"!A:D\"),MATCH(B134,INDIRECT(A134&\"!A:A\"),0),2),\"\")","v":""},{"$f":"IFERROR(INDEX(INDIRECT(A134&\"!A:D\"),MATCH(B134,INDIRECT(A134&\"!A:A\"),0),3),\"\")","v":""},{"$f":"IFERROR(INDEX(INDIRECT(A134&\"!A:D\"),MATCH(B134,INDIRECT(A134&\"!A:A\"),0),4),\"\")","v":""},1.1000000000000001,{"$f":"ROUND(PRODUCT(E134:F134),2)","v":1.1000000000000001},null,{"$f":"$B$132","v":"SEDUC 3.02"},null,"",{"$error":"#N/A"}]
[null,null,null,null,null,null,null,null,{"$f":"$B$132","v":"SEDUC 3.02"},null,"",{"$error":"#N/A"}]
[null,"SEDUC 3.03","APILOAMENTO DE PISO OU FUNDO DE VALAS COM MACIÇO DE 30 A 60 KG (Ref. SEINFRA C0095)","M²",null,null,{"$f":"SUM(G137:G137)","v":1.7},null,{"$f":"$B$136","v":"SEDUC 3.03"},null,"","COMPACTAR MANUALMENTE O FUNDO DE VALAS ESCAVADAS A FIM DE REGULARIZAÇÃO  PARA RECEBIMENTO DE LASTRO DE CONCRETO MAGRO."]
["SINAPI",88316,{"$f":"IFERROR(INDEX(INDIRECT(A137&\"!A:D\"),MATCH(B137,INDIRECT(A137&\"!A:A\"),0),2),\"\")","v":""},{"$f":"IFERROR(INDEX(INDIRECT(A137&\"!A:D\"),MATCH(B137,INDIRECT(A137&\"!A:A\"),0),3),\"\")","v":""},{"$f":"IFERROR(INDEX(INDIRECT(A137&\"!A:D\"),MATCH(B137,INDIRECT(A137&\"!A:A\"),0),4),\"\")","v":""},1.7,{"$f":"ROUND(PRODUCT(E137:F137),2)","v":1.7},null,{"$f":"$B$136","v":"SEDUC 3.03"},null,"",{"$error":"#N/A"}]
[null,null,null,null,null,null,null,null,{"$f":"$B$136","v":"SEDUC 3.03"},null,"",{"$error":"#N/A"}]
[null,"SEDUC 3.04","CORTE MANUAL EM TERRA (Ref. SEINFRA C0930)","M³",null,null,{"$f":"SUM(G140:G141)","v":3},null,{"$f":"$B$139","v":"SEDUC 3.04"},null,"",{"$error":"#N/A"}]
["SINAPI",88263,{"$f":"IFERROR(INDEX(INDIRECT(A140&\"!A:D\"),MATCH(B140,INDIRECT(A140&\"!A:A\"),0),2),\"\")","v":""},{"$f":"IFERROR(INDEX(INDIRECT(A140&\"!A:D\"),MATCH(B140,INDIRECT(A140&\"!A:A\"),0),3),\"\")","v":""},{"$f":"IFERROR(INDEX(INDIRECT(A140&\"!A:D\"),MATCH(B140,INDIRECT(A140&\"!A:A\"),0),4),\"\")","v":""},1.5,{"$f":"ROUND(PRODUCT(E140:F140),2)","v":1.5},null,{"$f":"$B$139","v":"SEDUC 3.04"},null,"",{"$error":"#N/A"}]
["SINAPI",88316,{"$f":"IFERROR(INDEX(INDIRECT(A141&\"!A:D\"),MATCH(B141,INDIRECT(A141&\"!A:A\"),0),2),\"\")","v":""},{"$f":"IFERROR(INDEX(INDIRECT(A141&\"!A:D\"),MATCH(B141,INDIRECT(A141&\"!A:A\"),0),3),\"\")","v":""},{"$f":"IFERROR(INDEX(INDIRECT(A141&\"!A:D\"),MATCH(B141,INDIRECT(A141&\"!A:A\"),0),4),\"\")","v":""},1.5,{"$f":"ROUND(PRODUCT(E141:F141),2)","v":1.5},null,{"$f":"$B$139","v":"SEDUC 3.04"},null,"",{"$error":"#N/A"}]
[null,null,null,null,null,null,null,null,{"$f":"$B$139","v":"SEDUC 3.04"},null,"",{"$error":"#N/A"}]
[null,null,null,null,null,null,null,null,null,null,"",{"$error":"#N/A"}]
[null,"SEDUC 4","INFRAESTRUTURA",null,null,null,null,null,{"$f":"$B$144","v":"SEDUC 4"},null,"",{"$error":"#N/A"}]
[null,"SEDUC 4.01","BALDRAME COM BLOCOS CERÂMICOS FURADOS NA HORIZONTAL  DE 14X9X19 (ESPESSURA 14 CM - BLOCO DEITADO) E ARGAMASSA DE ASSENTAMENTO DE PREPARO MECÂNICO","M²",null,null,{"$f":"SUM(G146:G149)","v":59.97},null,{"$f":"$B$145","v":"SEDUC 4.01"},null,"","OS BALDRAMES DEVEM SER EXECUTADOS SOBRE AS VALAS PREENCHIDAS E DEVEM SER COMPOSTOS POR ALVENARIA DE TIJOLOS CERÂMICOS DE 6 FUROS, DIMENSÕES 14 X 9 X 19 CM; OS BLOCOS DEVEM SER DISPOSTOS NA HORIZONTAL DE MODO QUE A ESPESSURA DO BALDRAME RESULTE EM 14 CM; A ARGAMASSA DE ASSENTAMENTO DEVE SER PREPARADA EM BETONEIRA. "]
["iSINAPI",7267,{"$f":"IFERROR(INDEX(INDIRECT(A146&\"!A:D\"),MATCH(B146,INDIRECT(A146&\"!A:A\"),0),2),\"\")","v":""},{"$f":"IFERROR(INDEX(INDIRECT(A146&\"!A:D\"),MATCH(B146,INDIRECT(A146&\"!A:A\"),0),3),\"\")","v":""},{"$f":"IFERROR(INDEX(INDIRECT(A146&\"!A:D\"),MATCH(B146,INDIRECT(A146&\"!A:A\"),0),4),\"\")","v":""},56.62,{"$f":"ROUND(PRODUCT(E146:F146),2)","v":56.62},null,"SEDUC 4.01",null,"",{"$error":"#N/A"}]
["SINAPI",87292,{"$f":"IFERROR(INDEX(INDIRECT(A147&\"!A:D\"),MATCH(B147,INDIRECT(A147&\"!A:A\"),0),2),\"\")","v":""},{"$f":"IFERROR(INDEX(INDIRECT(A147&\"!A:D\"),MATCH(B147,INDIRECT(A147&\"!A:A\"),0),3),\"\")","v":""},{"$f":"IFERROR(INDEX(INDIRECT(A147&\"!A:D\"),MATCH(B147,INDIRECT(A147&\"!A:A\"),0),4),\"\")","v":""},1.4E-2,{"$f":"ROUND(PRODUCT(E147:F147),2)","v":0.01},null,"SEDUC 4.01",null,"",{"$error":"#N/A"}]
["SINAPI",88309,{"$f":"IFERROR(INDEX(INDIRECT(A148&\"!A:D\"),MATCH(B148,INDIRECT(A148&\"!A:A\"),0),2),\"\")","v":""},{"$f":"IFERROR(INDEX(INDIRECT(A148&\"!A:D\"),MATCH(B148,INDIRECT(A148&\"!A:A\"),0),3),\"\")","v":""},{"$f":"IFERROR(INDEX(INDIRECT(A148&\"!A:D\"),MATCH(B148,INDIRECT(A148&\"!A:A\"),0),4),\"\")","v":""},1.5,{"$f":"ROUND(PRODUCT(E148:F148),2)","v":1.5},null,"SEDUC 4.01",null,"",{"$error":"#N/A"}]
["SINAPI",88316,{"$f":"IFERROR(INDEX(INDIRECT(A149&\"!A:D\"),MATCH(B149,INDIRECT(A149&\"!A:A\"),0),2),\"\")","v":""},{"$f":"IFERROR(INDEX(INDIRECT(A149&\"!A:D\"),MATCH(B149,INDIRECT(A149&\"!A:A\"),0),3),\"\")","v":""},{"$f":"IFERROR(INDEX(INDIRECT(A149&\"!A:D\"),MATCH(B149,INDIRECT(A149&\"!A:A\"),0),4),\"\")","v":""},1.84,{"$f":"ROUND(PRODUCT(E149:F149),2)","v":1.84},null,"SEDUC 4.01",null,{"$f":"IF(A149=\"\",\"\",IF(E149=0,\"ERRO\",\"\"))","v":""},{"$error":"#N/A"}]
[null,null,null,null,null,null,null,null,"SEDUC 4.01",null,"",{"$error":"#N/A"}]
[null,"SEDUC 4.02","IMPERMEABILIZAÇÃO DE ALVENARIA DE EMBASAMENTO NO RESPALDO C/ARGAMASSA CIMENTO E AREIA S/ PENEIRAMENTO,\nTRAÇO 1:3, ESP.=2cm C/ ADITIVO IMPERMABILIZANTE","M²",null,null,{"$f":"SUM(G152:G156)","v":11.84},null,{"$f":"$B$151","v":"SEDUC 4.02"},null,"",0]
["iSEINFRA","I0109",{"$f":"IFERROR(INDEX(INDIRECT(A152&\"!A:D\"),MATCH(B152,INDIRECT(A152&\"!A:A\"),0),2),\"\")","v":""},{"$f":"IFERROR(INDEX(INDIRECT(A152&\"!A:D\"),MATCH(B152,INDIRECT(A152&\"!A:A\"),0),3),\"\")","v":""},{"$f":"IFERROR(INDEX(INDIRECT(A152&\"!A:D\"),MATCH(B152,INDIRECT(A152&\"!A:A\"),0),4),\"\")","v":""},2.4299999999999999E-2,{"$f":"ROUND(PRODUCT(E152:F152),2)","v":0.02},null,{"$f":"$B$151","v":"SEDUC 4.02"},null,"",{"$error":"#N/A"}]
["iSEINFRA","I0805",{"$f":"IFERROR(INDEX(INDIRECT(A153&\"!A:D\"),MATCH(B153,INDIRECT(A153&\"!A:A\"),0),2),\"\")","v":""},{"$f":"IFERROR(INDEX(INDIRECT(A153&\"!A:D\"),MATCH(B153,INDIRECT(A153&\"!A:A\"),0),3),\"\")","v":""},{"$f":"IFERROR(INDEX(INDIRECT(A153&\"!A:D\"),MATCH(B153,INDIRECT(A153&\"!A:A\"),0),4),\"\")","v":""},9.7200000000000006,{"$f":"ROUND(PRODUCT(E153:F153),2)","v":9.7200000000000006},null,"SEDUC 4.02",null,"",{"$error":"#N/A"}]
["iSEINFRA","I1249",{"$f":"IFERROR(INDEX(INDIRECT(A154&\"!A:D\"),MATCH(B154,INDIRECT(A154&\"!A:A\"),0),2),\"\")","v":""},{"$f":"IFERROR(INDEX(INDIRECT(A154&\"!A:D\"),MATCH(B154,INDIRECT(A154&\"!A:A\"),0),3),\"\")","v":""},{"$f":"IFERROR(INDEX(INDIRECT(A154&\"!A:D\"),MATCH(B154,INDIRECT(A154&\"!A:A\"),0),4),\"\")","v":""},0.4,{"$f":"ROUND(PRODUCT(E154:F154),2)","v":0.4},null,"SEDUC 4.02",null,"",{"$error":"#N/A"}]
["SINAPI",88309,{"$f":"IFERROR(INDEX(INDIRECT(A155&\"!A:D\"),MATCH(B155,INDIRECT(A155&\"!A:A\"),0),2),\"\")","v":""},{"$f":"IFERROR(INDEX(INDIRECT(A155&\"!A:D\"),MATCH(B155,INDIRECT(A155&\"!A:A\"),0),3),\"\")","v":""},{"$f":"IFERROR(INDEX(INDIRECT(A155&\"!A:D\"),MATCH(B155,INDIRECT(A155&\"!A:A\"),0),4),\"\")","v":""},0.75,{"$f":"ROUND(PRODUCT(E155:F155),2)","v":0.75},null,"SEDUC 4.02",null,"",{"$error":"#N/A"}]
["SINAPI",88316,{"$f":"IFERROR(INDEX(INDIRECT(A156&\"!A:D\"),MATCH(B156,INDIRECT(A156&\"!A:A\"),0),2),\"\")","v":""},{"$f":"IFERROR(INDEX(INDIRECT(A156&\"!A:D\"),MATCH(B156,INDIRECT(A156&\"!A:A\"),0),3),\"\")","v":""},{"$f":"IFERROR(INDEX(INDIRECT(A156&\"!A:D\"),MATCH(B156,INDIRECT(A156&\"!A:A\"),0),4),\"\")","v":""},0.95,{"$f":"ROUND(PRODUCT(E156:F156),2)","v":0.95},null,"SEDUC 4.02",null,"",{"$error":"#N/A"}]
[null,null,null,null,null,null,null,null,"SEDUC 4.02",null,"",{"$error":"#N/A"}]
[null,"SEDUC 5","SUPERESTRUTURA",null,null,null,null,null,{"$f":"$B$158","v":"SEDUC 5"},null,"",{"$error":"#N/A"}]
[null,"SEDUC 5.01","CONCRETO ARMADO DOSADO 20 MPA INCL. MAT P/ 1 M3; PREPARO, LANÇAMENTO, ADENSAMENTO, FÔRMAS E ESCORAMENTO E ARMAÇÃO DE AÇO CA-50. (Ref. SINAPI 73346)","M³",null,null,{"$f":"SUM(G160:G171)","v":88.45},null,{"$f":"$B$159","v":"SEDUC 5.01"},null,"","PREPARAR CONCRETO (CIMENTO CP-II-32, AREIA MÉDIA E BRITA 1) COM BETONEIRA ELÉTRICA DE MODO A GARANTIR A HOMOGENEIZAÇÃO COMPLETA DA MISTURA; LANÇAR CADA COMPONETE NA SEQUÊNCIA ADEQUADRA EM BETONEIRA; A RESISTÊNCIA MÍNIMA CARACTERÍSTICA DEVE SER DE 20 Mpa;  UTILIZAR PEÇAS E TÁBUAS DE MADEIRA DE 2ª A 3º QUALIDADE, NÃO APARELHADAS PARA AS FORMAS; REAPROVEITÁ-LAS EM ATÉ 3 VEZES OBSERVANDO A ESTANQUEIDADE OFERECIDA; LANÇAR CONCRETO MANUALMENTE EVITANDO SEGREGAÇÃO DOS COMPONENTES E RESPEITANDO OS LIMITES MÁXIMOS DE ALTURA DE LANÇAMENTO EM PILARES; DEVE-SE UTILIZAR VIBRADOR PARA O DEVIDO ADENSAMENTO; TODAS AS PEÇAS DE CONCRETO DEVEM SER ARMADAS COM AÇO CA-50 DE MODO QUE SEJAM COMBATIDOS OS ESFORÇOS AOS QUAIS AS PEÇAS ESTÃO SUBMETIDAS."]
["SINAPI",94964,{"$f":"IFERROR(INDEX(INDIRECT(A160&\"!A:D\"),MATCH(B160,INDIRECT(A160&\"!A:A\"),0),2),\"\")","v":""},{"$f":"IFERROR(INDEX(INDIRECT(A160&\"!A:D\"),MATCH(B160,INDIRECT(A160&\"!A:A\"),0),3),\"\")","v":""},{"$f":"IFERROR(INDEX(INDIRECT(A160&\"!A:D\"),MATCH(B160,INDIRECT(A160&\"!A:A\"),0),4),\"\")","v":""},1,{"$f":"ROUND(PRODUCT(E160:F160),2)","v":1},null,{"$f":"$B$159","v":"SEDUC 5.01"},null,"",{"$error":"#N/A"}]
["SINAPI",92873,"","","",1,1,null,"SEDUC 5.01",null,"",{"$error":"#N/A"}]
["SINAPI",92263,"","","",{"$f":"14/4","v":3.5},3.5,null,"SEDUC 5.01",null,"",{"$error":"#N/A"}]
["SINAPI",92412,"","","",14,14,null,"SEDUC 5.01",null,"",{"$error":"#N/A"}]
["SINAPI",88245,"","","",6.15,6.15,null,"SEDUC 5.01",null,"",{"$error":"#N/A"}]
["iSINAPI",27,"","","",5,5,null,"SEDUC 5.01",null,"",{"$error":"#N/A"}]
["iSINAPI",29,"","","",10,10,null,"SEDUC 5.01",null,"",{"$error":"#N/A"}]
["iSINAPI",31,"","","",12,12,null,"SEDUC 5.01",null,"",{"$error":"#N/A"}]
["iSINAPI",32,"","","",10,10,null,"SEDUC 5.01",null,"",{"$error":"#N/A"}]
["iSINAPI",33,"","","",12,12,null,"SEDUC 5.01",null,"",{"$error":"#N/A"}]
["iSINAPI",34,"","","",12,12,null,"SEDUC 5.01",null,"",{"$error":"#N/A"}]
["iSINAPI",34562,"","","",1.8,1.8,null,"SEDUC 5.01",null,"",{"$error":"#N/A"}]
[null,null,null,null,null,null,null,null,"SEDUC 5.01",null,"",{"$error":"#N/A"}]
[null,"SEDUC 5.02","CONCRETO SIMPLES DOSADO 20 MPA INCL. MAT P/ 1 M3; PREPARO, LANÇAMENTO, ADENSAMENTO, FÔRMAS E ESCORAMENTO (Ref. SINAPI 73346)","M³",null,null,{"$f":"SUM(G174:G177)","v":19.5},null,{"$f":"$B$173","v":"SEDUC 5.02"},null,"","PREPARAR CONCRETO (CIMENTO CP-II-32, AREIA MÉDIA E BRITA 1) COM BETONEIRA ELÉTRICA DE MODO A GARANTIR A HOMOGENEIZAÇÃO COMPLETA DA MISTURA; LANÇAR CADA COMPONETE NA SEQUÊNCIA ADEQUADRA EM BETONEIRA; A RESISTÊNCIA MÍNIMA CARACTERÍSTICA DEVE SER DE 20 Mpa;  UTILIZAR PEÇAS E TÁBUAS DE MADEIRA DE 2ª A 3º QUALIDADE, NÃO APARELHADAS PARA AS FORMAS; REAPROVEITÁ-LAS EM ATÉ 3 VEZES OBSERVANDO A ESTANQUEIDADE OFERECIDA; LANÇAR CONCRETO MANUALMENTE EVITANDO SEGREGAÇÃO DOS COMPONENTES E RESPEITANDO OS LIMITES MÁXIMOS DE ALTURA DE LANÇAMENTO EM PILARES; DEVE-SE UTILIZAR VIBRADOR PARA O DEVIDO ADENSAMENTO;"]
["SINAPI",94964,{"$f":"IFERROR(INDEX(INDIRECT(A174&\"!A:D\"),MATCH(B174,INDIRECT(A174&\"!A:A\"),0),2),\"\")","v":""},{"$f":"IFERROR(INDEX(INDIRECT(A174&\"!A:D\"),MATCH(B174,INDIRECT(A174&\"!A:A\"),0),3),\"\")","v":""},{"$f":"IFERROR(INDEX(INDIRECT(A174&\"!A:D\"),MATCH(B174,INDIRECT(A174&\"!A:A\"),0),4),\"\")","v":""},1,{"$f":"ROUND(PRODUCT(E174:F174),2)","v":1},null,"SEDUC 5.02",null,"",{"$error":"#N/A"}]
["SINAPI",92873,{"$f":"IFERROR(INDEX(INDIRECT(A175&\"!A:D\"),MATCH(B175,INDIRECT(A175&\"!A:A\"),0),2),\"\")","v":""},{"$f":"IFERROR(INDEX(INDIRECT(A175&\"!A:D\"),MATCH(B175,INDIRECT(A175&\"!A:A\"),0),3),\"\")","v":""},{"$f":"IFERROR(INDEX(INDIRECT(A175&\"!A:D\"),MATCH(B175,INDIRECT(A175&\"!A:A\"),0),4),\"\")","v":""},1,{"$f":"ROUND(PRODUCT(E175:F175),2)","v":1},null,"SEDUC 5.02",null,"",{"$error":"#N/A"}]
["SINAPI",92263,{"$f":"IFERROR(INDEX(INDIRECT(A176&\"!A:D\"),MATCH(B176,INDIRECT(A176&\"!A:A\"),0),2),\"\")","v":""},{"$f":"IFERROR(INDEX(INDIRECT(A176&\"!A:D\"),MATCH(B176,INDIRECT(A176&\"!A:A\"),0),3),\"\")","v":""},{"$f":"IFERROR(INDEX(INDIRECT(A176&\"!A:D\"),MATCH(B176,INDIRECT(A176&\"!A:A\"),0),4),\"\")","v":""},{"$f":"14/4","v":3.5},{"$f":"ROUND(PRODUCT(E176:F176),2)","v":3.5},null,"SEDUC 5.02",null,"",{"$error":"#N/A"}]
["SINAPI",92412,{"$f":"IFERROR(INDEX(INDIRECT(A177&\"!A:D\"),MATCH(B177,INDIRECT(A177&\"!A:A\"),0),2),\"\")","v":""},{"$f":"IFERROR(INDEX(INDIRECT(A177&\"!A:D\"),MATCH(B177,INDIRECT(A177&\"!A:A\"),0),3),\"\")","v":""},{"$f":"IFERROR(INDEX(INDIRECT(A177&\"!A:D\"),MATCH(B177,INDIRECT(A177&\"!A:A\"),0),4),\"\")","v":""},14,{"$f":"ROUND(PRODUCT(E177:F177),2)","v":14},null,"SEDUC 5.02",null,"",{"$error":"#N/A"}]
[null,null,null,null,{"$f":"'ORÇ. DESON.'!#REF!","v":{"$error":"#REF!"}},null,null,null,"SEDUC 5.02",null,"",{"$error":"#N/A"}]
[null,"SEDUC 5.03","TRATAMENTO DE FISSURAS COM ARGAMASSA DE CIMENTO E AREIA TRAÇO 1:3 COM ADITIVO BIANCO OU SIMILAR (SEÇÃO ATÉ 5 X 5 CM) (Ref. ORSE 4114)","M",null,null,{"$f":"SUM(G180:G182)","v":{"$error":"#REF!"}},null,{"$f":"$B$179","v":"SEDUC 5.03"},null,"",0]
["SINAPI",88309,{"$f":"IFERROR(INDEX(INDIRECT(A180&\"!A:D\"),MATCH(B180,INDIRECT(A180&\"!A:A\"),0),2),\"\")","v":""},{"$f":"IFERROR(INDEX(INDIRECT(A180&\"!A:D\"),MATCH(B180,INDIRECT(A180&\"!A:A\"),0),3),\"\")","v":""},{"$f":"IFERROR(INDEX(INDIRECT(A180&\"!A:D\"),MATCH(B180,INDIRECT(A180&\"!A:A\"),0),4),\"\")","v":""},0.25,{"$f":"ROUND(PRODUCT(E180:F180),2)","v":0.25},null,{"$f":"$B$179","v":"SEDUC 5.03"},null,"",{"$error":"#N/A"}]
["SINAPI",88316,{"$f":"IFERROR(INDEX(INDIRECT(A181&\"!A:D\"),MATCH(B181,INDIRECT(A181&\"!A:A\"),0),2),\"\")","v":""},{"$f":"IFERROR(INDEX(INDIRECT(A181&\"!A:D\"),MATCH(B181,INDIRECT(A181&\"!A:A\"),0),3),\"\")","v":""},{"$f":"IFERROR(INDEX(INDIRECT(A181&\"!A:D\"),MATCH(B181,INDIRECT(A181&\"!A:A\"),0),4),\"\")","v":""},0.5,{"$f":"ROUND(PRODUCT(E181:F181),2)","v":0.5},null,{"$f":"$B$179","v":"SEDUC 5.03"},null,"",{"$error":"#N/A"}]
["SINAPI",73549,null,null,{"$f":"'ORÇ. DESON.'!#REF!","v":{"$error":"#REF!"}},null,{"$f":"ROUND(PRODUCT(E182:F182),2)","v":{"$error":"#REF!"}},null,{"$f":"$B$179","v":"SEDUC 5.03"},null,{"$error":"#REF!"},{"$error":"#N/A"}]
[null,null,null,null,null,null,null,null,{"$f":"$B$179","v":"SEDUC 5.03"},null,"",{"$error":"#N/A"}]
[null,"SEDUC 5.04","COLUNAS PARA SUSTENTAÇÃO DE COBERTURA EM CHAPA METÁLICA DE AÇO CARBONO ASTM-A36, E=3/16\", INCLUSIVE 01 DEMÃO DE PRIMER ANTI-CORROSIVO (Ref. ORSE 04340)","KG",null,null,{"$f":"SUM(G185:G185)","v":1},null,{"$f":"$B$184","v":"SEDUC 5.04"},null,"","FABRICAR E INSTALAR PILARES METÁLICOS TRELIÇADOS PARA COBERTURAS METÁLICAS; INCLUI APLICAÇÃO DE PRIMER;"]
["iORSE",3466,{"$f":"IFERROR(INDEX(INDIRECT(A185&\"!A:D\"),MATCH(B185,INDIRECT(A185&\"!A:A\"),0),2),\"\")","v":""},{"$f":"IFERROR(INDEX(INDIRECT(A185&\"!A:D\"),MATCH(B185,INDIRECT(A185&\"!A:A\"),0),3),\"\")","v":""},{"$f":"IFERROR(INDEX(INDIRECT(A185&\"!A:D\"),MATCH(B185,INDIRECT(A185&\"!A:A\"),0),4),\"\")","v":""},1,{"$f":"ROUND(PRODUCT(E185:F185),2)","v":1},null,{"$f":"$B$184","v":"SEDUC 5.04"},null,"",{"$error":"#N/A"}]
[null,null,null,null,null,null,null,null,{"$f":"$B$184","v":"SEDUC 5.04"},null,"",{"$error":"#N/A"}]
[null,"SEDUC 5.05","CHAPA DE BASE PARA COLUNAS METÁLICAS - DIM. 0,20X0,20M A 0,40X0,40MX3/8\", COM 04 REFORÇOS E ATÉ 08 FURAÇÕES, SOLDADA (Ref. ORSE 08345)","KG",null,null,{"$f":"SUM(G188:G188)","v":1},null,{"$f":"$B$187","v":"SEDUC 5.05"},null,"","EXECUTAR BASE DE LIGAÇÃO DE AÇO ENTRE PILAR METÁLICO E RESPECTIVA FUNDAÇÃO; FIXAÇÃO COM PARAFUSOS."]
["iORSE",8589,{"$f":"IFERROR(INDEX(INDIRECT(A188&\"!A:D\"),MATCH(B188,INDIRECT(A188&\"!A:A\"),0),2),\"\")","v":""},{"$f":"IFERROR(INDEX(INDIRECT(A188&\"!A:D\"),MATCH(B188,INDIRECT(A188&\"!A:A\"),0),3),\"\")","v":""},{"$f":"IFERROR(INDEX(INDIRECT(A188&\"!A:D\"),MATCH(B188,INDIRECT(A188&\"!A:A\"),0),4),\"\")","v":""},1,{"$f":"ROUND(PRODUCT(E188:F188),2)","v":1},null,{"$f":"$B$187","v":"SEDUC 5.05"},null,"",{"$error":"#N/A"}]
[null,null,null,null,null,null,null,null,{"$f":"$B$187","v":"SEDUC 5.05"},null,"",{"$error":"#N/A"}]
[null,"SEDUC 5.06","(COMPOSIÇÃO REPESENTATIVA)CONCRETO ARMADO DOSADO 20 MPA INCL. MAT P/ 1 M3; PREPARO, LANÇAMENTO, ADENSAMENTO, FÔRMAS E ESCORAMENTO E ARMAÇÃO DE AÇO CA-50. (Ref. SINAPI 73346)","M³",null,null,{"$f":"SUM(G192+G194+G200+G215+G216+G214)","v":{"$error":"#REF!"}},null,{"$f":"$B$159","v":"SEDUC 5.01"},null,"","PREPARAR CONCRETO (CIMENTO CP-II-32, AREIA MÉDIA E BRITA 1) COM BETONEIRA ELÉTRICA DE MODO A GARANTIR A HOMOGENEIZAÇÃO COMPLETA DA MISTURA; LANÇAR CADA COMPONETE NA SEQUÊNCIA ADEQUADRA EM BETONEIRA; A RESISTÊNCIA MÍNIMA CARACTERÍSTICA DEVE SER DE 20 Mpa;  UTILIZAR PEÇAS E TÁBUAS DE MADEIRA DE 2ª A 3º QUALIDADE, NÃO APARELHADAS PARA AS FORMAS; REAPROVEITÁ-LAS EM ATÉ 3 VEZES OBSERVANDO A ESTANQUEIDADE OFERECIDA; LANÇAR CONCRETO MANUALMENTE EVITANDO SEGREGAÇÃO DOS COMPONENTES E RESPEITANDO OS LIMITES MÁXIMOS DE ALTURA DE LANÇAMENTO EM PILARES; DEVE-SE UTILIZAR VIBRADOR PARA O DEVIDO ADENSAMENTO; TODAS AS PEÇAS DE CONCRETO DEVEM SER ARMADAS COM AÇO CA-50 DE MODO QUE SEJAM COMBATIDOS OS ESFORÇOS AOS QUAIS AS PEÇAS ESTÃO SUBMETIDAS."]
[]
["SINAPI",94963,{"$f":"IFERROR(INDEX(INDIRECT(A192&\"!A:D\"),MATCH(B192,INDIRECT(A192&\"!A:A\"),0),2),\"\")","v":""},{"$f":"IFERROR(INDEX(INDIRECT(A192&\"!A:D\"),MATCH(B192,INDIRECT(A192&\"!A:A\"),0),3),\"\")","v":""},{"$f":"IFERROR(INDEX(INDIRECT(A192&\"!A:D\"),MATCH(B192,INDIRECT(A192&\"!A:A\"),0),4),\"\")","v":""},1,{"$f":"ROUND(PRODUCT(E192:F192),2)","v":1},null,{"$f":"$B$159","v":"SEDUC 5.01"},null,""]
[]
[null,null,"LANÇAMENTO DE CONCRETO SIMPLES FABRICADO NA OBRA, INCLUSIVE ADENSAMENTO E ACABAMENTO EM PEÇAS DA SUPERESTRUTURA (Ref. ORSE 07692 - Dez/2018)","M³",{"$f":"SUM(G195:G198)","v":{"$error":"#REF!"}},1,{"$f":"ROUND(PRODUCT(E194:F194),2)","v":{"$error":"#REF!"}},null,{"$f":"$B$159","v":"SEDUC 5.01"},null,""]
["SINAPI",88316,null,null,{"$f":"'ORÇ. DESON.'!#REF!","v":{"$error":"#REF!"}},null,{"$f":"ROUND(PRODUCT(E195:F195),2)","v":{"$error":"#REF!"}},null,{"$f":"$B$159","v":"SEDUC 5.01"},null,{"$error":"#REF!"}]
["SINAPI",88309,{"$f":"IFERROR(INDEX(INDIRECT(A196&\"!A:D\"),MATCH(B196,INDIRECT(A196&\"!A:A\"),0),2),\"\")","v":""},{"$f":"IFERROR(INDEX(INDIRECT(A196&\"!A:D\"),MATCH(B196,INDIRECT(A196&\"!A:A\"),0),3),\"\")","v":""},{"$f":"IFERROR(INDEX(INDIRECT(A196&\"!A:D\"),MATCH(B196,INDIRECT(A196&\"!A:A\"),0),4),\"\")","v":""},0.36,{"$f":"ROUND(PRODUCT(E196:F196),2)","v":0.36},null,{"$f":"$B$159","v":"SEDUC 5.01"},null,""]
["SINAPI",88262,{"$f":"IFERROR(INDEX(INDIRECT(A197&\"!A:D\"),MATCH(B197,INDIRECT(A197&\"!A:A\"),0),2),\"\")","v":""},{"$f":"IFERROR(INDEX(INDIRECT(A197&\"!A:D\"),MATCH(B197,INDIRECT(A197&\"!A:A\"),0),3),\"\")","v":""},{"$f":"IFERROR(INDEX(INDIRECT(A197&\"!A:D\"),MATCH(B197,INDIRECT(A197&\"!A:A\"),0),4),\"\")","v":""},0.36,{"$f":"ROUND(PRODUCT(E197:F197),2)","v":0.36},null,{"$f":"$B$159","v":"SEDUC 5.01"},null,""]
["SINAPI",88245,{"$f":"IFERROR(INDEX(INDIRECT(A198&\"!A:D\"),MATCH(B198,INDIRECT(A198&\"!A:A\"),0),2),\"\")","v":""},{"$f":"IFERROR(INDEX(INDIRECT(A198&\"!A:D\"),MATCH(B198,INDIRECT(A198&\"!A:A\"),0),3),\"\")","v":""},{"$f":"IFERROR(INDEX(INDIRECT(A198&\"!A:D\"),MATCH(B198,INDIRECT(A198&\"!A:A\"),0),4),\"\")","v":""},0.18,{"$f":"ROUND(PRODUCT(E198:F198),2)","v":0.18},null,{"$f":"$B$159","v":"SEDUC 5.01"},null,""]
[]
[null,null,"FORMA PLANA PARA ESTRUTURAS, EM COMPENSADO RESINADO DE 12MM, 05 USOS, INCLUSIVE ESCORAMENTO - REVISADA 07..2015","M²",{"$f":"SUM(G201:G210)","v":5.29},{"$f":"14/5","v":2.8},{"$f":"ROUND(PRODUCT(E200:F200),2)","v":14.81}]
["SINAPI",88262,{"$f":"IFERROR(INDEX(INDIRECT(A201&\"!A:D\"),MATCH(B201,INDIRECT(A201&\"!A:A\"),0),2),\"\")","v":""},{"$f":"IFERROR(INDEX(INDIRECT(A201&\"!A:D\"),MATCH(B201,INDIRECT(A201&\"!A:A\"),0),3),\"\")","v":""},{"$f":"IFERROR(INDEX(INDIRECT(A201&\"!A:D\"),MATCH(B201,INDIRECT(A201&\"!A:A\"),0),4),\"\")","v":""},0.97299999999999998,{"$f":"ROUND(PRODUCT(E201:F201),2)","v":0.97}]
["SINAPI",88316,"","","",1.35,1.35]
["iSINAPI",1347,"","","",0.23400000000000001,0.23]
["iSINAPI",4513,"","","",1.2270000000000001,1.23]
["iSINAPI",333,"","","",0.15,0.15]
["iSINAPI",2692,"","","",0.02,0.02]
["iSINAPI",4509,"","","",1.089,1.0900000000000001]
["iSINAPI",5068,"","","",2.5000000000000001E-2,0.03]
["iSINAPI",5069,"","","",0.1,0.1]
["iSINAPI",6193,"","","",0.122,0.12]
[]
[]
["SINAPI",92263,{"$f":"IFERROR(INDEX(INDIRECT(A213&\"!A:D\"),MATCH(B213,INDIRECT(A213&\"!A:A\"),0),2),\"\")","v":""},{"$f":"IFERROR(INDEX(INDIRECT(A213&\"!A:D\"),MATCH(B213,INDIRECT(A213&\"!A:A\"),0),3),\"\")","v":""},{"$f":"IFERROR(INDEX(INDIRECT(A213&\"!A:D\"),MATCH(B213,INDIRECT(A213&\"!A:A\"),0),4),\"\")","v":""},{"$f":"14/4","v":3.5},{"$f":"ROUND(PRODUCT(E213:F213),2)","v":3.5},null,{"$f":"$B$159","v":"SEDUC 5.01"},null,"",{"$error":"#N/A"}]
["SINAPI",92419,{"$f":"IFERROR(INDEX(INDIRECT(A214&\"!A:D\"),MATCH(B214,INDIRECT(A214&\"!A:A\"),0),2),\"\")","v":""},{"$f":"IFERROR(INDEX(INDIRECT(A214&\"!A:D\"),MATCH(B214,INDIRECT(A214&\"!A:A\"),0),3),\"\")","v":""},{"$f":"IFERROR(INDEX(INDIRECT(A214&\"!A:D\"),MATCH(B214,INDIRECT(A214&\"!A:A\"),0),4),\"\")","v":""},{"$f":"14/5","v":2.8},{"$f":"ROUND(PRODUCT(E214:F214),2)","v":2.8},{"$f":"H215/G190","v":{"$error":"#REF!"}},{"$f":"$B$159","v":"SEDUC 5.01"},null,"",{"$error":"#N/A"}]
["SINAPI",92777,{"$f":"IFERROR(INDEX(INDIRECT(A215&\"!A:D\"),MATCH(B215,INDIRECT(A215&\"!A:A\"),0),2),\"\")","v":""},{"$f":"IFERROR(INDEX(INDIRECT(A215&\"!A:D\"),MATCH(B215,INDIRECT(A215&\"!A:A\"),0),3),\"\")","v":""},{"$f":"IFERROR(INDEX(INDIRECT(A215&\"!A:D\"),MATCH(B215,INDIRECT(A215&\"!A:A\"),0),4),\"\")","v":""},52.66,{"$f":"ROUND(PRODUCT(E215:F215),2)","v":52.66},{"$f":"G215+G216","v":68.06},{"$f":"$B$159","v":"SEDUC 5.01"},null,"",{"$error":"#N/A"}]
["SINAPI",92775,{"$f":"IFERROR(INDEX(INDIRECT(A216&\"!A:D\"),MATCH(B216,INDIRECT(A216&\"!A:A\"),0),2),\"\")","v":""},{"$f":"IFERROR(INDEX(INDIRECT(A216&\"!A:D\"),MATCH(B216,INDIRECT(A216&\"!A:A\"),0),3),\"\")","v":""},{"$f":"IFERROR(INDEX(INDIRECT(A216&\"!A:D\"),MATCH(B216,INDIRECT(A216&\"!A:A\"),0),4),\"\")","v":""},15.4,{"$f":"ROUND(PRODUCT(E216:F216),2)","v":15.4},null,{"$f":"$B$159","v":"SEDUC 5.01"},null,"",{"$error":"#N/A"}]
[]
[]
[]
[]
[]
[null,null,null,null,null,null,null,null,null,null,"",{"$error":"#N/A"}]
[null,"SEDUC 6","PAREDES E DIVISÓRIAS",null,null,null,null,null,{"$f":"$B$223","v":"SEDUC 6"},null,"",{"$error":"#N/A"}]
[null,"SEDUC 6.01","ALVENARIA EM TIJOLO CERAMICO FURADO 9X14X19CM, E = 9 CM, ASSENTADO EM ARGAMASSA TRACO 1:4, PREPARO MANUAL, JUNTA 1 CM (REF. SINAPI 73935/5 JAN 2014)","M²",null,null,{"$f":"SUM(G225:G228)","v":33.409999999999997},null,{"$f":"$B$224","v":"SEDUC 6.01"},null,"","UTILIZAR BLOCOS CERÂMICOS COM FUROS NA HORIZONTAL DE DIMENSÃO 9x14x19 CM (ESPESSURA DE 9CM) PARA COMPOSIÇÃO DE PAREDEM EM ALVENARIA; JUNTAS DE ARGAMASSA PREPADADA MANUALMENTE E ESPESSURA DE 10 MM; RECOMENDA-SE A UTILIZAÇÃO DE PALHETA OU BISNADA PARA A APLICAÇÃO DA ARGAMASSA."]
["iSINAPI",7267,{"$f":"IFERROR(INDEX(INDIRECT(A225&\"!A:D\"),MATCH(B225,INDIRECT(A225&\"!A:A\"),0),2),\"\")","v":""},{"$f":"IFERROR(INDEX(INDIRECT(A225&\"!A:D\"),MATCH(B225,INDIRECT(A225&\"!A:A\"),0),3),\"\")","v":""},{"$f":"IFERROR(INDEX(INDIRECT(A225&\"!A:D\"),MATCH(B225,INDIRECT(A225&\"!A:A\"),0),4),\"\")","v":""},31,{"$f":"ROUND(PRODUCT(E225:F225),2)","v":31},null,"SEDUC 6.01",null,"",{"$error":"#N/A"}]
["SINAPI",88631,{"$f":"IFERROR(INDEX(INDIRECT(A226&\"!A:D\"),MATCH(B226,INDIRECT(A226&\"!A:A\"),0),2),\"\")","v":""},{"$f":"IFERROR(INDEX(INDIRECT(A226&\"!A:D\"),MATCH(B226,INDIRECT(A226&\"!A:A\"),0),3),\"\")","v":""},{"$f":"IFERROR(INDEX(INDIRECT(A226&\"!A:D\"),MATCH(B226,INDIRECT(A226&\"!A:A\"),0),4),\"\")","v":""},1.4E-2,{"$f":"ROUND(PRODUCT(E226:F226),2)","v":0.01},null,"SEDUC 6.01",null,"",{"$error":"#N/A"}]
["SINAPI",88309,{"$f":"IFERROR(INDEX(INDIRECT(A227&\"!A:D\"),MATCH(B227,INDIRECT(A227&\"!A:A\"),0),2),\"\")","v":""},{"$f":"IFERROR(INDEX(INDIRECT(A227&\"!A:D\"),MATCH(B227,INDIRECT(A227&\"!A:A\"),0),3),\"\")","v":""},{"$f":"IFERROR(INDEX(INDIRECT(A227&\"!A:D\"),MATCH(B227,INDIRECT(A227&\"!A:A\"),0),4),\"\")","v":""},1.2,{"$f":"ROUND(PRODUCT(E227:F227),2)","v":1.2},null,"SEDUC 6.01",null,"",{"$error":"#N/A"}]
["SINAPI",88316,{"$f":"IFERROR(INDEX(INDIRECT(A228&\"!A:D\"),MATCH(B228,INDIRECT(A228&\"!A:A\"),0),2),\"\")","v":""},{"$f":"IFERROR(INDEX(INDIRECT(A228&\"!A:D\"),MATCH(B228,INDIRECT(A228&\"!A:A\"),0),3),\"\")","v":""},{"$f":"IFERROR(INDEX(INDIRECT(A228&\"!A:D\"),MATCH(B228,INDIRECT(A228&\"!A:A\"),0),4),\"\")","v":""},1.2,{"$f":"ROUND(PRODUCT(E228:F228),2)","v":1.2},null,"SEDUC 6.01",null,"",{"$error":"#N/A"}]
[null,null,null,null,null,null,null,null,"SEDUC 6.01",null,"",{"$error":"#N/A"}]
[null,"SEDUC 6.03","ALVENARIA DE TIJOLOS MACIÇOS APARENTES (23 X 11 X 5,5) CM COM ARGAMASSA DE PREPARO MANUAL; ESP = 11 CM (Ref. SEINFRAC3614)","M²",null,null,{"$f":"SUM(G231:G234)","v":90.19},null,{"$f":"$B$230","v":"SEDUC 6.03"},null,"",0]
["SINAPI",88309,{"$f":"IFERROR(INDEX(INDIRECT(A231&\"!A:D\"),MATCH(B231,INDIRECT(A231&\"!A:A\"),0),2),\"\")","v":""},{"$f":"IFERROR(INDEX(INDIRECT(A231&\"!A:D\"),MATCH(B231,INDIRECT(A231&\"!A:A\"),0),3),\"\")","v":""},{"$f":"IFERROR(INDEX(INDIRECT(A231&\"!A:D\"),MATCH(B231,INDIRECT(A231&\"!A:A\"),0),4),\"\")","v":""},1.6,{"$f":"ROUND(PRODUCT(E231:F231),2)","v":1.6},null,"SEDUC 6.03",null,"",{"$error":"#N/A"}]
["SINAPI",88316,{"$f":"IFERROR(INDEX(INDIRECT(A232&\"!A:D\"),MATCH(B232,INDIRECT(A232&\"!A:A\"),0),2),\"\")","v":""},{"$f":"IFERROR(INDEX(INDIRECT(A232&\"!A:D\"),MATCH(B232,INDIRECT(A232&\"!A:A\"),0),3),\"\")","v":""},{"$f":"IFERROR(INDEX(INDIRECT(A232&\"!A:D\"),MATCH(B232,INDIRECT(A232&\"!A:A\"),0),4),\"\")","v":""},1.6,{"$f":"ROUND(PRODUCT(E232:F232),2)","v":1.6},null,"SEDUC 6.03",null,"",{"$error":"#N/A"}]
["SINAPI",88630,{"$f":"IFERROR(INDEX(INDIRECT(A233&\"!A:D\"),MATCH(B233,INDIRECT(A233&\"!A:A\"),0),2),\"\")","v":""},{"$f":"IFERROR(INDEX(INDIRECT(A233&\"!A:D\"),MATCH(B233,INDIRECT(A233&\"!A:A\"),0),3),\"\")","v":""},{"$f":"IFERROR(INDEX(INDIRECT(A233&\"!A:D\"),MATCH(B233,INDIRECT(A233&\"!A:A\"),0),4),\"\")","v":""},2.5000000000000001E-2,{"$f":"ROUND(PRODUCT(E233:F233),2)","v":0.03},null,"SEDUC 6.03",null,"",{"$error":"#N/A"}]
["iSINAPI",34401,{"$f":"IFERROR(INDEX(INDIRECT(A234&\"!A:D\"),MATCH(B234,INDIRECT(A234&\"!A:A\"),0),2),\"\")","v":""},{"$f":"IFERROR(INDEX(INDIRECT(A234&\"!A:D\"),MATCH(B234,INDIRECT(A234&\"!A:A\"),0),3),\"\")","v":""},{"$f":"IFERROR(INDEX(INDIRECT(A234&\"!A:D\"),MATCH(B234,INDIRECT(A234&\"!A:A\"),0),4),\"\")","v":""},86.96,{"$f":"ROUND(PRODUCT(E234:F234),2)","v":86.96},null,"SEDUC 6.03",null,"",{"$error":"#N/A"}]
[null,null,null,null,null,null,null,null,"SEDUC 6.03",null,"",{"$error":"#N/A"}]
[null,null,null,null,null,null,null,null,null,null,{"$f":"IF(A236=\"\",\"\",IF(E236=0,\"ERRO\",\"\"))","v":""},{"$error":"#N/A"}]
[null,"SEDUC 7","COBERTURAS",null,null,null,null,null,{"$f":"$B$237","v":"SEDUC 7"},null,"",{"$error":"#N/A"}]
[null,"SEDUC 7.01","REMOÇÃO E REASSENTAMENTO DE TELHA TRAPEZOIDAL EM ALUMÍNIO (Ref. ORSE 3145)","M²",null,null,{"$f":"SUM(G239:G240)","v":1.5},null,{"$f":"$B$238","v":"SEDUC 7.01"},null,"","REMOVER TELHAS EM ALUMÍNIO EXISTENTES NA EDIFICAÇÃO COM PRESERVAÇÃO DA INTEGRIDADE DAS PEÇAS; ESTAS DEVEM PERMANECER EM SEGURANÇA NO CANTEIRO E, POSTERIORMENTE, SEREM REALOCADAS NA MESMA OU EM OUTRA ESTRUTURA DE TELHADO, A DEPENDER DA ADMINISTRAÇÃO."]
["SINAPI",88262,{"$f":"IFERROR(INDEX(INDIRECT(A239&\"!A:D\"),MATCH(B239,INDIRECT(A239&\"!A:A\"),0),2),\"\")","v":""},{"$f":"IFERROR(INDEX(INDIRECT(A239&\"!A:D\"),MATCH(B239,INDIRECT(A239&\"!A:A\"),0),3),\"\")","v":""},{"$f":"IFERROR(INDEX(INDIRECT(A239&\"!A:D\"),MATCH(B239,INDIRECT(A239&\"!A:A\"),0),4),\"\")","v":""},0.5,{"$f":"ROUND(PRODUCT(E239:F239),2)","v":0.5},null,{"$f":"$B$238","v":"SEDUC 7.01"},null,"",{"$error":"#N/A"}]
["SINAPI",88316,{"$f":"IFERROR(INDEX(INDIRECT(A240&\"!A:D\"),MATCH(B240,INDIRECT(A240&\"!A:A\"),0),2),\"\")","v":""},{"$f":"IFERROR(INDEX(INDIRECT(A240&\"!A:D\"),MATCH(B240,INDIRECT(A240&\"!A:A\"),0),3),\"\")","v":""},{"$f":"IFERROR(INDEX(INDIRECT(A240&\"!A:D\"),MATCH(B240,INDIRECT(A240&\"!A:A\"),0),4),\"\")","v":""},1,{"$f":"ROUND(PRODUCT(E240:F240),2)","v":1},null,{"$f":"$B$238","v":"SEDUC 7.01"},null,"",{"$error":"#N/A"}]
[null,null,null,null,null,null,null,null,{"$f":"$B$238","v":"SEDUC 7.01"},null,"",{"$error":"#N/A"}]
[null,"SEDUC 7.02","REVISÃO GERAL DE TELHADOS (Ref. SINAPI 72101 - Fev 2015)","M²",null,null,{"$f":"SUM(G243:G244)","v":0.4},null,{"$f":"$B$242","v":"SEDUC 7.02"},null,"","TAL SERVIÇO CONSISTE NA CUIDADOSA INSPEÇÃO EM COBERTURAS COM TELHAS CERÂMICAS PARA A RETIRDA DE GOTEIRAS, ALÉM DO REPOSICIONAMENTO DE TELHAS ÍNTEGRAS E RETIRADAS DE PEÇAS DANIFICADAS; NÃO INCLUSA COLOCAÇÃO DE NOVAS TELHAS."]
["SINAPI",88323,{"$f":"IFERROR(INDEX(INDIRECT(A243&\"!A:D\"),MATCH(B243,INDIRECT(A243&\"!A:A\"),0),2),\"\")","v":""},{"$f":"IFERROR(INDEX(INDIRECT(A243&\"!A:D\"),MATCH(B243,INDIRECT(A243&\"!A:A\"),0),3),\"\")","v":""},{"$f":"IFERROR(INDEX(INDIRECT(A243&\"!A:D\"),MATCH(B243,INDIRECT(A243&\"!A:A\"),0),4),\"\")","v":""},0.1,{"$f":"ROUND(PRODUCT(E243:F243),2)","v":0.1},null,{"$f":"$B$242","v":"SEDUC 7.02"},null,"",{"$error":"#N/A"}]
["SINAPI",88316,{"$f":"IFERROR(INDEX(INDIRECT(A244&\"!A:D\"),MATCH(B244,INDIRECT(A244&\"!A:A\"),0),2),\"\")","v":""},{"$f":"IFERROR(INDEX(INDIRECT(A244&\"!A:D\"),MATCH(B244,INDIRECT(A244&\"!A:A\"),0),3),\"\")","v":""},{"$f":"IFERROR(INDEX(INDIRECT(A244&\"!A:D\"),MATCH(B244,INDIRECT(A244&\"!A:A\"),0),4),\"\")","v":""},0.3,{"$f":"ROUND(PRODUCT(E244:F244),2)","v":0.3},null,{"$f":"$B$242","v":"SEDUC 7.02"},null,"",{"$error":"#N/A"}]
[null,null,null,null,null,null,null,null,{"$f":"$B$242","v":"SEDUC 7.02"},null,"",{"$error":"#N/A"}]
[null,"SEDUC 7.03","REVISÃO GERAL DE TELHADOS E TELHAMENTO EM ATÉ 10% DE PEÇAS NOVAS. (Ref. SINAPI 94201; SINAPI 72101 - Fev 2015)","M²",null,null,{"$f":"SUM(G247:G249)","v":0.5},null,{"$f":"$B$246","v":"SEDUC 7.03"},null,"","TAL SERVIÇO CONSISTE NA CUIDADOSA INSPEÇÃO EM COBERTURAS COM TELHAS CERÂMICAS PARA A RETIRDA DE GOTEIRAS, ALÉM DO REPOSICIONAMENTO DE TELHAS ÍNTEGRAS E RETIRADAS DE PEÇAS DANIFICADAS; RECOMPOR TELHAS DEFEITUOSAS COM NOVAS PEÇAS, CONSIDERANDO NECESSIDADE EM 10% DA ÁREA; ADOTAR PEÇAS SEMELHANTES ÀS EXISTENTES."]
["SINAPI",88323,{"$f":"IFERROR(INDEX(INDIRECT(A247&\"!A:D\"),MATCH(B247,INDIRECT(A247&\"!A:A\"),0),2),\"\")","v":""},{"$f":"IFERROR(INDEX(INDIRECT(A247&\"!A:D\"),MATCH(B247,INDIRECT(A247&\"!A:A\"),0),3),\"\")","v":""},{"$f":"IFERROR(INDEX(INDIRECT(A247&\"!A:D\"),MATCH(B247,INDIRECT(A247&\"!A:A\"),0),4),\"\")","v":""},0.1,{"$f":"ROUND(PRODUCT(E247:F247),2)","v":0.1},null,{"$f":"$B$246","v":"SEDUC 7.03"},null,"",{"$error":"#N/A"}]
["SINAPI",88316,{"$f":"IFERROR(INDEX(INDIRECT(A248&\"!A:D\"),MATCH(B248,INDIRECT(A248&\"!A:A\"),0),2),\"\")","v":""},{"$f":"IFERROR(INDEX(INDIRECT(A248&\"!A:D\"),MATCH(B248,INDIRECT(A248&\"!A:A\"),0),3),\"\")","v":""},{"$f":"IFERROR(INDEX(INDIRECT(A248&\"!A:D\"),MATCH(B248,INDIRECT(A248&\"!A:A\"),0),4),\"\")","v":""},0.3,{"$f":"ROUND(PRODUCT(E248:F248),2)","v":0.3},null,{"$f":"$B$246","v":"SEDUC 7.03"},null,"",{"$error":"#N/A"}]
["SINAPI",94201,{"$f":"IFERROR(INDEX(INDIRECT(A249&\"!A:D\"),MATCH(B249,INDIRECT(A249&\"!A:A\"),0),2),\"\")","v":""},{"$f":"IFERROR(INDEX(INDIRECT(A249&\"!A:D\"),MATCH(B249,INDIRECT(A249&\"!A:A\"),0),3),\"\")","v":""},{"$f":"IFERROR(INDEX(INDIRECT(A249&\"!A:D\"),MATCH(B249,INDIRECT(A249&\"!A:A\"),0),4),\"\")","v":""},0.1,{"$f":"ROUND(PRODUCT(E249:F249),2)","v":0.1},null,{"$f":"$B$246","v":"SEDUC 7.03"},null,"",{"$error":"#N/A"}]
[null,null,null,null,null,null,null,null,{"$f":"$B$246","v":"SEDUC 7.03"},null,"",{"$error":"#N/A"}]
[null,"SEDUC 7.05","RETELHAMENTO COM TELHA CERÂMICA ATÉ 20% NOVA (Ref. SEINFRA C2200)","M²",null,null,{"$f":"SUM(G252:G254)","v":2.21},null,{"$f":"$B$251","v":"SEDUC 7.05"},null,"","RETIRAR TODAS AS TELHAS EXISTENTES, LAVÁ-LAS E REAPLICÁ-LAS SOBRE A TRAMA, CONSIDERANDO QUE 20% DAS PEÇAS DEVAM SER SUBSTITUÍDAS POR NOVAS; UTILIZAR PEÇAS ÍNTEGRAS E RESISTENTES SEMELHANTES ÀS EXISTENTES NA EDIFICAÇÃO."]
["SINAPI",88316,{"$f":"IFERROR(INDEX(INDIRECT(A252&\"!A:D\"),MATCH(B252,INDIRECT(A252&\"!A:A\"),0),2),\"\")","v":""},{"$f":"IFERROR(INDEX(INDIRECT(A252&\"!A:D\"),MATCH(B252,INDIRECT(A252&\"!A:A\"),0),3),\"\")","v":""},{"$f":"IFERROR(INDEX(INDIRECT(A252&\"!A:D\"),MATCH(B252,INDIRECT(A252&\"!A:A\"),0),4),\"\")","v":""},1.1000000000000001,{"$f":"ROUND(PRODUCT(E252:F252),2)","v":1.1000000000000001},null,{"$f":"$B$251","v":"SEDUC 7.05"},null,"",{"$error":"#N/A"}]
["SINAPI",88309,{"$f":"IFERROR(INDEX(INDIRECT(A253&\"!A:D\"),MATCH(B253,INDIRECT(A253&\"!A:A\"),0),2),\"\")","v":""},{"$f":"IFERROR(INDEX(INDIRECT(A253&\"!A:D\"),MATCH(B253,INDIRECT(A253&\"!A:A\"),0),3),\"\")","v":""},{"$f":"IFERROR(INDEX(INDIRECT(A253&\"!A:D\"),MATCH(B253,INDIRECT(A253&\"!A:A\"),0),4),\"\")","v":""},1.1000000000000001,{"$f":"ROUND(PRODUCT(E253:F253),2)","v":1.1000000000000001},null,{"$f":"$B$251","v":"SEDUC 7.05"},null,"",{"$error":"#N/A"}]
["iSINAPI",7173,{"$f":"IFERROR(INDEX(INDIRECT(A254&\"!A:D\"),MATCH(B254,INDIRECT(A254&\"!A:A\"),0),2),\"\")","v":""},{"$f":"IFERROR(INDEX(INDIRECT(A254&\"!A:D\"),MATCH(B254,INDIRECT(A254&\"!A:A\"),0),3),\"\")","v":""},{"$f":"IFERROR(INDEX(INDIRECT(A254&\"!A:D\"),MATCH(B254,INDIRECT(A254&\"!A:A\"),0),4),\"\")","v":""},{"$f":"6/1000","v":6.0000000000000001E-3},{"$f":"ROUND(PRODUCT(E254:F254),2)","v":0.01},null,{"$f":"$B$251","v":"SEDUC 7.05"},null,"",{"$error":"#N/A"}]
[null,null,null,null,null,null,null,null,{"$f":"$B$251","v":"SEDUC 7.05"},null,"",{"$error":"#N/A"}]
[null,"SEDUC 7.06","RETELHAMENTO COM TELHA CERÂMICA ATÉ 50% NOVA (Ref. SEINFRA C2201)","M²",null,null,{"$f":"SUM(G257:G259)","v":2.2200000000000002},null,{"$f":"$B$256","v":"SEDUC 7.06"},null,"","RETIRAR TODAS AS TELHAS EXISTENTES, LAVÁ-LAS E REAPLICÁ-LAS SOBRE A TRAMA, CONSIDERANDO QUE 50% DAS PEÇAS DEVAM SER SUBSTITUÍDAS POR NOVAS; UTILIZAR PEÇAS ÍNTEGRAS E RESISTENTES SEMELHANTES ÀS EXISTENTES NA EDIFICAÇÃO."]
["SINAPI",88316,{"$f":"IFERROR(INDEX(INDIRECT(A257&\"!A:D\"),MATCH(B257,INDIRECT(A257&\"!A:A\"),0),2),\"\")","v":""},{"$f":"IFERROR(INDEX(INDIRECT(A257&\"!A:D\"),MATCH(B257,INDIRECT(A257&\"!A:A\"),0),3),\"\")","v":""},{"$f":"IFERROR(INDEX(INDIRECT(A257&\"!A:D\"),MATCH(B257,INDIRECT(A257&\"!A:A\"),0),4),\"\")","v":""},1.1000000000000001,{"$f":"ROUND(PRODUCT(E257:F257),2)","v":1.1000000000000001},null,{"$f":"$B$256","v":"SEDUC 7.06"},null,"",{"$error":"#N/A"}]
["SINAPI",88309,{"$f":"IFERROR(INDEX(INDIRECT(A258&\"!A:D\"),MATCH(B258,INDIRECT(A258&\"!A:A\"),0),2),\"\")","v":""},{"$f":"IFERROR(INDEX(INDIRECT(A258&\"!A:D\"),MATCH(B258,INDIRECT(A258&\"!A:A\"),0),3),\"\")","v":""},{"$f":"IFERROR(INDEX(INDIRECT(A258&\"!A:D\"),MATCH(B258,INDIRECT(A258&\"!A:A\"),0),4),\"\")","v":""},1.1000000000000001,{"$f":"ROUND(PRODUCT(E258:F258),2)","v":1.1000000000000001},null,{"$f":"$B$256","v":"SEDUC 7.06"},null,"",{"$error":"#N/A"}]
["iSINAPI",7173,{"$f":"IFERROR(INDEX(INDIRECT(A259&\"!A:D\"),MATCH(B259,INDIRECT(A259&\"!A:A\"),0),2),\"\")","v":""},{"$f":"IFERROR(INDEX(INDIRECT(A259&\"!A:D\"),MATCH(B259,INDIRECT(A259&\"!A:A\"),0),3),\"\")","v":""},{"$f":"IFERROR(INDEX(INDIRECT(A259&\"!A:D\"),MATCH(B259,INDIRECT(A259&\"!A:A\"),0),4),\"\")","v":""},{"$f":"15/1000","v":1.4999999999999999E-2},{"$f":"ROUND(PRODUCT(E259:F259),2)","v":0.02},null,{"$f":"$B$256","v":"SEDUC 7.06"},null,"",{"$error":"#N/A"}]
[null,null,null,null,null,null,null,null,{"$f":"$B$256","v":"SEDUC 7.06"},null,"",{"$error":"#N/A"}]
[null,"SEDUC 7.07","RUFO DE CONCRETO ARMADO FCK=20MPA E H=5CM (Ref. ORSE 304)","M",null,null,{"$f":"SUM(G262:G271)","v":5.95},null,{"$f":"$B$261","v":"SEDUC 7.07"},null,"","EXECUTAR RUFO DE CONCRETO ARMADO DE FCK MAIOR OU IGUAL A 20 MPA NOS ENCONTROS ENTRE TELHADOS E PLATIBANDAS; DISPOR DE MODO A EVITAR A ENTRADA DE ÁGUAS PLUVIAIS EM TAIS ENCONTROS."]
["SINAPI","73990/1",{"$f":"IFERROR(INDEX(INDIRECT(A262&\"!A:D\"),MATCH(B262,INDIRECT(A262&\"!A:A\"),0),2),\"\")","v":""},{"$f":"IFERROR(INDEX(INDIRECT(A262&\"!A:D\"),MATCH(B262,INDIRECT(A262&\"!A:A\"),0),3),\"\")","v":""},{"$f":"IFERROR(INDEX(INDIRECT(A262&\"!A:D\"),MATCH(B262,INDIRECT(A262&\"!A:A\"),0),4),\"\")","v":""},1.4E-2,{"$f":"ROUND(PRODUCT(E262:F262),2)","v":0.01},null,"SEDUC 7.07",null,"",{"$error":"#N/A"}]
["SINAPI",88262,"","","",0.2,0.2,null,"SEDUC 7.07",null,"",{"$error":"#N/A"}]
["SINAPI",88309,"","","",0.4,0.4,null,"SEDUC 7.07",null,"",{"$error":"#N/A"}]
["SINAPI",88316,"","","",0.2,0.2,null,"SEDUC 7.07",null,"",{"$error":"#N/A"}]
["iSINAPI",5074,"","","",0.01,0.01,null,"SEDUC 7.07",null,"",{"$error":"#N/A"}]
["iSINAPI",43132,"","","",7.8E-2,0.08,null,"SEDUC 7.07",null,"",{"$error":"#N/A"}]
["iSINAPI",367,"","","",1E-3,0,null,"SEDUC 7.07",null,"",{"$error":"#N/A"}]
["iSINAPI",1379,"","","",5,5,null,"SEDUC 7.07",null,"",{"$error":"#N/A"}]
["iSINAPI",4721,"","","",1.2999999999999999E-2,0.01,null,"SEDUC 7.07",null,"",{"$error":"#N/A"}]
["iSINAPI",10567,"","","",3.5000000000000003E-2,0.04,null,"SEDUC 7.07",null,"",{"$error":"#N/A"}]
[null,null,null,null,null,null,null,null,"SEDUC 7.07",null,"",{"$error":"#N/A"}]
[null,"SEDUC 7.10","FECHAMENTO LATERAL COM TELHA METÁLICA (AÇO ZINCADO), PÓS-PINTADA, PERFURADA TPR-25, ESP=0,65MM, DA TUPER OU SIMILAR (Ref. ORSE 9836)","M²",null,null,{"$f":"SUM(G274:G277)","v":10},null,{"$f":"$B$273","v":"SEDUC 7.10"},null,"",0]
["iORSE",4977,{"$f":"IFERROR(INDEX(INDIRECT(A274&\"!A:D\"),MATCH(B274,INDIRECT(A274&\"!A:A\"),0),2),\"\")","v":""},{"$f":"IFERROR(INDEX(INDIRECT(A274&\"!A:D\"),MATCH(B274,INDIRECT(A274&\"!A:A\"),0),3),\"\")","v":""},{"$f":"IFERROR(INDEX(INDIRECT(A274&\"!A:D\"),MATCH(B274,INDIRECT(A274&\"!A:A\"),0),4),\"\")","v":""},6,{"$f":"ROUND(PRODUCT(E274:F274),2)","v":6},null,"SEDUC 7.10",null,"",{"$error":"#N/A"}]
["iORSE",10262,{"$f":"IFERROR(INDEX(INDIRECT(A275&\"!A:D\"),MATCH(B275,INDIRECT(A275&\"!A:A\"),0),2),\"\")","v":""},{"$f":"IFERROR(INDEX(INDIRECT(A275&\"!A:D\"),MATCH(B275,INDIRECT(A275&\"!A:A\"),0),3),\"\")","v":""},{"$f":"IFERROR(INDEX(INDIRECT(A275&\"!A:D\"),MATCH(B275,INDIRECT(A275&\"!A:A\"),0),4),\"\")","v":""},1,{"$f":"ROUND(PRODUCT(E275:F275),2)","v":1},null,"SEDUC 7.10",null,"",{"$error":"#N/A"}]
["SINAPI",88316,{"$f":"IFERROR(INDEX(INDIRECT(A276&\"!A:D\"),MATCH(B276,INDIRECT(A276&\"!A:A\"),0),2),\"\")","v":""},{"$f":"IFERROR(INDEX(INDIRECT(A276&\"!A:D\"),MATCH(B276,INDIRECT(A276&\"!A:A\"),0),3),\"\")","v":""},{"$f":"IFERROR(INDEX(INDIRECT(A276&\"!A:D\"),MATCH(B276,INDIRECT(A276&\"!A:A\"),0),4),\"\")","v":""},1.5,{"$f":"ROUND(PRODUCT(E276:F276),2)","v":1.5},null,"SEDUC 7.10",null,"",{"$error":"#N/A"}]
["SINAPI",88278,{"$f":"IFERROR(INDEX(INDIRECT(A277&\"!A:D\"),MATCH(B277,INDIRECT(A277&\"!A:A\"),0),2),\"\")","v":""},{"$f":"IFERROR(INDEX(INDIRECT(A277&\"!A:D\"),MATCH(B277,INDIRECT(A277&\"!A:A\"),0),3),\"\")","v":""},{"$f":"IFERROR(INDEX(INDIRECT(A277&\"!A:D\"),MATCH(B277,INDIRECT(A277&\"!A:A\"),0),4),\"\")","v":""},1.5,{"$f":"ROUND(PRODUCT(E277:F277),2)","v":1.5},null,"SEDUC 7.10",null,{"$f":"IF(A277=\"\",\"\",IF(E277=0,\"ERRO\",\"\"))","v":""},{"$error":"#N/A"}]
[null,null,null,null,null,null,null,null,"SEDUC 7.10",null,"",{"$error":"#N/A"}]
[null,"SEDUC 7.12","FABRICAÇÃO E INSTALAÇÃO DE MEIA TESOURA INTEIRA EM AÇO, VÃO DE 8 M, PARA TELHA CERÂMICA OU DE CONCRETO, INCLUSO IÇAMENTO. AF_12/2015","UN",null,null,{"$f":"SUM(G280:G285)","v":169.93},null,{"$f":"$B$279","v":"SEDUC 7.12"},null,"","FABRICAR E INSTALAR MEIAS TESOURAS METÁLICAS PARA COBERTURAS COMPOSTAS POR PERFIS EM \"U\" E CANTONEIRAS DE AÇO LAMINADO EM ÁREAS DE NOVOS TELHADOS; INCLUSA SOLDAGEM DAS PEÇAS E IÇAMENTO; ADOTAR TAL SERVIÇOS PARA VÃOS DE ATÉ 7 M."]
["SINAPI",88278,{"$f":"IFERROR(INDEX(INDIRECT(A280&\"!A:D\"),MATCH(B280,INDIRECT(A280&\"!A:A\"),0),2),\"\")","v":""},{"$f":"IFERROR(INDEX(INDIRECT(A280&\"!A:D\"),MATCH(B280,INDIRECT(A280&\"!A:A\"),0),3),\"\")","v":""},{"$f":"IFERROR(INDEX(INDIRECT(A280&\"!A:D\"),MATCH(B280,INDIRECT(A280&\"!A:A\"),0),4),\"\")","v":""},2.3109999999999999,{"$f":"ROUND(PRODUCT(E280:F280),2)","v":2.31},null,{"$f":"$B$279","v":"SEDUC 7.12"},null,"",{"$error":"#N/A"}]
["SINAPI",88316,"","","",0.53300000000000003,0.53,null,"SEDUC 7.12",null,"",{"$error":"#N/A"}]
["iSINAPI",40598,"","","",102.6,102.6,null,"SEDUC 7.12",null,"",{"$error":"#N/A"}]
["iSINAPI",4777,"","","",63.08,63.08,null,"SEDUC 7.12",null,"",{"$error":"#N/A"}]
["iSINAPI",10997,"","","",0.41399999999999998,0.41,null,"SEDUC 7.12",null,"",{"$error":"#N/A"}]
["SINAPI",92256,"","","",1,1,null,"SEDUC 7.12",null,"",{"$error":"#N/A"}]
[null,null,null,null,null,null,null,null,"SEDUC 7.12",null,"",{"$error":"#N/A"}]
[null,"SEDUC 7.13","ESTRUTURA METÁLICA TRELIÇADA EM AÇO, EM MARQUISES (Ref: SEINFRA C1353)","M²",null,null,{"$f":"SUM(G288:G290)","v":20.3},null,{"$f":"$B$287","v":"SEDUC 7.13"},null,{"$f":"IF(A287=\"\",\"\",IF(E287=0,\"ERRO\",\"\"))","v":""},"FABRICAR E INSTALAR MEIAS TESOURAS METÁLICAS PARA COBERTURAS COMPOSTAS POR PERFIS EM \"U\" E CANTONEIRAS DE AÇO LAMINADO EM ÁREAS DE NOVOS TELHADOS; INCLUSA SOLDAGEM DAS PEÇAS E IÇAMENTO; ADOTAR TAL SERVIÇOS PARA VÃOS DE ATÉ 7 M."]
["SINAPI",88316,{"$f":"IFERROR(INDEX(INDIRECT(A288&\"!A:D\"),MATCH(B288,INDIRECT(A288&\"!A:A\"),0),2),\"\")","v":""},{"$f":"IFERROR(INDEX(INDIRECT(A288&\"!A:D\"),MATCH(B288,INDIRECT(A288&\"!A:A\"),0),3),\"\")","v":""},{"$f":"IFERROR(INDEX(INDIRECT(A288&\"!A:D\"),MATCH(B288,INDIRECT(A288&\"!A:A\"),0),4),\"\")","v":""},2.75,{"$f":"ROUND(PRODUCT(E288:F288),2)","v":2.75},null,{"$f":"$B$287","v":"SEDUC 7.13"},null,{"$f":"IF(A288=\"\",\"\",IF(E288=0,\"ERRO\",\"\"))","v":""},{"$error":"#N/A"}]
["SINAPI",88278,{"$f":"IFERROR(INDEX(INDIRECT(A289&\"!A:D\"),MATCH(B289,INDIRECT(A289&\"!A:A\"),0),2),\"\")","v":""},{"$f":"IFERROR(INDEX(INDIRECT(A289&\"!A:D\"),MATCH(B289,INDIRECT(A289&\"!A:A\"),0),3),\"\")","v":""},{"$f":"IFERROR(INDEX(INDIRECT(A289&\"!A:D\"),MATCH(B289,INDIRECT(A289&\"!A:A\"),0),4),\"\")","v":""},2.75,{"$f":"ROUND(PRODUCT(E289:F289),2)","v":2.75},null,{"$f":"$B$287","v":"SEDUC 7.13"},null,{"$f":"IF(A289=\"\",\"\",IF(E289=0,\"ERRO\",\"\"))","v":""},{"$error":"#N/A"}]
["iSEINFRA","I0824",{"$f":"IFERROR(INDEX(INDIRECT(A290&\"!A:D\"),MATCH(B290,INDIRECT(A290&\"!A:A\"),0),2),\"\")","v":""},{"$f":"IFERROR(INDEX(INDIRECT(A290&\"!A:D\"),MATCH(B290,INDIRECT(A290&\"!A:A\"),0),3),\"\")","v":""},{"$f":"IFERROR(INDEX(INDIRECT(A290&\"!A:D\"),MATCH(B290,INDIRECT(A290&\"!A:A\"),0),4),\"\")","v":""},14.8,{"$f":"ROUND(PRODUCT(E290:F290),2)","v":14.8},null,{"$f":"$B$287","v":"SEDUC 7.13"},null,{"$f":"IF(A290=\"\",\"\",IF(E290=0,\"ERRO\",\"\"))","v":""},{"$error":"#N/A"}]
[null,null,null,null,null,null,null,null,{"$f":"$B$287","v":"SEDUC 7.13"},null,{"$f":"IF(A291=\"\",\"\",IF(E291=0,\"ERRO\",\"\"))","v":""},{"$error":"#N/A"}]
[null,"SEDUC 7.14","FECHAMENTO LATERAL COM TELHA EM AÇO GALVALUME, SIMPLES, TRAPEZOIDAL, NÃO PINTADA, TP40, E=0,65MM, ISOESTE OU SIMILAR (Ref: ORSE 09836)","M²",null,null,{"$f":"SUM(G293:G296)","v":{"$error":"#REF!"}},null,{"$f":"$B$292","v":"SEDUC 7.14"},null,{"$f":"IF(A292=\"\",\"\",IF(E292=0,\"ERRO\",\"\"))","v":""},"FABRICAR E INSTALAR MEIAS TESOURAS METÁLICAS PARA COBERTURAS COMPOSTAS POR PERFIS EM \"U\" E CANTONEIRAS DE AÇO LAMINADO EM ÁREAS DE NOVOS TELHADOS; INCLUSA SOLDAGEM DAS PEÇAS E IÇAMENTO; ADOTAR TAL SERVIÇOS PARA VÃOS DE ATÉ 7 M."]
["SINAPI",88316,{"$f":"IFERROR(INDEX(INDIRECT(A293&\"!A:D\"),MATCH(B293,INDIRECT(A293&\"!A:A\"),0),2),\"\")","v":""},{"$f":"IFERROR(INDEX(INDIRECT(A293&\"!A:D\"),MATCH(B293,INDIRECT(A293&\"!A:A\"),0),3),\"\")","v":""},{"$f":"IFERROR(INDEX(INDIRECT(A293&\"!A:D\"),MATCH(B293,INDIRECT(A293&\"!A:A\"),0),4),\"\")","v":""},1.5,{"$f":"ROUND(PRODUCT(E293:F293),2)","v":1.5},null,"SEDUC 7.14",null,"",{"$error":"#N/A"}]
["SINAPI",88278,{"$f":"IFERROR(INDEX(INDIRECT(A294&\"!A:D\"),MATCH(B294,INDIRECT(A294&\"!A:A\"),0),2),\"\")","v":""},{"$f":"IFERROR(INDEX(INDIRECT(A294&\"!A:D\"),MATCH(B294,INDIRECT(A294&\"!A:A\"),0),3),\"\")","v":""},{"$f":"IFERROR(INDEX(INDIRECT(A294&\"!A:D\"),MATCH(B294,INDIRECT(A294&\"!A:A\"),0),4),\"\")","v":""},1.5,{"$f":"ROUND(PRODUCT(E294:F294),2)","v":1.5},null,"SEDUC 7.14",null,"",{"$error":"#N/A"}]
["iORSE",4977,{"$f":"IFERROR(INDEX(INDIRECT(A295&\"!A:D\"),MATCH(B295,INDIRECT(A295&\"!A:A\"),0),2),\"\")","v":""},{"$f":"IFERROR(INDEX(INDIRECT(A295&\"!A:D\"),MATCH(B295,INDIRECT(A295&\"!A:A\"),0),3),\"\")","v":""},{"$f":"IFERROR(INDEX(INDIRECT(A295&\"!A:D\"),MATCH(B295,INDIRECT(A295&\"!A:A\"),0),4),\"\")","v":""},6,{"$f":"ROUND(PRODUCT(E295:F295),2)","v":6},null,"SEDUC 7.14",null,"",{"$error":"#N/A"}]
["iORSE",13482,"FECHAMENTO LATERAL COM TELHA EM AÇO GALVALUME, SIMPLES, TRAPEZOIDAL, NÃO PINTADA, TP40, E=0,65MM, ISOESTE OU SIMILAR (Ref: ORSE 09836)","M²",{"$f":"'ORÇ. DESON.'!#REF!","v":{"$error":"#REF!"}},null,{"$f":"ROUND(PRODUCT(E296:F296),2)","v":{"$error":"#REF!"}},null,"SEDUC 7.14",null,{"$error":"#REF!"},{"$error":"#N/A"}]
[null,null,null,null,null,null,null,null,"SEDUC 7.14",null,"",{"$error":"#N/A"}]
[null,null,null,null,null,null,null,null,null,null,"",{"$error":"#N/A"}]
[null,"SEDUC 8","PAVIMENTAÇÃO",null,null,null,null,null,{"$f":"$B$299","v":"SEDUC 8"},null,"",{"$error":"#N/A"}]
[null,null,"FECHAMENTO LATERAL COM TELHA EM AÇO GALVALUME, SIMPLES, TRAPEZOIDAL, NÃO PINTADA, TP40, E=0,65MM, ISOESTE OU SIMILAR (Ref: ORSE 09836)","M²",{"$f":"'ORÇ. DESON.'!#REF!","v":{"$error":"#REF!"}},0.1,null,null,null,null,"",{"$error":"#N/A"}]
[null,"SEDUC 8.04","PISO COM FORRAÇÃO TÊXTIL (CARPETE E=4MM) (Ref. SEINFRA C1914)","M²",null,null,{"$f":"SUM(G302:G305)","v":1.4},null,{"$f":"$B$301","v":"SEDUC 8.04"},null,"","EXECUTAR REVESTIMENTO PARA PISO EM CARPETE DE 4 MM DE ESPESSURA; UTILIZAR ADESIVO ACRÍLICO; OBSERVAR AMBIENTES INDICADOS EM PROJETO, BEM COMO DEMAIS ESPECIFICAÇÕES."]
["SINAPI",88309,{"$f":"IFERROR(INDEX(INDIRECT(A302&\"!A:D\"),MATCH(B302,INDIRECT(A302&\"!A:A\"),0),2),\"\")","v":""},{"$f":"IFERROR(INDEX(INDIRECT(A302&\"!A:D\"),MATCH(B302,INDIRECT(A302&\"!A:A\"),0),3),\"\")","v":""},{"$f":"IFERROR(INDEX(INDIRECT(A302&\"!A:D\"),MATCH(B302,INDIRECT(A302&\"!A:A\"),0),4),\"\")","v":""},0.1,{"$f":"ROUND(PRODUCT(E302:F302),2)","v":0.1},null,"SEDUC 8.04",null,"",{"$error":"#N/A"}]
["SINAPI",88316,{"$f":"IFERROR(INDEX(INDIRECT(A303&\"!A:D\"),MATCH(B303,INDIRECT(A303&\"!A:A\"),0),2),\"\")","v":""},{"$f":"IFERROR(INDEX(INDIRECT(A303&\"!A:D\"),MATCH(B303,INDIRECT(A303&\"!A:A\"),0),3),\"\")","v":""},{"$f":"IFERROR(INDEX(INDIRECT(A303&\"!A:D\"),MATCH(B303,INDIRECT(A303&\"!A:A\"),0),4),\"\")","v":""},0.1,{"$f":"ROUND(PRODUCT(E303:F303),2)","v":0.1},null,"SEDUC 8.04",null,"",{"$error":"#N/A"}]
["iSEINFRA","i0497",{"$f":"IFERROR(INDEX(INDIRECT(A304&\"!A:D\"),MATCH(B304,INDIRECT(A304&\"!A:A\"),0),2),\"\")","v":""},{"$f":"IFERROR(INDEX(INDIRECT(A304&\"!A:D\"),MATCH(B304,INDIRECT(A304&\"!A:A\"),0),3),\"\")","v":""},{"$f":"IFERROR(INDEX(INDIRECT(A304&\"!A:D\"),MATCH(B304,INDIRECT(A304&\"!A:A\"),0),4),\"\")","v":""},1.1000000000000001,{"$f":"ROUND(PRODUCT(E304:F304),2)","v":1.1000000000000001},null,"SEDUC 8.04",null,"",{"$error":"#N/A"}]
["iSINAPI",4791,{"$f":"IFERROR(INDEX(INDIRECT(A305&\"!A:D\"),MATCH(B305,INDIRECT(A305&\"!A:A\"),0),2),\"\")","v":""},{"$f":"IFERROR(INDEX(INDIRECT(A305&\"!A:D\"),MATCH(B305,INDIRECT(A305&\"!A:A\"),0),3),\"\")","v":""},{"$f":"IFERROR(INDEX(INDIRECT(A305&\"!A:D\"),MATCH(B305,INDIRECT(A305&\"!A:A\"),0),4),\"\")","v":""},0.1,{"$f":"ROUND(PRODUCT(E305:F305),2)","v":0.1},null,"SEDUC 8.04",null,"",{"$error":"#N/A"}]
[null,null,null,null,null,null,null,null,"SEDUC 8.04",null,"",{"$error":"#N/A"}]
[null,"SEDUC 8.05","SOLEIRA EM GRANITO PARA PORTAS,  LARGURA DE 15 CM. (Ref. Seinfra C2284)","M",null,null,{"$f":"SUM(G308:G311)","v":1.75},null,{"$f":"$B$307","v":"SEDUC 8.05"},null,"","NAS PORTAS ENTRE AMBIENTES DE TIPOLOGIAS DIFERENTES DE PISO, EXECUTAR SOLEIRA EM GRANITO POLIDO; LARGURA DE 15 CM; ASSENTAMENTO COM ARGAMASSA PREPARADA MANUALMENTE."]
["SINAPI",88316,{"$f":"IFERROR(INDEX(INDIRECT(A308&\"!A:D\"),MATCH(B308,INDIRECT(A308&\"!A:A\"),0),2),\"\")","v":""},{"$f":"IFERROR(INDEX(INDIRECT(A308&\"!A:D\"),MATCH(B308,INDIRECT(A308&\"!A:A\"),0),3),\"\")","v":""},{"$f":"IFERROR(INDEX(INDIRECT(A308&\"!A:D\"),MATCH(B308,INDIRECT(A308&\"!A:A\"),0),4),\"\")","v":""},0.25,{"$f":"ROUND(PRODUCT(E308:F308),2)","v":0.25},null,"SEDUC 8.05",null,"",{"$error":"#N/A"}]
["SINAPI",88309,{"$f":"IFERROR(INDEX(INDIRECT(A309&\"!A:D\"),MATCH(B309,INDIRECT(A309&\"!A:A\"),0),2),\"\")","v":""},{"$f":"IFERROR(INDEX(INDIRECT(A309&\"!A:D\"),MATCH(B309,INDIRECT(A309&\"!A:A\"),0),3),\"\")","v":""},{"$f":"IFERROR(INDEX(INDIRECT(A309&\"!A:D\"),MATCH(B309,INDIRECT(A309&\"!A:A\"),0),4),\"\")","v":""},0.5,{"$f":"ROUND(PRODUCT(E309:F309),2)","v":0.5},null,"SEDUC 8.05",null,"",{"$error":"#N/A"}]
["iSEINFRA","i1880",{"$f":"IFERROR(INDEX(INDIRECT(A310&\"!A:D\"),MATCH(B310,INDIRECT(A310&\"!A:A\"),0),2),\"\")","v":""},{"$f":"IFERROR(INDEX(INDIRECT(A310&\"!A:D\"),MATCH(B310,INDIRECT(A310&\"!A:A\"),0),3),\"\")","v":""},{"$f":"IFERROR(INDEX(INDIRECT(A310&\"!A:D\"),MATCH(B310,INDIRECT(A310&\"!A:A\"),0),4),\"\")","v":""},1,{"$f":"ROUND(PRODUCT(E310:F310),2)","v":1},null,"SEDUC 8.05",null,"",{"$error":"#N/A"}]
["SINAPI",88627,{"$f":"IFERROR(INDEX(INDIRECT(A311&\"!A:D\"),MATCH(B311,INDIRECT(A311&\"!A:A\"),0),2),\"\")","v":""},{"$f":"IFERROR(INDEX(INDIRECT(A311&\"!A:D\"),MATCH(B311,INDIRECT(A311&\"!A:A\"),0),3),\"\")","v":""},{"$f":"IFERROR(INDEX(INDIRECT(A311&\"!A:D\"),MATCH(B311,INDIRECT(A311&\"!A:A\"),0),4),\"\")","v":""},4.0000000000000001E-3,{"$f":"ROUND(PRODUCT(E311:F311),2)","v":0},null,"SEDUC 8.05",null,"",{"$error":"#N/A"}]
[null,null,null,null,null,null,null,null,"SEDUC 8.05",null,"",{"$error":"#N/A"}]
[null,"SEDUC 8.06","LASTRO URBANIZADO COM SEIXO ROLADO","M³",null,null,{"$f":"SUM(G314:G316)","v":2.96},null,{"$f":"$B$313","v":"SEDUC 8.06"},null,"","EXECUTAR LASTRO DE SEIXO ROLADO EM ÁREAS DEFINIDAS EM PROJETO OU SEGUNDO A PRÓPRIA ADMINISTRAÇÃO; O SEIXO DEVE TER DIÂMETRO UNIFORME E DEVE ESTAR LIVRE DE MATERIAIS ARENOSOS; O MATERIAL DEVE SER COMPACTADO MANUALMENTE."]
["SINAPI",88316,{"$f":"IFERROR(INDEX(INDIRECT(A314&\"!A:D\"),MATCH(B314,INDIRECT(A314&\"!A:A\"),0),2),\"\")","v":""},{"$f":"IFERROR(INDEX(INDIRECT(A314&\"!A:D\"),MATCH(B314,INDIRECT(A314&\"!A:A\"),0),3),\"\")","v":""},{"$f":"IFERROR(INDEX(INDIRECT(A314&\"!A:D\"),MATCH(B314,INDIRECT(A314&\"!A:A\"),0),4),\"\")","v":""},0.4,{"$f":"ROUND(PRODUCT(E314:F314),2)","v":0.4},null,{"$f":"$B$313","v":"SEDUC 8.06"},null,"",{"$error":"#N/A"}]
["SINAPI",88309,{"$f":"IFERROR(INDEX(INDIRECT(A315&\"!A:D\"),MATCH(B315,INDIRECT(A315&\"!A:A\"),0),2),\"\")","v":""},{"$f":"IFERROR(INDEX(INDIRECT(A315&\"!A:D\"),MATCH(B315,INDIRECT(A315&\"!A:A\"),0),3),\"\")","v":""},{"$f":"IFERROR(INDEX(INDIRECT(A315&\"!A:D\"),MATCH(B315,INDIRECT(A315&\"!A:A\"),0),4),\"\")","v":""},0.2,{"$f":"ROUND(PRODUCT(E315:F315),2)","v":0.2},null,{"$f":"$B$313","v":"SEDUC 8.06"},null,"",{"$error":"#N/A"}]
["iSINAPI",4734,{"$f":"IFERROR(INDEX(INDIRECT(A316&\"!A:D\"),MATCH(B316,INDIRECT(A316&\"!A:A\"),0),2),\"\")","v":""},{"$f":"IFERROR(INDEX(INDIRECT(A316&\"!A:D\"),MATCH(B316,INDIRECT(A316&\"!A:A\"),0),3),\"\")","v":""},{"$f":"IFERROR(INDEX(INDIRECT(A316&\"!A:D\"),MATCH(B316,INDIRECT(A316&\"!A:A\"),0),4),\"\")","v":""},2.36,{"$f":"ROUND(PRODUCT(E316:F316),2)","v":2.36},null,{"$f":"$B$313","v":"SEDUC 8.06"},null,"",{"$error":"#N/A"}]
[null,null,null,null,null,null,null,null,{"$f":"$B$313","v":"SEDUC 8.06"},null,null,{"$error":"#N/A"}]
[null,"SEDUC 8.07","PISO TÁTIL DIRECIONAL E/OU ALERTA, DE CONCRETO, NA COR NATURAL (Ref. 09417 ORSE)","M³",null,null,{"$f":"SUM(G319:G323)","v":7.27},null,{"$f":"$B$318","v":"SEDUC 8.07"},null,null,{"$error":"#N/A"}]
["SINAPI",88316,{"$f":"IFERROR(INDEX(INDIRECT(A319&\"!A:D\"),MATCH(B319,INDIRECT(A319&\"!A:A\"),0),2),\"\")","v":""},{"$f":"IFERROR(INDEX(INDIRECT(A319&\"!A:D\"),MATCH(B319,INDIRECT(A319&\"!A:A\"),0),3),\"\")","v":""},{"$f":"IFERROR(INDEX(INDIRECT(A319&\"!A:D\"),MATCH(B319,INDIRECT(A319&\"!A:A\"),0),4),\"\")","v":""},1.2,{"$f":"ROUND(PRODUCT(E319:F319),2)","v":1.2},null,{"$f":"$B$318","v":"SEDUC 8.07"},null,null,{"$error":"#N/A"}]
["SINAPI",88309,{"$f":"IFERROR(INDEX(INDIRECT(A320&\"!A:D\"),MATCH(B320,INDIRECT(A320&\"!A:A\"),0),2),\"\")","v":""},{"$f":"IFERROR(INDEX(INDIRECT(A320&\"!A:D\"),MATCH(B320,INDIRECT(A320&\"!A:A\"),0),3),\"\")","v":""},{"$f":"IFERROR(INDEX(INDIRECT(A320&\"!A:D\"),MATCH(B320,INDIRECT(A320&\"!A:A\"),0),4),\"\")","v":""},0.5,{"$f":"ROUND(PRODUCT(E320:F320),2)","v":0.5},null,"SEDUC 8.07",null,null,{"$error":"#N/A"}]
["iORSE",9759,{"$f":"IFERROR(INDEX(INDIRECT(A321&\"!A:D\"),MATCH(B321,INDIRECT(A321&\"!A:A\"),0),2),\"\")","v":""},{"$f":"IFERROR(INDEX(INDIRECT(A321&\"!A:D\"),MATCH(B321,INDIRECT(A321&\"!A:A\"),0),3),\"\")","v":""},{"$f":"IFERROR(INDEX(INDIRECT(A321&\"!A:D\"),MATCH(B321,INDIRECT(A321&\"!A:A\"),0),4),\"\")","v":""},1.05,{"$f":"ROUND(PRODUCT(E321:F321),2)","v":1.05},null,"SEDUC 8.07",null,null,{"$error":"#N/A"}]
["iSINAPI",34357,{"$f":"IFERROR(INDEX(INDIRECT(A322&\"!A:D\"),MATCH(B322,INDIRECT(A322&\"!A:A\"),0),2),\"\")","v":""},{"$f":"IFERROR(INDEX(INDIRECT(A322&\"!A:D\"),MATCH(B322,INDIRECT(A322&\"!A:A\"),0),3),\"\")","v":""},{"$f":"IFERROR(INDEX(INDIRECT(A322&\"!A:D\"),MATCH(B322,INDIRECT(A322&\"!A:A\"),0),4),\"\")","v":""},0.52,{"$f":"ROUND(PRODUCT(E322:F322),2)","v":0.52},null,"SEDUC 8.07",null,null,{"$error":"#N/A"}]
["iSINAPI",34353,{"$f":"IFERROR(INDEX(INDIRECT(A323&\"!A:D\"),MATCH(B323,INDIRECT(A323&\"!A:A\"),0),2),\"\")","v":""},{"$f":"IFERROR(INDEX(INDIRECT(A323&\"!A:D\"),MATCH(B323,INDIRECT(A323&\"!A:A\"),0),3),\"\")","v":""},{"$f":"IFERROR(INDEX(INDIRECT(A323&\"!A:D\"),MATCH(B323,INDIRECT(A323&\"!A:A\"),0),4),\"\")","v":""},4,{"$f":"ROUND(PRODUCT(E323:F323),2)","v":4},null,"SEDUC 8.07",null,null,{"$error":"#N/A"}]
[null,null,null,null,null,null,null,null,"SEDUC 8.07",null,null,{"$error":"#N/A"}]
[null,null,null,null,null,null,null,null,null,null,"",{"$error":"#N/A"}]
[null,"SEDUC 9",null,null,null,null,null,null,{"$f":"$B$326","v":"SEDUC 9"},null,"",{"$error":"#N/A"}]
[null,"SEDUC 9.03","MASSA ÚNICA  PARA RECEBIMENTO DE PINTURA, EM ARGAMASSA TRAÇO 1:2:8, PREPARO MANUAL, APLICADA MANUALMENTE EM PAREDES, ESPESSURA DE 25 MM, COM EXECUÇÃO DE TALISCAS. (Ref. SINAPI 87530)","M²",null,null,{"$f":"SUM(G328:G330)","v":0.68},null,{"$f":"$B$327","v":"SEDUC 9.03"},null,{"$f":"IF(A327=\"\",\"\",IF(E327=0,\"ERRO\",\"\"))","v":""},"APLICAR REBOCO NAS ÁREAS EXECUTADAS DE ALVENARIA QUE DEVAM RECEBER PINTURA, SEJAM EXTERNAS OU INTERNAS; UTILIZAR ARGAMASSA PREPARADA MANUALMENTE; ESPESSURA DE 25 MM; EXECUTAR O SERVIÇO COM AUXÍLIO DE TALISCAS E MESTRAS; O LANÇAMENTO E COMPRESSÃO DA MASSA DEVE SER MANUAL; REALIZAR SARRAFEAMENTO E DESEMPENAMENTO."]
["SINAPI",88309,{"$f":"IFERROR(INDEX(INDIRECT(A328&\"!A:D\"),MATCH(B328,INDIRECT(A328&\"!A:A\"),0),2),\"\")","v":""},{"$f":"IFERROR(INDEX(INDIRECT(A328&\"!A:D\"),MATCH(B328,INDIRECT(A328&\"!A:A\"),0),3),\"\")","v":""},{"$f":"IFERROR(INDEX(INDIRECT(A328&\"!A:D\"),MATCH(B328,INDIRECT(A328&\"!A:A\"),0),4),\"\")","v":""},0.47,{"$f":"ROUND(PRODUCT(E328:F328),2)","v":0.47},null,{"$f":"$B$327","v":"SEDUC 9.03"},null,"",{"$error":"#N/A"}]
["SINAPI",88316,{"$f":"IFERROR(INDEX(INDIRECT(A329&\"!A:D\"),MATCH(B329,INDIRECT(A329&\"!A:A\"),0),2),\"\")","v":""},{"$f":"IFERROR(INDEX(INDIRECT(A329&\"!A:D\"),MATCH(B329,INDIRECT(A329&\"!A:A\"),0),3),\"\")","v":""},{"$f":"IFERROR(INDEX(INDIRECT(A329&\"!A:D\"),MATCH(B329,INDIRECT(A329&\"!A:A\"),0),4),\"\")","v":""},0.17100000000000001,{"$f":"ROUND(PRODUCT(E329:F329),2)","v":0.17},null,{"$f":"$B$327","v":"SEDUC 9.03"},null,"",{"$error":"#N/A"}]
["SINAPI",87369,{"$f":"IFERROR(INDEX(INDIRECT(A330&\"!A:D\"),MATCH(B330,INDIRECT(A330&\"!A:A\"),0),2),\"\")","v":""},{"$f":"IFERROR(INDEX(INDIRECT(A330&\"!A:D\"),MATCH(B330,INDIRECT(A330&\"!A:A\"),0),3),\"\")","v":""},{"$f":"IFERROR(INDEX(INDIRECT(A330&\"!A:D\"),MATCH(B330,INDIRECT(A330&\"!A:A\"),0),4),\"\")","v":""},3.7600000000000001E-2,{"$f":"ROUND(PRODUCT(E330:F330),2)","v":0.04},null,{"$f":"$B$327","v":"SEDUC 9.03"},null,"",{"$error":"#N/A"}]
[null,null,null,null,null,null,null,null,{"$f":"$B$327","v":"SEDUC 9.03"},null,"",{"$error":"#N/A"}]
[null,"SEDUC 9.06","FITA ADESIVA ANTIDERRAPANTE E FOSFORCENTE (Ref. SEINFRA C4622)","UN",null,null,{"$f":"SUM(G333:G334)","v":1.3},null,{"$f":"$B$332","v":"SEDUC 9.06"},null,"",0]
["SINAPI",88316,{"$f":"IFERROR(INDEX(INDIRECT(A333&\"!A:D\"),MATCH(B333,INDIRECT(A333&\"!A:A\"),0),2),\"\")","v":""},{"$f":"IFERROR(INDEX(INDIRECT(A333&\"!A:D\"),MATCH(B333,INDIRECT(A333&\"!A:A\"),0),3),\"\")","v":""},{"$f":"IFERROR(INDEX(INDIRECT(A333&\"!A:D\"),MATCH(B333,INDIRECT(A333&\"!A:A\"),0),4),\"\")","v":""},0.15,{"$f":"ROUND(PRODUCT(E333:F333),2)","v":0.15},null,{"$f":"$B$332","v":"SEDUC 9.06"},null,"",{"$error":"#N/A"}]
["iSEINFRA","I8620",{"$f":"IFERROR(INDEX(INDIRECT(A334&\"!A:D\"),MATCH(B334,INDIRECT(A334&\"!A:A\"),0),2),\"\")","v":""},{"$f":"IFERROR(INDEX(INDIRECT(A334&\"!A:D\"),MATCH(B334,INDIRECT(A334&\"!A:A\"),0),3),\"\")","v":""},{"$f":"IFERROR(INDEX(INDIRECT(A334&\"!A:D\"),MATCH(B334,INDIRECT(A334&\"!A:A\"),0),4),\"\")","v":""},1.1499999999999999,{"$f":"ROUND(PRODUCT(E334:F334),2)","v":1.1499999999999999},null,{"$f":"$B$332","v":"SEDUC 9.06"},null,"",{"$error":"#N/A"}]
[null,null,null,null,null,null,null,null,{"$f":"$B$332","v":"SEDUC 9.06"},null,"",{"$error":"#N/A"}]
[null,"SEDUC 9.07","REVEST. CERÂMICO P/ PAREDES INTERNAS COM PLACAS ESMALTADAS PADRÃO POPULAR 40X40 CM APLICADAS EM AMBIENTES DE ÁREA MAIOR QUE 5 M2 A MEIA ALTURA DAS PAREDES, INCLUINDO REJUNTAMENTO. (Ref. SINAPI 87275)","M²",null,null,{"$f":"SUM(G337:G341)","v":8.82},null,{"$f":"$B$336","v":"SEDUC 9.07"},null,"","APLICAR REVESTIMENTO CERÂMICO SOBRE PAREDES INTERNAS NAS ÁREAS INDICADAS EM PROJETO COM RESPEITO ÀS ALTURAS ESTABELECIDAS; PEÇAS DE 40x40 CM FIXADAS COM ARGAMASSA INDUSTRIALIZADA TIPO AC I; REJUNTAR COM ARGAMASSA À BASE DE REJUNTE CIMENTÍCIO; ADOTAR COLORAÇÕES DEFINIDAS EM PROJETO; PROCEDER LIMPEZA DA ÁREA EXECUTADA APÓS TÉRMINO DO SERVIÇO."]
["iSINAPI",533,{"$f":"IFERROR(INDEX(INDIRECT(A337&\"!A:D\"),MATCH(B337,INDIRECT(A337&\"!A:A\"),0),2),\"\")","v":""},{"$f":"IFERROR(INDEX(INDIRECT(A337&\"!A:D\"),MATCH(B337,INDIRECT(A337&\"!A:A\"),0),3),\"\")","v":""},{"$f":"IFERROR(INDEX(INDIRECT(A337&\"!A:D\"),MATCH(B337,INDIRECT(A337&\"!A:A\"),0),4),\"\")","v":""},1.0900000000000001,{"$f":"ROUND(PRODUCT(E337:F337),2)","v":1.0900000000000001},null,{"$f":"$B$336","v":"SEDUC 9.07"},null,"",{"$error":"#N/A"}]
["iSINAPI",1381,{"$f":"IFERROR(INDEX(INDIRECT(A338&\"!A:D\"),MATCH(B338,INDIRECT(A338&\"!A:A\"),0),2),\"\")","v":""},{"$f":"IFERROR(INDEX(INDIRECT(A338&\"!A:D\"),MATCH(B338,INDIRECT(A338&\"!A:A\"),0),3),\"\")","v":""},{"$f":"IFERROR(INDEX(INDIRECT(A338&\"!A:D\"),MATCH(B338,INDIRECT(A338&\"!A:A\"),0),4),\"\")","v":""},6.14,{"$f":"ROUND(PRODUCT(E338:F338),2)","v":6.14},null,"SEDUC 9.07",null,"",{"$error":"#N/A"}]
["iSINAPI",34357,{"$f":"IFERROR(INDEX(INDIRECT(A339&\"!A:D\"),MATCH(B339,INDIRECT(A339&\"!A:A\"),0),2),\"\")","v":""},{"$f":"IFERROR(INDEX(INDIRECT(A339&\"!A:D\"),MATCH(B339,INDIRECT(A339&\"!A:A\"),0),3),\"\")","v":""},{"$f":"IFERROR(INDEX(INDIRECT(A339&\"!A:D\"),MATCH(B339,INDIRECT(A339&\"!A:A\"),0),4),\"\")","v":""},0.22,{"$f":"ROUND(PRODUCT(E339:F339),2)","v":0.22},null,"SEDUC 9.07",null,"",{"$error":"#N/A"}]
["SINAPI",88256,{"$f":"IFERROR(INDEX(INDIRECT(A340&\"!A:D\"),MATCH(B340,INDIRECT(A340&\"!A:A\"),0),2),\"\")","v":""},{"$f":"IFERROR(INDEX(INDIRECT(A340&\"!A:D\"),MATCH(B340,INDIRECT(A340&\"!A:A\"),0),3),\"\")","v":""},{"$f":"IFERROR(INDEX(INDIRECT(A340&\"!A:D\"),MATCH(B340,INDIRECT(A340&\"!A:A\"),0),4),\"\")","v":""},0.91,{"$f":"ROUND(PRODUCT(E340:F340),2)","v":0.91},null,"SEDUC 9.07",null,"",{"$error":"#N/A"}]
["SINAPI",88316,{"$f":"IFERROR(INDEX(INDIRECT(A341&\"!A:D\"),MATCH(B341,INDIRECT(A341&\"!A:A\"),0),2),\"\")","v":""},{"$f":"IFERROR(INDEX(INDIRECT(A341&\"!A:D\"),MATCH(B341,INDIRECT(A341&\"!A:A\"),0),3),\"\")","v":""},{"$f":"IFERROR(INDEX(INDIRECT(A341&\"!A:D\"),MATCH(B341,INDIRECT(A341&\"!A:A\"),0),4),\"\")","v":""},0.46,{"$f":"ROUND(PRODUCT(E341:F341),2)","v":0.46},null,"SEDUC 9.07",null,"",{"$error":"#N/A"}]
[null,null,null,null,null,null,null,null,"SEDUC 9.07",null,"",{"$error":"#N/A"}]
[null,"SEDUC 9.08","REVESTIMENTO C/CARPETE ESP= 4mm (Ref. SEINFRA: C2212 )","M²",null,null,{"$f":"SUM(G344:G347)","v":1.66},null,{"$f":"$B$343","v":"SEDUC 9.08"},null,{"$f":"IF(A343=\"\",\"\",IF(E343=0,\"ERRO\",\"\"))","v":""},"APLICAR REVESTIMENTO CERÂMICO SOBRE PAREDES INTERNAS NAS ÁREAS INDICADAS EM PROJETO COM RESPEITO ÀS ALTURAS ESTABELECIDAS; PEÇAS DE 40x40 CM FIXADAS COM ARGAMASSA INDUSTRIALIZADA TIPO AC I; REJUNTAR COM ARGAMASSA À BASE DE REJUNTE CIMENTÍCIO; ADOTAR COLORAÇÕES DEFINIDAS EM PROJETO; PROCEDER LIMPEZA DA ÁREA EXECUTADA APÓS TÉRMINO DO SERVIÇO."]
["iSEINFRA","I0497",{"$f":"IFERROR(INDEX(INDIRECT(A344&\"!A:D\"),MATCH(B344,INDIRECT(A344&\"!A:A\"),0),2),\"\")","v":""},{"$f":"IFERROR(INDEX(INDIRECT(A344&\"!A:D\"),MATCH(B344,INDIRECT(A344&\"!A:A\"),0),3),\"\")","v":""},{"$f":"IFERROR(INDEX(INDIRECT(A344&\"!A:D\"),MATCH(B344,INDIRECT(A344&\"!A:A\"),0),4),\"\")","v":""},1.05,{"$f":"ROUND(PRODUCT(E344:F344),2)","v":1.05},null,"SEDUC 9.08",null,"",{"$error":"#N/A"}]
["iSEINFRA","I0814",{"$f":"IFERROR(INDEX(INDIRECT(A345&\"!A:D\"),MATCH(B345,INDIRECT(A345&\"!A:A\"),0),2),\"\")","v":""},{"$f":"IFERROR(INDEX(INDIRECT(A345&\"!A:D\"),MATCH(B345,INDIRECT(A345&\"!A:A\"),0),3),\"\")","v":""},{"$f":"IFERROR(INDEX(INDIRECT(A345&\"!A:D\"),MATCH(B345,INDIRECT(A345&\"!A:A\"),0),4),\"\")","v":""},0.25,{"$f":"ROUND(PRODUCT(E345:F345),2)","v":0.25},null,"SEDUC 9.08",null,{"$f":"IF(A345=\"\",\"\",IF(E345=0,\"ERRO\",\"\"))","v":""},{"$error":"#N/A"}]
["SINAPI",88309,{"$f":"IFERROR(INDEX(INDIRECT(A346&\"!A:D\"),MATCH(B346,INDIRECT(A346&\"!A:A\"),0),2),\"\")","v":""},{"$f":"IFERROR(INDEX(INDIRECT(A346&\"!A:D\"),MATCH(B346,INDIRECT(A346&\"!A:A\"),0),3),\"\")","v":""},{"$f":"IFERROR(INDEX(INDIRECT(A346&\"!A:D\"),MATCH(B346,INDIRECT(A346&\"!A:A\"),0),4),\"\")","v":""},0.18,{"$f":"ROUND(PRODUCT(E346:F346),2)","v":0.18},null,"SEDUC 9.08",null,{"$f":"IF(A346=\"\",\"\",IF(E346=0,\"ERRO\",\"\"))","v":""},{"$error":"#N/A"}]
["SINAPI",88241,{"$f":"IFERROR(INDEX(INDIRECT(A347&\"!A:D\"),MATCH(B347,INDIRECT(A347&\"!A:A\"),0),2),\"\")","v":""},{"$f":"IFERROR(INDEX(INDIRECT(A347&\"!A:D\"),MATCH(B347,INDIRECT(A347&\"!A:A\"),0),3),\"\")","v":""},{"$f":"IFERROR(INDEX(INDIRECT(A347&\"!A:D\"),MATCH(B347,INDIRECT(A347&\"!A:A\"),0),4),\"\")","v":""},0.18,{"$f":"ROUND(PRODUCT(E347:F347),2)","v":0.18},null,"SEDUC 9.08",null,"",{"$error":"#N/A"}]
[null,null,null,null,null,null,null,null,"SEDUC 9.08",null,"",{"$error":"#N/A"}]
[null,null,null,null,null,null,null,null,null,null,"",{"$error":"#N/A"}]
[null,"SEDUC 10","ESQUADRIAS",null,null,null,null,null,{"$f":"$B$350","v":"SEDUC 10"},null,"",{"$error":"#N/A"}]
[null,"SEDUC 10.02","REMOÇÃO E REINSTALAÇÃO DE GRADIS EM BARRA CHATA","M²",null,null,{"$f":"SUM(G352:G354)","v":3.1},null,{"$f":"$B$351","v":"SEDUC 10.02"},null,"","REMOVER GRADIS EM BARRA EXISTENTES NA EDIFICAÇÃO; PRESERVAR A INTEGRIDADE DAS PEÇAS; AS MESMAS DEVEM SER REAPLICADAS EM NA MESMA EDIFICAÇÃO, A DEPENDER DAS INDICAÇÕES DE PROJETO OU ORIENTAÇÕES DA ADMINISTRAÇÃO; ACABAMENTO COM ARGAMASSA."]
["SINAPI",88315,{"$f":"IFERROR(INDEX(INDIRECT(A352&\"!A:D\"),MATCH(B352,INDIRECT(A352&\"!A:A\"),0),2),\"\")","v":""},{"$f":"IFERROR(INDEX(INDIRECT(A352&\"!A:D\"),MATCH(B352,INDIRECT(A352&\"!A:A\"),0),3),\"\")","v":""},{"$f":"IFERROR(INDEX(INDIRECT(A352&\"!A:D\"),MATCH(B352,INDIRECT(A352&\"!A:A\"),0),4),\"\")","v":""},1.5,{"$f":"ROUND(PRODUCT(E352:F352),2)","v":1.5},null,{"$f":"$B$351","v":"SEDUC 10.02"},null,"",{"$error":"#N/A"}]
["SINAPI",88316,{"$f":"IFERROR(INDEX(INDIRECT(A353&\"!A:D\"),MATCH(B353,INDIRECT(A353&\"!A:A\"),0),2),\"\")","v":""},{"$f":"IFERROR(INDEX(INDIRECT(A353&\"!A:D\"),MATCH(B353,INDIRECT(A353&\"!A:A\"),0),3),\"\")","v":""},{"$f":"IFERROR(INDEX(INDIRECT(A353&\"!A:D\"),MATCH(B353,INDIRECT(A353&\"!A:A\"),0),4),\"\")","v":""},1.6,{"$f":"ROUND(PRODUCT(E353:F353),2)","v":1.6},null,{"$f":"$B$351","v":"SEDUC 10.02"},null,"",{"$error":"#N/A"}]
["SINAPI",88631,{"$f":"IFERROR(INDEX(INDIRECT(A354&\"!A:D\"),MATCH(B354,INDIRECT(A354&\"!A:A\"),0),2),\"\")","v":""},{"$f":"IFERROR(INDEX(INDIRECT(A354&\"!A:D\"),MATCH(B354,INDIRECT(A354&\"!A:A\"),0),3),\"\")","v":""},{"$f":"IFERROR(INDEX(INDIRECT(A354&\"!A:D\"),MATCH(B354,INDIRECT(A354&\"!A:A\"),0),4),\"\")","v":""},4.0000000000000001E-3,{"$f":"ROUND(PRODUCT(E354:F354),2)","v":0},null,{"$f":"$B$351","v":"SEDUC 10.02"},null,"",{"$error":"#N/A"}]
[null,null,null,null,null,null,null,null,{"$f":"$B$351","v":"SEDUC 10.02"},null,"",{"$error":"#N/A"}]
[null,"SEDUC 10.03","RECOMPOSIÇÃO DE ALIZAR EM MADEIRAS PARA PORTAS","M",null,null,{"$f":"SUM(G357:G360)","v":1.29},null,{"$f":"$B$356","v":"SEDUC 10.03"},null,"","RECOMPOR ALIZARES AUXENTES OU DANIFICADOS EM ESQUADRIAS DE MADEIRA COM NOVAS PEÇAS FIXADAS COM PREGOS."]
["SINAPI",88261,{"$f":"IFERROR(INDEX(INDIRECT(A357&\"!A:D\"),MATCH(B357,INDIRECT(A357&\"!A:A\"),0),2),\"\")","v":""},{"$f":"IFERROR(INDEX(INDIRECT(A357&\"!A:D\"),MATCH(B357,INDIRECT(A357&\"!A:A\"),0),3),\"\")","v":""},{"$f":"IFERROR(INDEX(INDIRECT(A357&\"!A:D\"),MATCH(B357,INDIRECT(A357&\"!A:A\"),0),4),\"\")","v":""},0.08,{"$f":"ROUND(PRODUCT(E357:F357),2)","v":0.08},null,"SEDUC 10.03",null,"",{"$error":"#N/A"}]
["SINAPI",88316,{"$f":"IFERROR(INDEX(INDIRECT(A358&\"!A:D\"),MATCH(B358,INDIRECT(A358&\"!A:A\"),0),2),\"\")","v":""},{"$f":"IFERROR(INDEX(INDIRECT(A358&\"!A:D\"),MATCH(B358,INDIRECT(A358&\"!A:A\"),0),3),\"\")","v":""},{"$f":"IFERROR(INDEX(INDIRECT(A358&\"!A:D\"),MATCH(B358,INDIRECT(A358&\"!A:A\"),0),4),\"\")","v":""},0.04,{"$f":"ROUND(PRODUCT(E358:F358),2)","v":0.04},null,"SEDUC 10.03",null,"",{"$error":"#N/A"}]
["iSINAPI",20007,{"$f":"IFERROR(INDEX(INDIRECT(A359&\"!A:D\"),MATCH(B359,INDIRECT(A359&\"!A:A\"),0),2),\"\")","v":""},{"$f":"IFERROR(INDEX(INDIRECT(A359&\"!A:D\"),MATCH(B359,INDIRECT(A359&\"!A:A\"),0),3),\"\")","v":""},{"$f":"IFERROR(INDEX(INDIRECT(A359&\"!A:D\"),MATCH(B359,INDIRECT(A359&\"!A:A\"),0),4),\"\")","v":""},1.157,{"$f":"ROUND(PRODUCT(E359:F359),2)","v":1.1599999999999999},null,"SEDUC 10.03",null,"",{"$error":"#N/A"}]
["iSINAPI",39026,{"$f":"IFERROR(INDEX(INDIRECT(A360&\"!A:D\"),MATCH(B360,INDIRECT(A360&\"!A:A\"),0),2),\"\")","v":""},{"$f":"IFERROR(INDEX(INDIRECT(A360&\"!A:D\"),MATCH(B360,INDIRECT(A360&\"!A:A\"),0),3),\"\")","v":""},{"$f":"IFERROR(INDEX(INDIRECT(A360&\"!A:D\"),MATCH(B360,INDIRECT(A360&\"!A:A\"),0),4),\"\")","v":""},6.0000000000000001E-3,{"$f":"ROUND(PRODUCT(E360:F360),2)","v":0.01},null,"SEDUC 10.03",null,"",{"$error":"#N/A"}]
[null,null,null,null,null,null,null,null,"SEDUC 10.03",null,"",{"$error":"#N/A"}]
[null,"SEDUC 10.04","REMOÇÃO E REASSENTAMENTO DE ESQUADRIA DE FERRO (Ref. ORSE 1860)","M²",null,null,{"$f":"SUM(G363:G366)","v":5.41},null,{"$f":"$B$362","v":"SEDUC 10.04"},null,"","REMOVER ESQUADRIAS METÁLICAS EXISTENTES NA EDIFICAÇÃO; PRESERVAR A INTEGRIDADE DAS PEÇAS; AS MESMAS DEVEM SER REAPLICADAS EM NA MESMA EDIFICAÇÃO, A DEPENDER DAS INDICAÇÕES DE PROJETO OU ORIENTAÇÕES DA ADMINISTRAÇÃO; ACABAMENTO COM ARGAMASSA."]
["SINAPI",88309,{"$f":"IFERROR(INDEX(INDIRECT(A363&\"!A:D\"),MATCH(B363,INDIRECT(A363&\"!A:A\"),0),2),\"\")","v":""},{"$f":"IFERROR(INDEX(INDIRECT(A363&\"!A:D\"),MATCH(B363,INDIRECT(A363&\"!A:A\"),0),3),\"\")","v":""},{"$f":"IFERROR(INDEX(INDIRECT(A363&\"!A:D\"),MATCH(B363,INDIRECT(A363&\"!A:A\"),0),4),\"\")","v":""},1.2,{"$f":"ROUND(PRODUCT(E363:F363),2)","v":1.2},null,"SEDUC 10.04",null,"",{"$error":"#N/A"}]
["SINAPI",88316,{"$f":"IFERROR(INDEX(INDIRECT(A364&\"!A:D\"),MATCH(B364,INDIRECT(A364&\"!A:A\"),0),2),\"\")","v":""},{"$f":"IFERROR(INDEX(INDIRECT(A364&\"!A:D\"),MATCH(B364,INDIRECT(A364&\"!A:A\"),0),3),\"\")","v":""},{"$f":"IFERROR(INDEX(INDIRECT(A364&\"!A:D\"),MATCH(B364,INDIRECT(A364&\"!A:A\"),0),4),\"\")","v":""},1.4,{"$f":"ROUND(PRODUCT(E364:F364),2)","v":1.4},null,"SEDUC 10.04",null,"",{"$error":"#N/A"}]
["iSINAPI",370,{"$f":"IFERROR(INDEX(INDIRECT(A365&\"!A:D\"),MATCH(B365,INDIRECT(A365&\"!A:A\"),0),2),\"\")","v":""},{"$f":"IFERROR(INDEX(INDIRECT(A365&\"!A:D\"),MATCH(B365,INDIRECT(A365&\"!A:A\"),0),3),\"\")","v":""},{"$f":"IFERROR(INDEX(INDIRECT(A365&\"!A:D\"),MATCH(B365,INDIRECT(A365&\"!A:A\"),0),4),\"\")","v":""},8.9999999999999993E-3,{"$f":"ROUND(PRODUCT(E365:F365),2)","v":0.01},null,"SEDUC 10.04",null,"",{"$error":"#N/A"}]
["iSINAPI",1379,{"$f":"IFERROR(INDEX(INDIRECT(A366&\"!A:D\"),MATCH(B366,INDIRECT(A366&\"!A:A\"),0),2),\"\")","v":""},{"$f":"IFERROR(INDEX(INDIRECT(A366&\"!A:D\"),MATCH(B366,INDIRECT(A366&\"!A:A\"),0),3),\"\")","v":""},{"$f":"IFERROR(INDEX(INDIRECT(A366&\"!A:D\"),MATCH(B366,INDIRECT(A366&\"!A:A\"),0),4),\"\")","v":""},2.8,{"$f":"ROUND(PRODUCT(E366:F366),2)","v":2.8},null,"SEDUC 10.04",null,"",{"$error":"#N/A"}]
[null,null,null,null,null,null,null,null,"SEDUC 10.04",null,"",{"$error":"#N/A"}]
[null,"SEDUC 10.05","VISOR COM VIDRO TEMPERADO (E = 6 MM) EM MOLDURA DE ALUMÍNIO (Ref. SEINFRA C2679)","M²",null,null,{"$f":"SUM(G369:G374)","v":13.6},null,{"$f":"$B$368","v":"SEDUC 10.05"},null,{"$f":"IF(A368=\"\",\"\",IF(E368=0,\"ERRO\",\"\"))","v":""},"EXECUTAR VISOR DE VIDRO TEMPERADO (ESPESSURA DE 6MM) EM PORTAS; FIXAÇÃO COM TRILHO DE ALUMÍNIO; INCLUSO EXECUÇÃO DE FURO."]
["iSINAPI",10505,{"$f":"IFERROR(INDEX(INDIRECT(A369&\"!A:D\"),MATCH(B369,INDIRECT(A369&\"!A:A\"),0),2),\"\")","v":""},{"$f":"IFERROR(INDEX(INDIRECT(A369&\"!A:D\"),MATCH(B369,INDIRECT(A369&\"!A:A\"),0),3),\"\")","v":""},{"$f":"IFERROR(INDEX(INDIRECT(A369&\"!A:D\"),MATCH(B369,INDIRECT(A369&\"!A:A\"),0),4),\"\")","v":""},1,{"$f":"ROUND(PRODUCT(E369:F369),2)","v":1},null,"SEDUC 10.05",null,"",{"$error":"#N/A"}]
["iSINAPI",37595,"","","",3.1,3.1,null,"SEDUC 10.05",null,"",{"$error":"#N/A"}]
["iSEINFRA","i1515","","","",1.5,1.5,null,"SEDUC 10.05",null,"",{"$error":"#N/A"}]
["iSINAPI",11581,"","","",4,4,null,"SEDUC 10.05",null,"",{"$error":"#N/A"}]
["SINAPI",88316,"","","",1.5,1.5,null,"SEDUC 10.05",null,"",{"$error":"#N/A"}]
["SINAPI",88309,"","","",2.5,2.5,null,"SEDUC 10.05",null,"",{"$error":"#N/A"}]
[null,null,null,null,null,null,null,null,"SEDUC 10.05",null,"",{"$error":"#N/A"}]
[null,"SEDUC 10.06","FERROLHO DE SOBREPOR DE FERRO CHATO ZINCADO PARA PORTAS OU JANELAS (Ref. SEINFRA C1365)","UN",null,null,{"$f":"SUM(G377:G378)","v":1.35},null,{"$f":"$B$376","v":"SEDUC 10.06"},null,"","INSTALAR FERROLHO DE FERRO CHATO ZINCADO 3\" EM PORTAS OU JANELAS; FIXAÇÃO COM PARAFUSOS; "]
["SINAPI",88239,{"$f":"IFERROR(INDEX(INDIRECT(A377&\"!A:D\"),MATCH(B377,INDIRECT(A377&\"!A:A\"),0),2),\"\")","v":""},{"$f":"IFERROR(INDEX(INDIRECT(A377&\"!A:D\"),MATCH(B377,INDIRECT(A377&\"!A:A\"),0),3),\"\")","v":""},{"$f":"IFERROR(INDEX(INDIRECT(A377&\"!A:D\"),MATCH(B377,INDIRECT(A377&\"!A:A\"),0),4),\"\")","v":""},0.35,{"$f":"ROUND(PRODUCT(E377:F377),2)","v":0.35},null,{"$f":"$B$376","v":"SEDUC 10.06"},null,"",{"$error":"#N/A"}]
["iSINAPI",3107,{"$f":"IFERROR(INDEX(INDIRECT(A378&\"!A:D\"),MATCH(B378,INDIRECT(A378&\"!A:A\"),0),2),\"\")","v":""},{"$f":"IFERROR(INDEX(INDIRECT(A378&\"!A:D\"),MATCH(B378,INDIRECT(A378&\"!A:A\"),0),3),\"\")","v":""},{"$f":"IFERROR(INDEX(INDIRECT(A378&\"!A:D\"),MATCH(B378,INDIRECT(A378&\"!A:A\"),0),4),\"\")","v":""},1,{"$f":"ROUND(PRODUCT(E378:F378),2)","v":1},null,{"$f":"$B$376","v":"SEDUC 10.06"},null,"",{"$error":"#N/A"}]
[null,null,null,null,null,null,null,null,{"$f":"$B$376","v":"SEDUC 10.06"},null,"",{"$error":"#N/A"}]
[null,"SEDUC 10.07","PORTA DE VIDRO TEMPERADO JATEADO INCOLOR PARA BANHEIROS (60 X 150 CM), UMA FOLHA, ESP = 8 MM, INCLUSIVE JOGO DE FERRAGENS.","UN",null,null,{"$f":"SUM(G381:G382)","v":1.25},null,{"$f":"$B$380","v":"SEDUC 10.07"},null,"","INSTALAR PORTA DE VIDRO TEMPERADO JATEADO (ESP = 8 MM) COM DIMENSÕES 60x150 CM; INCLUSO JOGO DE FERRAGENS COMPOSTO POR DOBRADIÇAS, TRINCO E FECHADURA."]
["SINAPI",84885,{"$f":"IFERROR(INDEX(INDIRECT(A381&\"!A:D\"),MATCH(B381,INDIRECT(A381&\"!A:A\"),0),2),\"\")","v":""},{"$f":"IFERROR(INDEX(INDIRECT(A381&\"!A:D\"),MATCH(B381,INDIRECT(A381&\"!A:A\"),0),3),\"\")","v":""},{"$f":"IFERROR(INDEX(INDIRECT(A381&\"!A:D\"),MATCH(B381,INDIRECT(A381&\"!A:A\"),0),4),\"\")","v":""},1,{"$f":"ROUND(PRODUCT(E381:F381),2)","v":1},null,{"$f":"$B$380","v":"SEDUC 10.07"},null,"",{"$error":"#N/A"}]
["SINAPI",72119,{"$f":"IFERROR(INDEX(INDIRECT(A382&\"!A:D\"),MATCH(B382,INDIRECT(A382&\"!A:A\"),0),2),\"\")","v":""},{"$f":"IFERROR(INDEX(INDIRECT(A382&\"!A:D\"),MATCH(B382,INDIRECT(A382&\"!A:A\"),0),3),\"\")","v":""},{"$f":"IFERROR(INDEX(INDIRECT(A382&\"!A:D\"),MATCH(B382,INDIRECT(A382&\"!A:A\"),0),4),\"\")","v":""},0.25,{"$f":"ROUND(PRODUCT(E382:F382),2)","v":0.25},null,{"$f":"$B$380","v":"SEDUC 10.07"},null,"",{"$error":"#N/A"}]
[null,null,null,null,null,null,null,null,{"$f":"$B$380","v":"SEDUC 10.07"},null,"",{"$error":"#N/A"}]
[null,"SEDUC 10.08","PUXADOR HORIZONTAL/ VERTICAL PARA PORTA  (Ref. SEINFRA C4638)","UN",null,null,{"$f":"SUM(G385:G386)","v":1.9},null,{"$f":"$B$384","v":"SEDUC 10.08"},null,"","INSTALAR PUXADOR METÁLICO EM PORTAS; COMPRIMENTO APROXIMADO DE 1 METRO."]
["iSEINFRA","I8639",{"$f":"IFERROR(INDEX(INDIRECT(A385&\"!A:D\"),MATCH(B385,INDIRECT(A385&\"!A:A\"),0),2),\"\")","v":""},{"$f":"IFERROR(INDEX(INDIRECT(A385&\"!A:D\"),MATCH(B385,INDIRECT(A385&\"!A:A\"),0),3),\"\")","v":""},{"$f":"IFERROR(INDEX(INDIRECT(A385&\"!A:D\"),MATCH(B385,INDIRECT(A385&\"!A:A\"),0),4),\"\")","v":""},1,{"$f":"ROUND(PRODUCT(E385:F385),2)","v":1},null,{"$f":"$B$384","v":"SEDUC 10.08"},null,"",{"$error":"#N/A"}]
["SINAPI",88309,{"$f":"IFERROR(INDEX(INDIRECT(A386&\"!A:D\"),MATCH(B386,INDIRECT(A386&\"!A:A\"),0),2),\"\")","v":""},{"$f":"IFERROR(INDEX(INDIRECT(A386&\"!A:D\"),MATCH(B386,INDIRECT(A386&\"!A:A\"),0),3),\"\")","v":""},{"$f":"IFERROR(INDEX(INDIRECT(A386&\"!A:D\"),MATCH(B386,INDIRECT(A386&\"!A:A\"),0),4),\"\")","v":""},{"$f":"1.5*0.6","v":0.9},{"$f":"ROUND(PRODUCT(E386:F386),2)","v":0.9},null,{"$f":"$B$384","v":"SEDUC 10.08"},null,"",{"$error":"#N/A"}]
[null,null,null,null,null,null,null,null,{"$f":"$B$384","v":"SEDUC 10.08"},null,"",{"$error":"#N/A"}]
[null,"SEDUC 10.09","PORTA EM CHAPA LISA DE ALUMÍNIO, COR N/P/B, COMUM, DE ABRIR OU CORRER (Ref. ORSE 11956)","M²",null,null,{"$f":"SUM(G389:G392)","v":3},null,{"$f":"$B$388","v":"SEDUC 10.09"},null,"","INSTALAR PORTA LISA EM ALUMÍNIO EM LOCAIS INDICADOS EM PROJETO; OBEDECER DIMENSÕES INDICADAS."]
["iORSE",12807,{"$f":"IFERROR(INDEX(INDIRECT(A389&\"!A:D\"),MATCH(B389,INDIRECT(A389&\"!A:A\"),0),2),\"\")","v":""},{"$f":"IFERROR(INDEX(INDIRECT(A389&\"!A:D\"),MATCH(B389,INDIRECT(A389&\"!A:A\"),0),3),\"\")","v":""},{"$f":"IFERROR(INDEX(INDIRECT(A389&\"!A:D\"),MATCH(B389,INDIRECT(A389&\"!A:A\"),0),4),\"\")","v":""},1,{"$f":"ROUND(PRODUCT(E389:F389),2)","v":1},null,"SEDUC 10.09",null,"",{"$error":"#N/A"}]
["SINAPI",88309,{"$f":"IFERROR(INDEX(INDIRECT(A390&\"!A:D\"),MATCH(B390,INDIRECT(A390&\"!A:A\"),0),2),\"\")","v":""},{"$f":"IFERROR(INDEX(INDIRECT(A390&\"!A:D\"),MATCH(B390,INDIRECT(A390&\"!A:A\"),0),3),\"\")","v":""},{"$f":"IFERROR(INDEX(INDIRECT(A390&\"!A:D\"),MATCH(B390,INDIRECT(A390&\"!A:A\"),0),4),\"\")","v":""},1,{"$f":"ROUND(PRODUCT(E390:F390),2)","v":1},null,"SEDUC 10.09",null,"",{"$error":"#N/A"}]
["SINAPI",88316,{"$f":"IFERROR(INDEX(INDIRECT(A391&\"!A:D\"),MATCH(B391,INDIRECT(A391&\"!A:A\"),0),2),\"\")","v":""},{"$f":"IFERROR(INDEX(INDIRECT(A391&\"!A:D\"),MATCH(B391,INDIRECT(A391&\"!A:A\"),0),3),\"\")","v":""},{"$f":"IFERROR(INDEX(INDIRECT(A391&\"!A:D\"),MATCH(B391,INDIRECT(A391&\"!A:A\"),0),4),\"\")","v":""},1,{"$f":"ROUND(PRODUCT(E391:F391),2)","v":1},null,"SEDUC 10.09",null,"",{"$error":"#N/A"}]
["SINAPI",88629,{"$f":"IFERROR(INDEX(INDIRECT(A392&\"!A:D\"),MATCH(B392,INDIRECT(A392&\"!A:A\"),0),2),\"\")","v":""},{"$f":"IFERROR(INDEX(INDIRECT(A392&\"!A:D\"),MATCH(B392,INDIRECT(A392&\"!A:A\"),0),3),\"\")","v":""},{"$f":"IFERROR(INDEX(INDIRECT(A392&\"!A:D\"),MATCH(B392,INDIRECT(A392&\"!A:A\"),0),4),\"\")","v":""},3.0000000000000001E-3,{"$f":"ROUND(PRODUCT(E392:F392),2)","v":0},null,"SEDUC 10.09",null,"",{"$error":"#N/A"}]
[null,null,null,null,null,null,null,null,"SEDUC 10.09",null,"",{"$error":"#N/A"}]
[null,"SEDUC 10.10","REVISÃO DE JANELA DE MADEIRA ALMOFADADA  COM APROVEITAMENTO DE 70%  (Ref. ORSE 01811)","M²",null,null,{"$f":"SUM(G395:G401)","v":6.95},null,{"$f":"$B$394","v":"SEDUC 10.10"},null,"",0]
["iORSE",584,{"$f":"IFERROR(INDEX(INDIRECT(A395&\"!A:D\"),MATCH(B395,INDIRECT(A395&\"!A:A\"),0),2),\"\")","v":""},{"$f":"IFERROR(INDEX(INDIRECT(A395&\"!A:D\"),MATCH(B395,INDIRECT(A395&\"!A:A\"),0),3),\"\")","v":""},{"$f":"IFERROR(INDEX(INDIRECT(A395&\"!A:D\"),MATCH(B395,INDIRECT(A395&\"!A:A\"),0),4),\"\")","v":""},0.4,{"$f":"ROUND(PRODUCT(E395:F395),2)","v":0.4},null,{"$f":"$B$394","v":"SEDUC 10.10"},null,"",{"$error":"#N/A"}]
["SINAPI",84847,"","","",0.3,0.3,null,"SEDUC 10.10",null,"",{"$error":"#N/A"}]
["iSINAPI",370,"","","",1E-3,0,null,"SEDUC 10.10",null,"",{"$error":"#N/A"}]
["SINAPI",88261,"","","",3,3,null,"SEDUC 10.10",null,"",{"$error":"#N/A"}]
["iSINAPI",1379,"","","",0.2,0.2,null,"SEDUC 10.10",null,"",{"$error":"#N/A"}]
["iSINAPI",5075,"","","",0.05,0.05,null,"SEDUC 10.10",null,"",{"$error":"#N/A"}]
["SINAPI",88316,"","","",3,3,null,"SEDUC 10.10",null,"",{"$error":"#N/A"}]
[null,null,null,null,null,null,null,null,"SEDUC 10.10",null,"",{"$error":"#N/A"}]
[null,"SEDUC 10.11","GRADIL COM PORTÃO DE CORRER E/OU ABRIR, EM CANTONEIRA \"L\" DE 2 X 5/16\" DOBRADA (MONTANTE), TRÊS BARRAS CHATAS 1 X 5/16\" (HORIZONTAL) E BARRAS QUADRADAS 3/4\" (VERTICAL)   (Ref. ORSE 7640)","M²",null,null,{"$f":"SUM(G404:G409)","v":4.28},null,{"$f":"$B$403","v":"SEDUC 10.11"},null,"",0]
["iORSE",7108,{"$f":"IFERROR(INDEX(INDIRECT(A404&\"!A:D\"),MATCH(B404,INDIRECT(A404&\"!A:A\"),0),2),\"\")","v":""},{"$f":"IFERROR(INDEX(INDIRECT(A404&\"!A:D\"),MATCH(B404,INDIRECT(A404&\"!A:A\"),0),3),\"\")","v":""},{"$f":"IFERROR(INDEX(INDIRECT(A404&\"!A:D\"),MATCH(B404,INDIRECT(A404&\"!A:A\"),0),4),\"\")","v":""},1,{"$f":"ROUND(PRODUCT(E404:F404),2)","v":1},null,{"$f":"$B$403","v":"SEDUC 10.11"},null,"",{"$error":"#N/A"}]
["SINAPI",88309,"","","",1.5,1.5,null,"SEDUC 10.11",null,"",{"$error":"#N/A"}]
["SINAPI",88316,"","","",1.5,1.5,null,"SEDUC 10.11",null,"",{"$error":"#N/A"}]
["ORSE",85,"","","",0.21,0.21,null,"SEDUC 10.11",null,"",{"$error":"#N/A"}]
["SINAPI",94963,"","","",2.1000000000000001E-2,0.02,null,"SEDUC 10.11",null,"",{"$error":"#N/A"}]
["SINAPI",93358,"","","",4.7E-2,0.05,null,"SEDUC 10.11",null,"",{"$error":"#N/A"}]
[null,null,null,null,null,null,null,null,"SEDUC 10.11",null,"",{"$error":"#N/A"}]
[null,"SEDUC 10.12","BATENTE EM MADEIRA DE LEI L = 0,14 M (CAIXÃO), INCLUINDO 02 JOGOS DE ALIZAR  (Ref. ORSE 1770)","M",null,null,{"$f":"SUM(G412:G417)","v":1.96},null,{"$f":"$B$411","v":"SEDUC 10.12"},null,"",0]
["iORSE",487,{"$f":"IFERROR(INDEX(INDIRECT(A412&\"!A:D\"),MATCH(B412,INDIRECT(A412&\"!A:A\"),0),2),\"\")","v":""},{"$f":"IFERROR(INDEX(INDIRECT(A412&\"!A:D\"),MATCH(B412,INDIRECT(A412&\"!A:A\"),0),3),\"\")","v":""},{"$f":"IFERROR(INDEX(INDIRECT(A412&\"!A:D\"),MATCH(B412,INDIRECT(A412&\"!A:A\"),0),4),\"\")","v":""},1.1000000000000001,{"$f":"ROUND(PRODUCT(E412:F412),2)","v":1.1000000000000001},null,{"$f":"$B$411","v":"SEDUC 10.12"},null,"",{"$error":"#N/A"}]
["SINAPI",88262,"","","",0.28000000000000003,0.28000000000000003,null,"SEDUC 10.12",null,"",{"$error":"#N/A"}]
["SINAPI",88309,"","","",0.3,0.3,null,"SEDUC 10.12",null,"",{"$error":"#N/A"}]
["iSINAPI",5075,"","","",4.0000000000000001E-3,0,null,"SEDUC 10.12",null,"",{"$error":"#N/A"}]
["SINAPI",88316,"","","",0.28000000000000003,0.28000000000000003,null,"SEDUC 10.12",null,"",{"$error":"#N/A"}]
["SINAPI",88628,"","","",1.6000000000000001E-3,0,null,"SEDUC 10.12",null,"",{"$error":"#N/A"}]
[null,null,null,null,null,null,null,null,"SEDUC 10.12",null,"",{"$error":"#N/A"}]
[null,"SEDUC 10.15","PORTA EXTERNA DE CEDRO LISA COMPLETA DUAS FOLHAS (1.60X2.10)m ( Ref. SEINFRA C1975 )","UN",null,null,{"$f":"SUM(G420:G435)","v":46.95},null,{"$f":"$B$419","v":"SEDUC 10.15"},null,null,{"$error":"#N/A"}]
["SINAPI",88316,{"$f":"IFERROR(INDEX(INDIRECT(A420&\"!A:D\"),MATCH(B420,INDIRECT(A420&\"!A:A\"),0),2),\"\")","v":""},{"$f":"IFERROR(INDEX(INDIRECT(A420&\"!A:D\"),MATCH(B420,INDIRECT(A420&\"!A:A\"),0),3),\"\")","v":""},{"$f":"IFERROR(INDEX(INDIRECT(A420&\"!A:D\"),MATCH(B420,INDIRECT(A420&\"!A:A\"),0),4),\"\")","v":""},2,{"$f":"ROUND(PRODUCT(E420:F420),2)","v":2},null,{"$f":"$B$419","v":"SEDUC 10.15"},null,null,{"$error":"#N/A"}]
["SINAPI",88239,"","","",6,6,null,"SEDUC 10.15",null,null,{"$error":"#N/A"}]
["SINAPI",88261,"","","",6,6,null,"SEDUC 10.15",null,null,{"$error":"#N/A"}]
["SINAPI",88309,"","","",2,2,null,"SEDUC 10.15",null,null,{"$error":"#N/A"}]
["iSEINFRA","I1708","","","",2,2,null,"SEDUC 10.15",null,null,{"$error":"#N/A"}]
["iSINAPI",370,"","","",1.06E-2,0.01,null,"SEDUC 10.15",null,null,{"$error":"#N/A"}]
["iSEINFRA","I1241","","","",1,1,null,"SEDUC 10.15",null,null,{"$error":"#N/A"}]
["iSEINFRA","I1919","","","",6,6,null,"SEDUC 10.15",null,null,{"$error":"#N/A"}]
["iSINAPI",5072,"","","",0.5,0.5,null,"SEDUC 10.15",null,null,{"$error":"#N/A"}]
["iSINAPI",2421,"","","",6,6,null,"SEDUC 10.15",null,null,{"$error":"#N/A"}]
["iSEINFRA","I0210","","","",1,1,null,"SEDUC 10.15",null,null,{"$error":"#N/A"}]
["iSINAPI",4382,"","","",8,8,null,"SEDUC 10.15",null,null,{"$error":"#N/A"}]
["iSINAPI",3080,"","","",1,1,null,"SEDUC 10.15",null,null,{"$error":"#N/A"}]
["iSEINFRA","I1158",{"$f":"IFERROR(INDEX(INDIRECT(A433&\"!A:D\"),MATCH(B433,INDIRECT(A433&\"!A:A\"),0),2),\"\")","v":""},{"$f":"IFERROR(INDEX(INDIRECT(A433&\"!A:D\"),MATCH(B433,INDIRECT(A433&\"!A:A\"),0),3),\"\")","v":""},{"$f":"IFERROR(INDEX(INDIRECT(A433&\"!A:D\"),MATCH(B433,INDIRECT(A433&\"!A:A\"),0),4),\"\")","v":""},2,{"$f":"ROUND(PRODUCT(E433:F433),2)","v":2},null,"SEDUC 10.15",null,null,{"$error":"#N/A"}]
["iSINAPI",1106,"","","",1.72,1.72,null,"SEDUC 10.15",null,null,{"$error":"#N/A"}]
["iSINAPI",1379,"","","",1.72,1.72,null,"SEDUC 10.15",null,null,{"$error":"#N/A"}]
[null,null,null,null,null,null,null,null,"SEDUC 10.15",null,null,{"$error":"#N/A"}]
[null,"SEDUC 10.16","REVISÃO DE ESQUADRIA DE FERRO COM FECHAMNETO EM CHAPA DE MADEIRA COMPENSADA E=10MM COM PREVISÃO DE TROCA DE ALAVANCA/FECHADURA (Ref. ORSE 1859)","M²",null,null,{"$f":"SUM(G438:G442)","v":1.94},null,{"$f":"$B$437","v":"SEDUC 10.16"},null,null,"ESTE ITEM CONSISTE NA RECUPERAÇÃO DE PEÇAS EM JANELAS QUE AINDA APRESENTAM CONDIÇÕES DE USO. INCLUI A SUBSTITUIÇÃO DE ELEMENTOS DE FECHAMENTO E O REPARO NAS PARTES METÁLICAS (REQUADROS, FECHADURAS E ALAVANCAS)"]
["iSEINFRA","I1158",{"$f":"IFERROR(INDEX(INDIRECT(A438&\"!A:D\"),MATCH(B438,INDIRECT(A438&\"!A:A\"),0),2),\"\")","v":""},{"$f":"IFERROR(INDEX(INDIRECT(A438&\"!A:D\"),MATCH(B438,INDIRECT(A438&\"!A:A\"),0),3),\"\")","v":""},{"$f":"IFERROR(INDEX(INDIRECT(A438&\"!A:D\"),MATCH(B438,INDIRECT(A438&\"!A:A\"),0),4),\"\")","v":""},0.5,{"$f":"ROUND(PRODUCT(E438:F438),2)","v":0.5},null,{"$f":"$B$437","v":"SEDUC 10.16"},null,null,{"$error":"#N/A"}]
["iSINAPI",1364,{"$f":"IFERROR(INDEX(INDIRECT(A439&\"!A:D\"),MATCH(B439,INDIRECT(A439&\"!A:A\"),0),2),\"\")","v":""},{"$f":"IFERROR(INDEX(INDIRECT(A439&\"!A:D\"),MATCH(B439,INDIRECT(A439&\"!A:A\"),0),3),\"\")","v":""},{"$f":"IFERROR(INDEX(INDIRECT(A439&\"!A:D\"),MATCH(B439,INDIRECT(A439&\"!A:A\"),0),4),\"\")","v":""},0.18,{"$f":"ROUND(PRODUCT(E439:F439),2)","v":0.18},null,"SEDUC 10.16",null,null,{"$error":"#N/A"}]
["iORSE",949,{"$f":"IFERROR(INDEX(INDIRECT(A440&\"!A:D\"),MATCH(B440,INDIRECT(A440&\"!A:A\"),0),2),\"\")","v":""},{"$f":"IFERROR(INDEX(INDIRECT(A440&\"!A:D\"),MATCH(B440,INDIRECT(A440&\"!A:A\"),0),3),\"\")","v":""},{"$f":"IFERROR(INDEX(INDIRECT(A440&\"!A:D\"),MATCH(B440,INDIRECT(A440&\"!A:A\"),0),4),\"\")","v":""},0.18,{"$f":"ROUND(PRODUCT(E440:F440),2)","v":0.18},null,"SEDUC 10.16",null,null,{"$error":"#N/A"}]
["SINAPI",88315,{"$f":"IFERROR(INDEX(INDIRECT(A441&\"!A:D\"),MATCH(B441,INDIRECT(A441&\"!A:A\"),0),2),\"\")","v":""},{"$f":"IFERROR(INDEX(INDIRECT(A441&\"!A:D\"),MATCH(B441,INDIRECT(A441&\"!A:A\"),0),3),\"\")","v":""},{"$f":"IFERROR(INDEX(INDIRECT(A441&\"!A:D\"),MATCH(B441,INDIRECT(A441&\"!A:A\"),0),4),\"\")","v":""},0.9,{"$f":"ROUND(PRODUCT(E441:F441),2)","v":0.9},null,"SEDUC 10.16",null,null,{"$error":"#N/A"}]
["SINAPI",88316,{"$f":"IFERROR(INDEX(INDIRECT(A442&\"!A:D\"),MATCH(B442,INDIRECT(A442&\"!A:A\"),0),2),\"\")","v":""},{"$f":"IFERROR(INDEX(INDIRECT(A442&\"!A:D\"),MATCH(B442,INDIRECT(A442&\"!A:A\"),0),3),\"\")","v":""},{"$f":"IFERROR(INDEX(INDIRECT(A442&\"!A:D\"),MATCH(B442,INDIRECT(A442&\"!A:A\"),0),4),\"\")","v":""},0.18,{"$f":"ROUND(PRODUCT(E442:F442),2)","v":0.18},null,"SEDUC 10.16",null,null,{"$error":"#N/A"}]
[null,null,null,null,null,null,null,null,"SEDUC 10.16",null,null,{"$error":"#N/A"}]
[]
[null,"SEDUC 10.17","REVISÃO DE ESQUADRIA DE FERRO COM FECHAMNETO EM CHAPA DE AÇO A FRIO BITOLA MSG 24, E=0,60MM COM PREVISÃO DE TROCA DE ALAVANCA/FECHADURA (Ref. ORSE 1859)","M²",null,null,{"$f":"SUM(G446:G450)","v":6.56},null,{"$f":"$B$445","v":"SEDUC 10.17"},null,null,"ESTE ITEM CONSISTE NA RECUPERAÇÃO DE PEÇAS EM JANELAS QUE AINDA APRESENTAM CONDIÇÕES DE USO. INCLUI A SUBSTITUIÇÃO DE ELEMENTOS DE FECHAMENTO E O REPARO NAS PARTES METÁLICAS (REQUADROS, FECHADURAS E ALAVANCAS)"]
["iSEINFRA","I1158",{"$f":"IFERROR(INDEX(INDIRECT(A446&\"!A:D\"),MATCH(B446,INDIRECT(A446&\"!A:A\"),0),2),\"\")","v":""},{"$f":"IFERROR(INDEX(INDIRECT(A446&\"!A:D\"),MATCH(B446,INDIRECT(A446&\"!A:A\"),0),3),\"\")","v":""},{"$f":"IFERROR(INDEX(INDIRECT(A446&\"!A:D\"),MATCH(B446,INDIRECT(A446&\"!A:A\"),0),4),\"\")","v":""},0.5,{"$f":"ROUND(PRODUCT(E446:F446),2)","v":0.5},null,"SEDUC 10.17"]
["iSINAPI",1327,{"$f":"IFERROR(INDEX(INDIRECT(A447&\"!A:D\"),MATCH(B447,INDIRECT(A447&\"!A:A\"),0),2),\"\")","v":""},{"$f":"IFERROR(INDEX(INDIRECT(A447&\"!A:D\"),MATCH(B447,INDIRECT(A447&\"!A:A\"),0),3),\"\")","v":""},{"$f":"IFERROR(INDEX(INDIRECT(A447&\"!A:D\"),MATCH(B447,INDIRECT(A447&\"!A:A\"),0),4),\"\")","v":""},4.8,{"$f":"ROUND(PRODUCT(E447:F447),2)","v":4.8},null,"SEDUC 10.17"]
["iORSE",949,{"$f":"IFERROR(INDEX(INDIRECT(A448&\"!A:D\"),MATCH(B448,INDIRECT(A448&\"!A:A\"),0),2),\"\")","v":""},{"$f":"IFERROR(INDEX(INDIRECT(A448&\"!A:D\"),MATCH(B448,INDIRECT(A448&\"!A:A\"),0),3),\"\")","v":""},{"$f":"IFERROR(INDEX(INDIRECT(A448&\"!A:D\"),MATCH(B448,INDIRECT(A448&\"!A:A\"),0),4),\"\")","v":""},0.18,{"$f":"ROUND(PRODUCT(E448:F448),2)","v":0.18},null,"SEDUC 10.17"]
["SINAPI",88315,{"$f":"IFERROR(INDEX(INDIRECT(A449&\"!A:D\"),MATCH(B449,INDIRECT(A449&\"!A:A\"),0),2),\"\")","v":""},{"$f":"IFERROR(INDEX(INDIRECT(A449&\"!A:D\"),MATCH(B449,INDIRECT(A449&\"!A:A\"),0),3),\"\")","v":""},{"$f":"IFERROR(INDEX(INDIRECT(A449&\"!A:D\"),MATCH(B449,INDIRECT(A449&\"!A:A\"),0),4),\"\")","v":""},0.9,{"$f":"ROUND(PRODUCT(E449:F449),2)","v":0.9},null,"SEDUC 10.17"]
["SINAPI",88316,{"$f":"IFERROR(INDEX(INDIRECT(A450&\"!A:D\"),MATCH(B450,INDIRECT(A450&\"!A:A\"),0),2),\"\")","v":""},{"$f":"IFERROR(INDEX(INDIRECT(A450&\"!A:D\"),MATCH(B450,INDIRECT(A450&\"!A:A\"),0),3),\"\")","v":""},{"$f":"IFERROR(INDEX(INDIRECT(A450&\"!A:D\"),MATCH(B450,INDIRECT(A450&\"!A:A\"),0),4),\"\")","v":""},0.18,{"$f":"ROUND(PRODUCT(E450:F450),2)","v":0.18},null,"SEDUC 10.17"]
[null,null,null,null,null,null,null,null,"SEDUC 10.17",null,{"$f":"IF(A451=\"\",\"\",IF(E451=0,\"ERRO\",\"\"))","v":""},{"$error":"#N/A"}]
[null,"SEDUC 10.18","PORTA DE ACO CHAPA 24, DE ENROLAR, RAIADA, LARGA COM ACABAMENTO GALVANIZADO NATURAL (Ref. SINAPI 2019: 74136/3)","M²",null,null,{"$f":"SUM(G453:G457)","v":6.61},null,{"$f":"$B$452","v":"SEDUC 10.18"},null,null,"ESTE ITEM CONSISTE NA RECUPERAÇÃO DE PEÇAS EM JANELAS QUE AINDA APRESENTAM CONDIÇÕES DE USO. INCLUI A SUBSTITUIÇÃO DE ELEMENTOS DE FECHAMENTO E O REPARO NAS PARTES METÁLICAS (REQUADROS, FECHADURAS E ALAVANCAS)",null,null,"PORTA DE ACO CHAPA 24, DE ENROLAR, RAIADA, LARGA COM ACABAMENTO GALVANIZADO NATURAL"]
["iSINAPI",4910,{"$f":"IFERROR(INDEX(INDIRECT(A453&\"!A:D\"),MATCH(B453,INDIRECT(A453&\"!A:A\"),0),2),\"\")","v":""},{"$f":"IFERROR(INDEX(INDIRECT(A453&\"!A:D\"),MATCH(B453,INDIRECT(A453&\"!A:A\"),0),3),\"\")","v":""},{"$f":"IFERROR(INDEX(INDIRECT(A453&\"!A:D\"),MATCH(B453,INDIRECT(A453&\"!A:A\"),0),4),\"\")","v":""},1,{"$f":"ROUND(PRODUCT(E453:F453),2)","v":1},null,{"$f":"$B$452","v":"SEDUC 10.18"}]
["SINAPI",88309,{"$f":"IFERROR(INDEX(INDIRECT(A454&\"!A:D\"),MATCH(B454,INDIRECT(A454&\"!A:A\"),0),2),\"\")","v":""},{"$f":"IFERROR(INDEX(INDIRECT(A454&\"!A:D\"),MATCH(B454,INDIRECT(A454&\"!A:A\"),0),3),\"\")","v":""},{"$f":"IFERROR(INDEX(INDIRECT(A454&\"!A:D\"),MATCH(B454,INDIRECT(A454&\"!A:A\"),0),4),\"\")","v":""},0.8,{"$f":"ROUND(PRODUCT(E454:F454),2)","v":0.8},null,"SEDUC 10.18"]
["SINAPI",88315,{"$f":"IFERROR(INDEX(INDIRECT(A455&\"!A:D\"),MATCH(B455,INDIRECT(A455&\"!A:A\"),0),2),\"\")","v":""},{"$f":"IFERROR(INDEX(INDIRECT(A455&\"!A:D\"),MATCH(B455,INDIRECT(A455&\"!A:A\"),0),3),\"\")","v":""},{"$f":"IFERROR(INDEX(INDIRECT(A455&\"!A:D\"),MATCH(B455,INDIRECT(A455&\"!A:A\"),0),4),\"\")","v":""},1.8,{"$f":"ROUND(PRODUCT(E455:F455),2)","v":1.8},null,"SEDUC 10.18"]
["SINAPI",88316,{"$f":"IFERROR(INDEX(INDIRECT(A456&\"!A:D\"),MATCH(B456,INDIRECT(A456&\"!A:A\"),0),2),\"\")","v":""},{"$f":"IFERROR(INDEX(INDIRECT(A456&\"!A:D\"),MATCH(B456,INDIRECT(A456&\"!A:A\"),0),3),\"\")","v":""},{"$f":"IFERROR(INDEX(INDIRECT(A456&\"!A:D\"),MATCH(B456,INDIRECT(A456&\"!A:A\"),0),4),\"\")","v":""},3,{"$f":"ROUND(PRODUCT(E456:F456),2)","v":3},null,"SEDUC 10.18"]
["SINAPI",88627,{"$f":"IFERROR(INDEX(INDIRECT(A457&\"!A:D\"),MATCH(B457,INDIRECT(A457&\"!A:A\"),0),2),\"\")","v":""},{"$f":"IFERROR(INDEX(INDIRECT(A457&\"!A:D\"),MATCH(B457,INDIRECT(A457&\"!A:A\"),0),3),\"\")","v":""},{"$f":"IFERROR(INDEX(INDIRECT(A457&\"!A:D\"),MATCH(B457,INDIRECT(A457&\"!A:A\"),0),4),\"\")","v":""},6.0000000000000001E-3,{"$f":"ROUND(PRODUCT(E457:F457),2)","v":0.01},null,"SEDUC 10.18"]
[null,null,null,null,null,null,null,null,"SEDUC 10.18",null,{"$f":"IF(A458=\"\",\"\",IF(E458=0,\"ERRO\",\"\"))","v":""},{"$error":"#N/A"}]
[null,"SEDUC 10.20","PORTÃO EM FERRO, EM GRADIL METÁLICO, PADRÃO BELGO OU EQUIVALENTE, DE CORRER (Ref. ORSE: 9072)","M²",null,null,{"$f":"SUM(G460:G464)","v":4.5},null,{"$f":"$B$459","v":"SEDUC 10.20"},null,null,"ESTE ITEM CONSISTE NA RECUPERAÇÃO DE PEÇAS EM JANELAS QUE AINDA APRESENTAM CONDIÇÕES DE USO. INCLUI A SUBSTITUIÇÃO DE ELEMENTOS DE FECHAMENTO E O REPARO NAS PARTES METÁLICAS (REQUADROS, FECHADURAS E ALAVANCAS)",null,"Portão em ferro, em gradil metálico, padrão belgo ou equivalente, de correr"]
["iORSE",8855,{"$f":"IFERROR(INDEX(INDIRECT(A460&\"!A:D\"),MATCH(B460,INDIRECT(A460&\"!A:A\"),0),2),\"\")","v":""},{"$f":"IFERROR(INDEX(INDIRECT(A460&\"!A:D\"),MATCH(B460,INDIRECT(A460&\"!A:A\"),0),3),\"\")","v":""},{"$f":"IFERROR(INDEX(INDIRECT(A460&\"!A:D\"),MATCH(B460,INDIRECT(A460&\"!A:A\"),0),4),\"\")","v":""},1,{"$f":"ROUND(PRODUCT(E460:F460),2)","v":1},null,{"$f":"$B$459","v":"SEDUC 10.20"},null,null,null,null,"PORTÃO EM FERRO, EM GRADIL METÁLICO, PADRÃO BELGO OU EQUIVALENTE, DE CORRER"]
["iORSE",9357,{"$f":"IFERROR(INDEX(INDIRECT(A461&\"!A:D\"),MATCH(B461,INDIRECT(A461&\"!A:A\"),0),2),\"\")","v":""},{"$f":"IFERROR(INDEX(INDIRECT(A461&\"!A:D\"),MATCH(B461,INDIRECT(A461&\"!A:A\"),0),3),\"\")","v":""},{"$f":"IFERROR(INDEX(INDIRECT(A461&\"!A:D\"),MATCH(B461,INDIRECT(A461&\"!A:A\"),0),4),\"\")","v":""},1,{"$f":"ROUND(PRODUCT(E461:F461),2)","v":1},null,"SEDUC 10.20"]
["SINAPI",88628,{"$f":"IFERROR(INDEX(INDIRECT(A462&\"!A:D\"),MATCH(B462,INDIRECT(A462&\"!A:A\"),0),2),\"\")","v":""},{"$f":"IFERROR(INDEX(INDIRECT(A462&\"!A:D\"),MATCH(B462,INDIRECT(A462&\"!A:A\"),0),3),\"\")","v":""},{"$f":"IFERROR(INDEX(INDIRECT(A462&\"!A:D\"),MATCH(B462,INDIRECT(A462&\"!A:A\"),0),4),\"\")","v":""},3.0000000000000001E-3,{"$f":"ROUND(PRODUCT(E462:F462),2)","v":0},null,"SEDUC 10.20"]
["SINAPI",88309,{"$f":"IFERROR(INDEX(INDIRECT(A463&\"!A:D\"),MATCH(B463,INDIRECT(A463&\"!A:A\"),0),2),\"\")","v":""},{"$f":"IFERROR(INDEX(INDIRECT(A463&\"!A:D\"),MATCH(B463,INDIRECT(A463&\"!A:A\"),0),3),\"\")","v":""},{"$f":"IFERROR(INDEX(INDIRECT(A463&\"!A:D\"),MATCH(B463,INDIRECT(A463&\"!A:A\"),0),4),\"\")","v":""},1,{"$f":"ROUND(PRODUCT(E463:F463),2)","v":1},null,"SEDUC 10.20"]
["SINAPI",88316,{"$f":"IFERROR(INDEX(INDIRECT(A464&\"!A:D\"),MATCH(B464,INDIRECT(A464&\"!A:A\"),0),2),\"\")","v":""},{"$f":"IFERROR(INDEX(INDIRECT(A464&\"!A:D\"),MATCH(B464,INDIRECT(A464&\"!A:A\"),0),3),\"\")","v":""},{"$f":"IFERROR(INDEX(INDIRECT(A464&\"!A:D\"),MATCH(B464,INDIRECT(A464&\"!A:A\"),0),4),\"\")","v":""},1.5,{"$f":"ROUND(PRODUCT(E464:F464),2)","v":1.5},null,"SEDUC 10.20"]
[null,null,null,null,null,null,null,null,"SEDUC 10.20",null,{"$f":"IF(A465=\"\",\"\",IF(E465=0,\"ERRO\",\"\"))","v":""},{"$error":"#N/A"}]
[null,"SEDUC 10.21","GRADE DE FERRO DE PROTEÇÃO (Ref. SEINFRA: C1426)","M²",null,null,{"$f":"SUM(G467:G472)","v":10.42},null,{"$f":"$B$466","v":"SEDUC 10.21"},null,null,"ESTE ITEM CONSISTE NA RECUPERAÇÃO DE PEÇAS EM JANELAS QUE AINDA APRESENTAM CONDIÇÕES DE USO. INCLUI A SUBSTITUIÇÃO DE ELEMENTOS DE FECHAMENTO E O REPARO NAS PARTES METÁLICAS (REQUADROS, FECHADURAS E ALAVANCAS)",null,"Portão em ferro, em gradil metálico, padrão belgo ou equivalente, de correr"]
["iSEINFRA","I1222",{"$f":"IFERROR(INDEX(INDIRECT(A467&\"!A:D\"),MATCH(B467,INDIRECT(A467&\"!A:A\"),0),2),\"\")","v":""},{"$f":"IFERROR(INDEX(INDIRECT(A467&\"!A:D\"),MATCH(B467,INDIRECT(A467&\"!A:A\"),0),3),\"\")","v":""},{"$f":"IFERROR(INDEX(INDIRECT(A467&\"!A:D\"),MATCH(B467,INDIRECT(A467&\"!A:A\"),0),4),\"\")","v":""},1,{"$f":"ROUND(PRODUCT(E467:F467),2)","v":1},null,{"$f":"$B$466","v":"SEDUC 10.21"},null,null,null,null,"PORTÃO EM FERRO, EM GRADIL METÁLICO, PADRÃO BELGO OU EQUIVALENTE, DE CORRER"]
["iSINAPI",1106,"","","",0.56999999999999995,0.56999999999999995,null,"SEDUC 10.21"]
["iSINAPI",1379,"","","",2.84,{"$f":"ROUND(PRODUCT(E469:F469),2)","v":2.84},null,"SEDUC 10.21"]
["iSINAPI",370,"","","",8.0000000000000002E-3,0.01,null,"SEDUC 10.21"]
["SINAPI",88309,"","","",3,3,null,"SEDUC 10.21"]
["SINAPI",88316,"","","",3,3,null,"SEDUC 10.21"]
[null,null,null,null,null,null,null,null,"SEDUC 10.21",null,{"$f":"IF(A473=\"\",\"\",IF(E473=0,\"ERRO\",\"\"))","v":""},{"$error":"#N/A"}]
[]
[null,"SEDUC 11","PINTURAS",null,null,null,null,null,{"$f":"$B$475","v":"SEDUC 11"},null,{"$f":"IF(A475=\"\",\"\",IF(E475=0,\"ERRO\",\"\"))","v":""},{"$error":"#N/A"}]
[null,"SEDUC 11.02","REMOÇÃO DE FERRUGEM EM ESQUADRIAS OU ESTRUTURAS METÁLICAS COM SOLVENTE E  ESCOVA DE AÇO (ORSE 4521)","M²",null,null,{"$f":"SUM(G477:G478)","v":2.25},null,{"$f":"$B$476","v":"SEDUC 11.02"},null,"","REMOVER FERRUGENS EXISTENTES EM ESQUADRIAS METÁLICAS QUE NÃO SE APRESENTEM TOTALMENTE COMPROMETIDAS; UTILIZAR SOLVENTE DILUENTE À BASE DE AGUARRÁS E ESCOVA DE AÇO."]
["iSINAPI",5318,{"$f":"IFERROR(INDEX(INDIRECT(A477&\"!A:D\"),MATCH(B477,INDIRECT(A477&\"!A:A\"),0),2),\"\")","v":""},{"$f":"IFERROR(INDEX(INDIRECT(A477&\"!A:D\"),MATCH(B477,INDIRECT(A477&\"!A:A\"),0),3),\"\")","v":""},{"$f":"IFERROR(INDEX(INDIRECT(A477&\"!A:D\"),MATCH(B477,INDIRECT(A477&\"!A:A\"),0),4),\"\")","v":""},0.25,{"$f":"ROUND(PRODUCT(E477:F477),2)","v":0.25},null,{"$f":"$B$476","v":"SEDUC 11.02"},null,"",{"$error":"#N/A"}]
["SINAPI",88316,{"$f":"IFERROR(INDEX(INDIRECT(A478&\"!A:D\"),MATCH(B478,INDIRECT(A478&\"!A:A\"),0),2),\"\")","v":""},{"$f":"IFERROR(INDEX(INDIRECT(A478&\"!A:D\"),MATCH(B478,INDIRECT(A478&\"!A:A\"),0),3),\"\")","v":""},{"$f":"IFERROR(INDEX(INDIRECT(A478&\"!A:D\"),MATCH(B478,INDIRECT(A478&\"!A:A\"),0),4),\"\")","v":""},2,{"$f":"ROUND(PRODUCT(E478:F478),2)","v":2},null,{"$f":"$B$476","v":"SEDUC 11.02"},null,"",{"$error":"#N/A"}]
[null,null,null,null,null,null,null,null,{"$f":"$B$476","v":"SEDUC 11.02"},null,"",{"$error":"#N/A"}]
[null,"SEDUC 11.03","CAIAÇÃO EM 2 DEMÃOS (REF. SEINFRA C0588)","M²",null,null,{"$f":"SUM(G481:G482)","v":0.5},null,{"$f":"$B$480","v":"SEDUC 11.03"},null,"","APLICAR PINTURA À BASE DE CAL EM DUAS DEMÃOS SOBRE PAREDES OU MUROS INDICADOS EM PROJETO OU ESPECIFICADOS PELA ADMINISTRAÇÃO; DEVEM SER DADAS DUAS DEMÃOS."]
["iSINAPI",11161,{"$f":"IFERROR(INDEX(INDIRECT(A481&\"!A:D\"),MATCH(B481,INDIRECT(A481&\"!A:A\"),0),2),\"\")","v":""},{"$f":"IFERROR(INDEX(INDIRECT(A481&\"!A:D\"),MATCH(B481,INDIRECT(A481&\"!A:A\"),0),3),\"\")","v":""},{"$f":"IFERROR(INDEX(INDIRECT(A481&\"!A:D\"),MATCH(B481,INDIRECT(A481&\"!A:A\"),0),4),\"\")","v":""},0.3,{"$f":"ROUND(PRODUCT(E481:F481),2)","v":0.3},null,{"$f":"$B$480","v":"SEDUC 11.03"},null,"",{"$error":"#N/A"}]
["SINAPI",88310,{"$f":"IFERROR(INDEX(INDIRECT(A482&\"!A:D\"),MATCH(B482,INDIRECT(A482&\"!A:A\"),0),2),\"\")","v":""},{"$f":"IFERROR(INDEX(INDIRECT(A482&\"!A:D\"),MATCH(B482,INDIRECT(A482&\"!A:A\"),0),3),\"\")","v":""},{"$f":"IFERROR(INDEX(INDIRECT(A482&\"!A:D\"),MATCH(B482,INDIRECT(A482&\"!A:A\"),0),4),\"\")","v":""},0.2,{"$f":"ROUND(PRODUCT(E482:F482),2)","v":0.2},null,{"$f":"$B$480","v":"SEDUC 11.03"},null,"",{"$error":"#N/A"}]
[null,null,null,null,null,null,null,null,{"$f":"$B$480","v":"SEDUC 11.03"},null,"",{"$error":"#N/A"}]
[null,"SEDUC 11.04","REMOÇÃO DE PINTURA À BASE DE ÓLEO OU ESMALTE UTILIZANDO REMOVEDOR DE TINTA (Ref. ORSE 8040)","M²",null,null,{"$f":"SUM(G485:G486)","v":0.6},null,{"$f":"$B$484","v":"SEDUC 11.04"},null,"","COM ADOÇÃO DE REMOVEDOR PRÓPRIO PARA TINTAS, REMOVER PINTURAS À BASE DE ÓLEO OU ESMALTE EM PAREDES, TETOS OU ESQUADRIAS; APLICAR EM LOCAIS INDICADOS PELA ADMINISTRAÇÃO. "]
["iSINAPI",5320,{"$f":"IFERROR(INDEX(INDIRECT(A485&\"!A:D\"),MATCH(B485,INDIRECT(A485&\"!A:A\"),0),2),\"\")","v":""},{"$f":"IFERROR(INDEX(INDIRECT(A485&\"!A:D\"),MATCH(B485,INDIRECT(A485&\"!A:A\"),0),3),\"\")","v":""},{"$f":"IFERROR(INDEX(INDIRECT(A485&\"!A:D\"),MATCH(B485,INDIRECT(A485&\"!A:A\"),0),4),\"\")","v":""},0.1,{"$f":"ROUND(PRODUCT(E485:F485),2)","v":0.1},null,{"$f":"$B$484","v":"SEDUC 11.04"},null,"",{"$error":"#N/A"}]
["SINAPI",88316,{"$f":"IFERROR(INDEX(INDIRECT(A486&\"!A:D\"),MATCH(B486,INDIRECT(A486&\"!A:A\"),0),2),\"\")","v":""},{"$f":"IFERROR(INDEX(INDIRECT(A486&\"!A:D\"),MATCH(B486,INDIRECT(A486&\"!A:A\"),0),3),\"\")","v":""},{"$f":"IFERROR(INDEX(INDIRECT(A486&\"!A:D\"),MATCH(B486,INDIRECT(A486&\"!A:A\"),0),4),\"\")","v":""},0.5,{"$f":"ROUND(PRODUCT(E486:F486),2)","v":0.5},null,{"$f":"$B$484","v":"SEDUC 11.04"},null,"",{"$error":"#N/A"}]
[null,null,null,null,null,null,null,null,{"$f":"$B$484","v":"SEDUC 11.04"},null,"",{"$error":"#N/A"}]
[null,"SEDUC 11.05","TINTA AUTOMOTIVA 2 DEMÃOS EM METÁLICOS (Ref. SEINFRA 2469)","M²",null,null,{"$f":"SUM(G489:G493)","v":2.2599999999999998},null,{"$f":"$B$488","v":"SEDUC 11.05"},null,"",0]
["iSEINFRA","I0035",{"$f":"IFERROR(INDEX(INDIRECT(A489&\"!A:D\"),MATCH(B489,INDIRECT(A489&\"!A:A\"),0),2),\"\")","v":""},{"$f":"IFERROR(INDEX(INDIRECT(A489&\"!A:D\"),MATCH(B489,INDIRECT(A489&\"!A:A\"),0),3),\"\")","v":""},{"$f":"IFERROR(INDEX(INDIRECT(A489&\"!A:D\"),MATCH(B489,INDIRECT(A489&\"!A:A\"),0),4),\"\")","v":""},0.03,{"$f":"ROUND(PRODUCT(E489:F489),2)","v":0.03},null,{"$f":"$B$488","v":"SEDUC 11.05"},null,"",{"$error":"#N/A"}]
["iSEINFRA","I2088",{"$f":"IFERROR(INDEX(INDIRECT(A490&\"!A:D\"),MATCH(B490,INDIRECT(A490&\"!A:A\"),0),2),\"\")","v":""},{"$f":"IFERROR(INDEX(INDIRECT(A490&\"!A:D\"),MATCH(B490,INDIRECT(A490&\"!A:A\"),0),3),\"\")","v":""},{"$f":"IFERROR(INDEX(INDIRECT(A490&\"!A:D\"),MATCH(B490,INDIRECT(A490&\"!A:A\"),0),4),\"\")","v":""},0.28000000000000003,{"$f":"ROUND(PRODUCT(E490:F490),2)","v":0.28000000000000003},null,"SEDUC 11.05",null,"",{"$error":"#N/A"}]
["iSINAPI",3768,{"$f":"IFERROR(INDEX(INDIRECT(A491&\"!A:D\"),MATCH(B491,INDIRECT(A491&\"!A:A\"),0),2),\"\")","v":""},{"$f":"IFERROR(INDEX(INDIRECT(A491&\"!A:D\"),MATCH(B491,INDIRECT(A491&\"!A:A\"),0),3),\"\")","v":""},{"$f":"IFERROR(INDEX(INDIRECT(A491&\"!A:D\"),MATCH(B491,INDIRECT(A491&\"!A:A\"),0),4),\"\")","v":""},0.35,{"$f":"ROUND(PRODUCT(E491:F491),2)","v":0.35},null,"SEDUC 11.05",null,"",{"$error":"#N/A"}]
["SINAPI",88316,{"$f":"IFERROR(INDEX(INDIRECT(A492&\"!A:D\"),MATCH(B492,INDIRECT(A492&\"!A:A\"),0),2),\"\")","v":""},{"$f":"IFERROR(INDEX(INDIRECT(A492&\"!A:D\"),MATCH(B492,INDIRECT(A492&\"!A:A\"),0),3),\"\")","v":""},{"$f":"IFERROR(INDEX(INDIRECT(A492&\"!A:D\"),MATCH(B492,INDIRECT(A492&\"!A:A\"),0),4),\"\")","v":""},0.8,{"$f":"ROUND(PRODUCT(E492:F492),2)","v":0.8},null,"SEDUC 11.05",null,"",{"$error":"#N/A"}]
["SINAPI",88310,{"$f":"IFERROR(INDEX(INDIRECT(A493&\"!A:D\"),MATCH(B493,INDIRECT(A493&\"!A:A\"),0),2),\"\")","v":""},{"$f":"IFERROR(INDEX(INDIRECT(A493&\"!A:D\"),MATCH(B493,INDIRECT(A493&\"!A:A\"),0),3),\"\")","v":""},{"$f":"IFERROR(INDEX(INDIRECT(A493&\"!A:D\"),MATCH(B493,INDIRECT(A493&\"!A:A\"),0),4),\"\")","v":""},0.8,{"$f":"ROUND(PRODUCT(E493:F493),2)","v":0.8},null,"SEDUC 11.05",null,"",{"$error":"#N/A"}]
[null,null,null,null,null,null,null,null,"SEDUC 11.05",null,"",{"$error":"#N/A"}]
[null,null,null,null,null,null,null,null,null,null,{"$f":"IF(A495=\"\",\"\",IF(E495=0,\"ERRO\",\"\"))","v":""},{"$error":"#N/A"}]
[null,"SEDUC 12","FORROS",null,null,null,null,null,{"$f":"$B$496","v":"SEDUC 12"},null,"",{"$error":"#N/A"}]
[null,"SEDUC 12.01","RECOLOCACO DE FORROS EM REGUA DE PVC, CONSIDERANDO NOVAS RÉGUAS EM PVC (Ref. SINAPI 72201/96116)","M²",null,null,{"$f":"SUM(G498:G501)","v":1.73},null,{"$f":"$B$497","v":"SEDUC 12.01"},null,"",{"$error":"#N/A"}]
["SINAPI",88261,{"$f":"IFERROR(INDEX(INDIRECT(A498&\"!A:D\"),MATCH(B498,INDIRECT(A498&\"!A:A\"),0),2),\"\")","v":""},{"$f":"IFERROR(INDEX(INDIRECT(A498&\"!A:D\"),MATCH(B498,INDIRECT(A498&\"!A:A\"),0),3),\"\")","v":""},{"$f":"IFERROR(INDEX(INDIRECT(A498&\"!A:D\"),MATCH(B498,INDIRECT(A498&\"!A:A\"),0),4),\"\")","v":""},0.3,{"$f":"ROUND(PRODUCT(E498:F498),2)","v":0.3},null,"SEDUC 12.01",null,"",{"$error":"#N/A"}]
["SINAPI",88316,{"$f":"IFERROR(INDEX(INDIRECT(A499&\"!A:D\"),MATCH(B499,INDIRECT(A499&\"!A:A\"),0),2),\"\")","v":""},{"$f":"IFERROR(INDEX(INDIRECT(A499&\"!A:D\"),MATCH(B499,INDIRECT(A499&\"!A:A\"),0),3),\"\")","v":""},{"$f":"IFERROR(INDEX(INDIRECT(A499&\"!A:D\"),MATCH(B499,INDIRECT(A499&\"!A:A\"),0),4),\"\")","v":""},0.3,{"$f":"ROUND(PRODUCT(E499:F499),2)","v":0.3},null,"SEDUC 12.01",null,"",{"$error":"#N/A"}]
["iSINAPI",36238,{"$f":"IFERROR(INDEX(INDIRECT(A500&\"!A:D\"),MATCH(B500,INDIRECT(A500&\"!A:A\"),0),2),\"\")","v":""},{"$f":"IFERROR(INDEX(INDIRECT(A500&\"!A:D\"),MATCH(B500,INDIRECT(A500&\"!A:A\"),0),3),\"\")","v":""},{"$f":"IFERROR(INDEX(INDIRECT(A500&\"!A:D\"),MATCH(B500,INDIRECT(A500&\"!A:A\"),0),4),\"\")","v":""},1.0955999999999999,{"$f":"ROUND(PRODUCT(E500:F500),2)","v":1.1000000000000001},null,"SEDUC 12.01",null,"",{"$error":"#N/A"}]
["iSINAPI",40552,{"$f":"IFERROR(INDEX(INDIRECT(A501&\"!A:D\"),MATCH(B501,INDIRECT(A501&\"!A:A\"),0),2),\"\")","v":""},{"$f":"IFERROR(INDEX(INDIRECT(A501&\"!A:D\"),MATCH(B501,INDIRECT(A501&\"!A:A\"),0),3),\"\")","v":""},{"$f":"IFERROR(INDEX(INDIRECT(A501&\"!A:D\"),MATCH(B501,INDIRECT(A501&\"!A:A\"),0),4),\"\")","v":""},3.3300000000000003E-2,{"$f":"ROUND(PRODUCT(E501:F501),2)","v":0.03},null,"SEDUC 12.01",null,"",{"$error":"#N/A"}]
[null,null,null,null,null,null,null,null,"SEDUC 12.01",null,"",{"$error":"#N/A"}]
[null,"SEDUC 12.02","RETIRADA DE RÉGUAS DE FORRO PVC (Ref. 72238)","M²",null,null,{"$f":"SUM(G504:G505)","v":0.2},null,{"$f":"$B$503","v":"SEDUC 12.02"},null,"",{"$error":"#N/A"}]
["SINAPI",88261,{"$f":"IFERROR(INDEX(INDIRECT(A504&\"!A:D\"),MATCH(B504,INDIRECT(A504&\"!A:A\"),0),2),\"\")","v":""},{"$f":"IFERROR(INDEX(INDIRECT(A504&\"!A:D\"),MATCH(B504,INDIRECT(A504&\"!A:A\"),0),3),\"\")","v":""},{"$f":"IFERROR(INDEX(INDIRECT(A504&\"!A:D\"),MATCH(B504,INDIRECT(A504&\"!A:A\"),0),4),\"\")","v":""},0.1,{"$f":"ROUND(PRODUCT(E504:F504),2)","v":0.1},null,{"$f":"$B$503","v":"SEDUC 12.02"},null,"",{"$error":"#N/A"}]
["SINAPI",88316,{"$f":"IFERROR(INDEX(INDIRECT(A505&\"!A:D\"),MATCH(B505,INDIRECT(A505&\"!A:A\"),0),2),\"\")","v":""},{"$f":"IFERROR(INDEX(INDIRECT(A505&\"!A:D\"),MATCH(B505,INDIRECT(A505&\"!A:A\"),0),3),\"\")","v":""},{"$f":"IFERROR(INDEX(INDIRECT(A505&\"!A:D\"),MATCH(B505,INDIRECT(A505&\"!A:A\"),0),4),\"\")","v":""},0.1,{"$f":"ROUND(PRODUCT(E505:F505),2)","v":0.1},null,{"$f":"$B$503","v":"SEDUC 12.02"},null,"",{"$error":"#N/A"}]
[null,null,null,null,null,null,null,null,{"$f":"$B$503","v":"SEDUC 12.02"},null,"",{"$error":"#N/A"}]
[null,null,null,null,null,null,null,null,null,null,"",{"$error":"#N/A"}]
[null,"SEDUC 13","INSTALAÇÕES ELÉTRICAS E SPDA",null,null,null,null,null,{"$f":"$B$508","v":"SEDUC 13"},null,"",{"$error":"#N/A"}]
[null,"SEDUC 13.01","LUMINÁRIA TIPO CALHA, DE SOBREPOR, LÂMPADA LED 2X20W. (Ref. 73953/006)","UN",null,null,{"$f":"SUM(G510:G513)","v":5},null,{"$f":"$B$509","v":"SEDUC 13.01"},null,"","INSTALAR LUMINÁRIA DO TIPO CALHA METÁLICA, DE SOBREPOR, ADICIONADA DE DUAS LÂMPADAS TUBULARES DE LED DE 20 W; NÃO INCLUI REATOR."]
["SINAPI",88264,{"$f":"IFERROR(INDEX(INDIRECT(A510&\"!A:D\"),MATCH(B510,INDIRECT(A510&\"!A:A\"),0),2),\"\")","v":""},{"$f":"IFERROR(INDEX(INDIRECT(A510&\"!A:D\"),MATCH(B510,INDIRECT(A510&\"!A:A\"),0),3),\"\")","v":""},{"$f":"IFERROR(INDEX(INDIRECT(A510&\"!A:D\"),MATCH(B510,INDIRECT(A510&\"!A:A\"),0),4),\"\")","v":""},1,{"$f":"ROUND(PRODUCT(E510:F510),2)","v":1},null,"SEDUC 13.01",null,"",{"$error":"#N/A"}]
["SINAPI",88316,{"$f":"IFERROR(INDEX(INDIRECT(A511&\"!A:D\"),MATCH(B511,INDIRECT(A511&\"!A:A\"),0),2),\"\")","v":""},{"$f":"IFERROR(INDEX(INDIRECT(A511&\"!A:D\"),MATCH(B511,INDIRECT(A511&\"!A:A\"),0),3),\"\")","v":""},{"$f":"IFERROR(INDEX(INDIRECT(A511&\"!A:D\"),MATCH(B511,INDIRECT(A511&\"!A:A\"),0),4),\"\")","v":""},1,{"$f":"ROUND(PRODUCT(E511:F511),2)","v":1},null,"SEDUC 13.01",null,"",{"$error":"#N/A"}]
["iSINAPI",12239,{"$f":"IFERROR(INDEX(INDIRECT(A512&\"!A:D\"),MATCH(B512,INDIRECT(A512&\"!A:A\"),0),2),\"\")","v":""},{"$f":"IFERROR(INDEX(INDIRECT(A512&\"!A:D\"),MATCH(B512,INDIRECT(A512&\"!A:A\"),0),3),\"\")","v":""},{"$f":"IFERROR(INDEX(INDIRECT(A512&\"!A:D\"),MATCH(B512,INDIRECT(A512&\"!A:A\"),0),4),\"\")","v":""},1,{"$f":"ROUND(PRODUCT(E512:F512),2)","v":1},null,"SEDUC 13.01",null,"",{"$error":"#N/A"}]
["iSINAPI",39387,{"$f":"IFERROR(INDEX(INDIRECT(A513&\"!A:D\"),MATCH(B513,INDIRECT(A513&\"!A:A\"),0),2),\"\")","v":""},{"$f":"IFERROR(INDEX(INDIRECT(A513&\"!A:D\"),MATCH(B513,INDIRECT(A513&\"!A:A\"),0),3),\"\")","v":""},{"$f":"IFERROR(INDEX(INDIRECT(A513&\"!A:D\"),MATCH(B513,INDIRECT(A513&\"!A:A\"),0),4),\"\")","v":""},2,{"$f":"ROUND(PRODUCT(E513:F513),2)","v":2},null,"SEDUC 13.01",null,"",{"$error":"#N/A"}]
[null,null,null,null,null,null,null,null,"SEDUC 13.01",null,"",{"$error":"#N/A"}]
[null,"SEDUC 13.02","INSTALAÇÃO DE LUMINÁRIAS CONSIDERANDO APROVEITAMENTO DO MATERIAL. (Ref. 73953/006)","UN",null,null,{"$f":"SUM(G516:G517)","v":2},null,{"$f":"$B$515","v":"SEDUC 13.02"},null,"",0]
["SINAPI",88264,{"$f":"IFERROR(INDEX(INDIRECT(A516&\"!A:D\"),MATCH(B516,INDIRECT(A516&\"!A:A\"),0),2),\"\")","v":""},{"$f":"IFERROR(INDEX(INDIRECT(A516&\"!A:D\"),MATCH(B516,INDIRECT(A516&\"!A:A\"),0),3),\"\")","v":""},{"$f":"IFERROR(INDEX(INDIRECT(A516&\"!A:D\"),MATCH(B516,INDIRECT(A516&\"!A:A\"),0),4),\"\")","v":""},1,{"$f":"ROUND(PRODUCT(E516:F516),2)","v":1},null,{"$f":"$B$515","v":"SEDUC 13.02"},null,"",{"$error":"#N/A"}]
["SINAPI",88316,{"$f":"IFERROR(INDEX(INDIRECT(A517&\"!A:D\"),MATCH(B517,INDIRECT(A517&\"!A:A\"),0),2),\"\")","v":""},{"$f":"IFERROR(INDEX(INDIRECT(A517&\"!A:D\"),MATCH(B517,INDIRECT(A517&\"!A:A\"),0),3),\"\")","v":""},{"$f":"IFERROR(INDEX(INDIRECT(A517&\"!A:D\"),MATCH(B517,INDIRECT(A517&\"!A:A\"),0),4),\"\")","v":""},1,{"$f":"ROUND(PRODUCT(E517:F517),2)","v":1},null,{"$f":"$B$515","v":"SEDUC 13.02"},null,"",{"$error":"#N/A"}]
[null,null,null,null,null,null,null,null,{"$f":"$B$515","v":"SEDUC 13.02"},null,"",{"$error":"#N/A"}]
[null,"SEDUC 13.03","REMOÇÃO DE LUMINÁRIA (Ref. ORSE 00040)","UN",null,null,{"$f":"SUM(G520:G521)","v":0.6},null,{"$f":"$B$519","v":"SEDUC 13.03"},null,"",0]
["SINAPI",88264,{"$f":"IFERROR(INDEX(INDIRECT(A520&\"!A:D\"),MATCH(B520,INDIRECT(A520&\"!A:A\"),0),2),\"\")","v":""},{"$f":"IFERROR(INDEX(INDIRECT(A520&\"!A:D\"),MATCH(B520,INDIRECT(A520&\"!A:A\"),0),3),\"\")","v":""},{"$f":"IFERROR(INDEX(INDIRECT(A520&\"!A:D\"),MATCH(B520,INDIRECT(A520&\"!A:A\"),0),4),\"\")","v":""},0.3,{"$f":"ROUND(PRODUCT(E520:F520),2)","v":0.3},null,{"$f":"$B$519","v":"SEDUC 13.03"},null,"",{"$error":"#N/A"}]
["SINAPI",88316,{"$f":"IFERROR(INDEX(INDIRECT(A521&\"!A:D\"),MATCH(B521,INDIRECT(A521&\"!A:A\"),0),2),\"\")","v":""},{"$f":"IFERROR(INDEX(INDIRECT(A521&\"!A:D\"),MATCH(B521,INDIRECT(A521&\"!A:A\"),0),3),\"\")","v":""},{"$f":"IFERROR(INDEX(INDIRECT(A521&\"!A:D\"),MATCH(B521,INDIRECT(A521&\"!A:A\"),0),4),\"\")","v":""},0.3,{"$f":"ROUND(PRODUCT(E521:F521),2)","v":0.3},null,{"$f":"$B$519","v":"SEDUC 13.03"},null,"",{"$error":"#N/A"}]
[null,null,null,null,null,null,null,null,{"$f":"$B$519","v":"SEDUC 13.03"},null,"",{"$error":"#N/A"}]
[null,"SEDUC 13.04","CLEATS PARA FIAÇÃO APARENTE (Ref. SEINFRA C0798)","UN",null,null,{"$f":"SUM(G524:G527)","v":1.21},null,{"$f":"$B$523","v":"SEDUC 13.04"},null,"",0]
["SINAPI",88247,{"$f":"IFERROR(INDEX(INDIRECT(A524&\"!A:D\"),MATCH(B524,INDIRECT(A524&\"!A:A\"),0),2),\"\")","v":""},{"$f":"IFERROR(INDEX(INDIRECT(A524&\"!A:D\"),MATCH(B524,INDIRECT(A524&\"!A:A\"),0),3),\"\")","v":""},{"$f":"IFERROR(INDEX(INDIRECT(A524&\"!A:D\"),MATCH(B524,INDIRECT(A524&\"!A:A\"),0),4),\"\")","v":""},0.1,{"$f":"ROUND(PRODUCT(E524:F524),2)","v":0.1},null,"SEDUC 13.04",null,"",{"$error":"#N/A"}]
["SINAPI",88264,{"$f":"IFERROR(INDEX(INDIRECT(A525&\"!A:D\"),MATCH(B525,INDIRECT(A525&\"!A:A\"),0),2),\"\")","v":""},{"$f":"IFERROR(INDEX(INDIRECT(A525&\"!A:D\"),MATCH(B525,INDIRECT(A525&\"!A:A\"),0),3),\"\")","v":""},{"$f":"IFERROR(INDEX(INDIRECT(A525&\"!A:D\"),MATCH(B525,INDIRECT(A525&\"!A:A\"),0),4),\"\")","v":""},0.1,{"$f":"ROUND(PRODUCT(E525:F525),2)","v":0.1},null,"SEDUC 13.04",null,"",{"$error":"#N/A"}]
["iSEINFRA","I0808",{"$f":"IFERROR(INDEX(INDIRECT(A526&\"!A:D\"),MATCH(B526,INDIRECT(A526&\"!A:A\"),0),2),\"\")","v":""},{"$f":"IFERROR(INDEX(INDIRECT(A526&\"!A:D\"),MATCH(B526,INDIRECT(A526&\"!A:A\"),0),3),\"\")","v":""},{"$f":"IFERROR(INDEX(INDIRECT(A526&\"!A:D\"),MATCH(B526,INDIRECT(A526&\"!A:A\"),0),4),\"\")","v":""},1,{"$f":"ROUND(PRODUCT(E526:F526),2)","v":1},null,"SEDUC 13.04",null,"",{"$error":"#N/A"}]
["iSINAPI",40549,{"$f":"IFERROR(INDEX(INDIRECT(A527&\"!A:D\"),MATCH(B527,INDIRECT(A527&\"!A:A\"),0),2),\"\")","v":""},{"$f":"IFERROR(INDEX(INDIRECT(A527&\"!A:D\"),MATCH(B527,INDIRECT(A527&\"!A:A\"),0),3),\"\")","v":""},{"$f":"IFERROR(INDEX(INDIRECT(A527&\"!A:D\"),MATCH(B527,INDIRECT(A527&\"!A:A\"),0),4),\"\")","v":""},{"$f":"1/100","v":0.01},{"$f":"ROUND(PRODUCT(E527:F527),2)","v":0.01},null,"SEDUC 13.04",null,"",{"$error":"#N/A"}]
[null,null,null,null,null,null,null,null,"SEDUC 13.04",null,"",{"$error":"#N/A"}]
[null,"SEDUC 13.05","CAIXA DE EQUALIZAÇÃO PARA ATERRAMENTO 20X20X10CM DE SOBREPOR PARA 11 TERMINAIS DE PRESSÃO COM BARRAMENTO ( Ref. ORSE 9051)","UN",null,null,{"$f":"SUM(G530:G532)","v":1.6},null,{"$f":"$B$529","v":"SEDUC 13.05"},null,"",{"$error":"#N/A"}]
["iORSE",9326,{"$f":"IFERROR(INDEX(INDIRECT(A530&\"!A:D\"),MATCH(B530,INDIRECT(A530&\"!A:A\"),0),2),\"\")","v":""},{"$f":"IFERROR(INDEX(INDIRECT(A530&\"!A:D\"),MATCH(B530,INDIRECT(A530&\"!A:A\"),0),3),\"\")","v":""},{"$f":"IFERROR(INDEX(INDIRECT(A530&\"!A:D\"),MATCH(B530,INDIRECT(A530&\"!A:A\"),0),4),\"\")","v":""},1,{"$f":"ROUND(PRODUCT(E530:F530),2)","v":1},null,{"$f":"$B$529","v":"SEDUC 13.05"},null,"",{"$error":"#N/A"}]
["SINAPI",88264,{"$f":"IFERROR(INDEX(INDIRECT(A531&\"!A:D\"),MATCH(B531,INDIRECT(A531&\"!A:A\"),0),2),\"\")","v":""},{"$f":"IFERROR(INDEX(INDIRECT(A531&\"!A:D\"),MATCH(B531,INDIRECT(A531&\"!A:A\"),0),3),\"\")","v":""},{"$f":"IFERROR(INDEX(INDIRECT(A531&\"!A:D\"),MATCH(B531,INDIRECT(A531&\"!A:A\"),0),4),\"\")","v":""},0.3,{"$f":"ROUND(PRODUCT(E531:F531),2)","v":0.3},null,{"$f":"$B$529","v":"SEDUC 13.05"},null,"",{"$error":"#N/A"}]
["SINAPI",88316,{"$f":"IFERROR(INDEX(INDIRECT(A532&\"!A:D\"),MATCH(B532,INDIRECT(A532&\"!A:A\"),0),2),\"\")","v":""},{"$f":"IFERROR(INDEX(INDIRECT(A532&\"!A:D\"),MATCH(B532,INDIRECT(A532&\"!A:A\"),0),3),\"\")","v":""},{"$f":"IFERROR(INDEX(INDIRECT(A532&\"!A:D\"),MATCH(B532,INDIRECT(A532&\"!A:A\"),0),4),\"\")","v":""},0.3,{"$f":"ROUND(PRODUCT(E532:F532),2)","v":0.3},null,{"$f":"$B$529","v":"SEDUC 13.05"},null,{"$f":"IF(A532=\"\",\"\",IF(E532=0,\"ERRO\",\"\"))","v":""},{"$error":"#N/A"}]
[null,null,null,null,null,null,null,null,{"$f":"$B$529","v":"SEDUC 13.05"},null,"",{"$error":"#N/A"}]
[null,"SEDUC 13.06","CONECTOR CABO-HASTE EM BRONZE NATURAL PARA 2 CABOS COBRE DE 16MM² A 70MM² COM GRAMPO \"U\" E PORCAS DE AÇO GALV.REF:TEL-583 OU SIMILAR - FORNECIMENTO E INSTALAÇÃO ( Ref. ORSE 10907)","UN",null,null,{"$f":"SUM(G535:G537)","v":1.2},null,{"$f":"$B$534","v":"SEDUC 13.06"},null,"",{"$error":"#N/A"}]
["iORSE",11848,{"$f":"IFERROR(INDEX(INDIRECT(A535&\"!A:D\"),MATCH(B535,INDIRECT(A535&\"!A:A\"),0),2),\"\")","v":""},{"$f":"IFERROR(INDEX(INDIRECT(A535&\"!A:D\"),MATCH(B535,INDIRECT(A535&\"!A:A\"),0),3),\"\")","v":""},{"$f":"IFERROR(INDEX(INDIRECT(A535&\"!A:D\"),MATCH(B535,INDIRECT(A535&\"!A:A\"),0),4),\"\")","v":""},1,{"$f":"ROUND(PRODUCT(E535:F535),2)","v":1},null,{"$f":"$B$534","v":"SEDUC 13.06"},null,"",{"$error":"#N/A"}]
["SINAPI",88264,{"$f":"IFERROR(INDEX(INDIRECT(A536&\"!A:D\"),MATCH(B536,INDIRECT(A536&\"!A:A\"),0),2),\"\")","v":""},{"$f":"IFERROR(INDEX(INDIRECT(A536&\"!A:D\"),MATCH(B536,INDIRECT(A536&\"!A:A\"),0),3),\"\")","v":""},{"$f":"IFERROR(INDEX(INDIRECT(A536&\"!A:D\"),MATCH(B536,INDIRECT(A536&\"!A:A\"),0),4),\"\")","v":""},0.1,{"$f":"ROUND(PRODUCT(E536:F536),2)","v":0.1},null,{"$f":"$B$534","v":"SEDUC 13.06"},null,"",{"$error":"#N/A"}]
["SINAPI",88316,{"$f":"IFERROR(INDEX(INDIRECT(A537&\"!A:D\"),MATCH(B537,INDIRECT(A537&\"!A:A\"),0),2),\"\")","v":""},{"$f":"IFERROR(INDEX(INDIRECT(A537&\"!A:D\"),MATCH(B537,INDIRECT(A537&\"!A:A\"),0),3),\"\")","v":""},{"$f":"IFERROR(INDEX(INDIRECT(A537&\"!A:D\"),MATCH(B537,INDIRECT(A537&\"!A:A\"),0),4),\"\")","v":""},0.1,{"$f":"ROUND(PRODUCT(E537:F537),2)","v":0.1},null,{"$f":"$B$534","v":"SEDUC 13.06"},null,"",{"$error":"#N/A"}]
[null,null,null,null,null,null,null,null,{"$f":"$B$534","v":"SEDUC 13.06"},null,"",{"$error":"#N/A"}]
[null,"SEDUC 13.07","CAIXA EM CHAPA METÁLICA GALVANIZADA 60 X 50 X 20CM, PARA QUADRO DE COMANDO ( Ref. ORSE 3836)","UN",null,null,{"$f":"SUM(G540:G541)","v":3},null,{"$f":"$B$539","v":"SEDUC 13.07"},null,"",{"$error":"#N/A"}]
["iORSE",3032,{"$f":"IFERROR(INDEX(INDIRECT(A540&\"!A:D\"),MATCH(B540,INDIRECT(A540&\"!A:A\"),0),2),\"\")","v":""},{"$f":"IFERROR(INDEX(INDIRECT(A540&\"!A:D\"),MATCH(B540,INDIRECT(A540&\"!A:A\"),0),3),\"\")","v":""},{"$f":"IFERROR(INDEX(INDIRECT(A540&\"!A:D\"),MATCH(B540,INDIRECT(A540&\"!A:A\"),0),4),\"\")","v":""},1,{"$f":"ROUND(PRODUCT(E540:F540),2)","v":1},null,{"$f":"$B$539","v":"SEDUC 13.07"},null,"",{"$error":"#N/A"}]
["SINAPI",88264,{"$f":"IFERROR(INDEX(INDIRECT(A541&\"!A:D\"),MATCH(B541,INDIRECT(A541&\"!A:A\"),0),2),\"\")","v":""},{"$f":"IFERROR(INDEX(INDIRECT(A541&\"!A:D\"),MATCH(B541,INDIRECT(A541&\"!A:A\"),0),3),\"\")","v":""},{"$f":"IFERROR(INDEX(INDIRECT(A541&\"!A:D\"),MATCH(B541,INDIRECT(A541&\"!A:A\"),0),4),\"\")","v":""},2,{"$f":"ROUND(PRODUCT(E541:F541),2)","v":2},null,{"$f":"$B$539","v":"SEDUC 13.07"},null,"",{"$error":"#N/A"}]
[null,null,null,null,null,null,null,null,{"$f":"$B$539","v":"SEDUC 13.07"},null,"",{"$error":"#N/A"}]
[null,"SEDUC 13.08","DISJUNTOR TERMOMAGNÉTICO TRIPOLAR 50A, PADRÃO DIN, CURVA C, 5KA ( Ref. ORSE 8003)","UN",null,null,{"$f":"SUM(G544:G546)","v":3},null,{"$f":"$B$543","v":"SEDUC 13.08"},null,{"$f":"IF(A543=\"\",\"\",IF(E543=0,\"ERRO\",\"\"))","v":""},{"$error":"#N/A"}]
["iORSE",13281,{"$f":"IFERROR(INDEX(INDIRECT(A544&\"!A:D\"),MATCH(B544,INDIRECT(A544&\"!A:A\"),0),2),\"\")","v":""},{"$f":"IFERROR(INDEX(INDIRECT(A544&\"!A:D\"),MATCH(B544,INDIRECT(A544&\"!A:A\"),0),3),\"\")","v":""},{"$f":"IFERROR(INDEX(INDIRECT(A544&\"!A:D\"),MATCH(B544,INDIRECT(A544&\"!A:A\"),0),4),\"\")","v":""},1,{"$f":"ROUND(PRODUCT(E544:F544),2)","v":1},null,{"$f":"$B$543","v":"SEDUC 13.08"},null,"",{"$error":"#N/A"}]
["SINAPI",88264,{"$f":"IFERROR(INDEX(INDIRECT(A545&\"!A:D\"),MATCH(B545,INDIRECT(A545&\"!A:A\"),0),2),\"\")","v":""},{"$f":"IFERROR(INDEX(INDIRECT(A545&\"!A:D\"),MATCH(B545,INDIRECT(A545&\"!A:A\"),0),3),\"\")","v":""},{"$f":"IFERROR(INDEX(INDIRECT(A545&\"!A:D\"),MATCH(B545,INDIRECT(A545&\"!A:A\"),0),4),\"\")","v":""},1,{"$f":"ROUND(PRODUCT(E545:F545),2)","v":1},null,{"$f":"$B$543","v":"SEDUC 13.08"},null,"",{"$error":"#N/A"}]
["SINAPI",88316,{"$f":"IFERROR(INDEX(INDIRECT(A546&\"!A:D\"),MATCH(B546,INDIRECT(A546&\"!A:A\"),0),2),\"\")","v":""},{"$f":"IFERROR(INDEX(INDIRECT(A546&\"!A:D\"),MATCH(B546,INDIRECT(A546&\"!A:A\"),0),3),\"\")","v":""},{"$f":"IFERROR(INDEX(INDIRECT(A546&\"!A:D\"),MATCH(B546,INDIRECT(A546&\"!A:A\"),0),4),\"\")","v":""},1,{"$f":"ROUND(PRODUCT(E546:F546),2)","v":1},null,{"$f":"$B$543","v":"SEDUC 13.08"},null,"",{"$error":"#N/A"}]
[null,null,null,null,null,null,null,null,{"$f":"$B$543","v":"SEDUC 13.08"},null,"",{"$error":"#N/A"}]
[null,"SEDUC 13.09","DISJUNTOR TERMOMAGNÉTICO TRIPOLAR 70A, PADRÃO DIN, CURVA C, 5KA ( Ref. ORSE 8003)","UN",null,null,{"$f":"SUM(G549:G551)","v":3},null,{"$f":"$B$548","v":"SEDUC 13.09"},null,"",{"$error":"#N/A"}]
["iORSE",3702,{"$f":"IFERROR(INDEX(INDIRECT(A549&\"!A:D\"),MATCH(B549,INDIRECT(A549&\"!A:A\"),0),2),\"\")","v":""},{"$f":"IFERROR(INDEX(INDIRECT(A549&\"!A:D\"),MATCH(B549,INDIRECT(A549&\"!A:A\"),0),3),\"\")","v":""},{"$f":"IFERROR(INDEX(INDIRECT(A549&\"!A:D\"),MATCH(B549,INDIRECT(A549&\"!A:A\"),0),4),\"\")","v":""},1,{"$f":"ROUND(PRODUCT(E549:F549),2)","v":1},null,{"$f":"$B$548","v":"SEDUC 13.09"},null,"",{"$error":"#N/A"}]
["SINAPI",88264,{"$f":"IFERROR(INDEX(INDIRECT(A550&\"!A:D\"),MATCH(B550,INDIRECT(A550&\"!A:A\"),0),2),\"\")","v":""},{"$f":"IFERROR(INDEX(INDIRECT(A550&\"!A:D\"),MATCH(B550,INDIRECT(A550&\"!A:A\"),0),3),\"\")","v":""},{"$f":"IFERROR(INDEX(INDIRECT(A550&\"!A:D\"),MATCH(B550,INDIRECT(A550&\"!A:A\"),0),4),\"\")","v":""},1,{"$f":"ROUND(PRODUCT(E550:F550),2)","v":1},null,{"$f":"$B$548","v":"SEDUC 13.09"},null,"",{"$error":"#N/A"}]
["SINAPI",88316,{"$f":"IFERROR(INDEX(INDIRECT(A551&\"!A:D\"),MATCH(B551,INDIRECT(A551&\"!A:A\"),0),2),\"\")","v":""},{"$f":"IFERROR(INDEX(INDIRECT(A551&\"!A:D\"),MATCH(B551,INDIRECT(A551&\"!A:A\"),0),3),\"\")","v":""},{"$f":"IFERROR(INDEX(INDIRECT(A551&\"!A:D\"),MATCH(B551,INDIRECT(A551&\"!A:A\"),0),4),\"\")","v":""},1,{"$f":"ROUND(PRODUCT(E551:F551),2)","v":1},null,{"$f":"$B$548","v":"SEDUC 13.09"},null,"",{"$error":"#N/A"}]
[null,null,null,null,null,null,null,null,{"$f":"$B$548","v":"SEDUC 13.09"},null,"",{"$error":"#N/A"}]
[null,"SEDUC 13.10","POSTE DE AÇO GALVANIZADO P/ JARDIM H=3.00M, C/GLOBO E LÂMPADA VAPOR DE SÓDIO 70W (Ref. SEINFRA C2009)","UN",null,null,{"$f":"SUM(G554:G563)","v":21.94},null,{"$f":"$B$553","v":"SEDUC 13.10"},null,"",{"$error":"#N/A"}]
["SINAPI",88247,{"$f":"IFERROR(INDEX(INDIRECT(A554&\"!A:D\"),MATCH(B554,INDIRECT(A554&\"!A:A\"),0),2),\"\")","v":""},{"$f":"IFERROR(INDEX(INDIRECT(A554&\"!A:D\"),MATCH(B554,INDIRECT(A554&\"!A:A\"),0),3),\"\")","v":""},{"$f":"IFERROR(INDEX(INDIRECT(A554&\"!A:D\"),MATCH(B554,INDIRECT(A554&\"!A:A\"),0),4),\"\")","v":""},1.8,{"$f":"ROUND(PRODUCT(E554:F554),2)","v":1.8},null,{"$f":"$B$553","v":"SEDUC 13.10"},null,"",{"$error":"#N/A"}]
["SINAPI",88316,"","","",1.5,1.5,null,"SEDUC 13.10",null,"",{"$error":"#N/A"}]
["SINAPI",88264,"","","",1.8,1.8,null,"SEDUC 13.10",null,"",{"$error":"#N/A"}]
["iSINAPI",1014,"","","",9.3000000000000007,9.3000000000000007,null,"SEDUC 13.10",null,"",{"$error":"#N/A"}]
["iSINAPI",367,"","","",3.5000000000000003E-2,0.04,null,"SEDUC 13.10",null,"",{"$error":"#N/A"}]
["iSINAPI",1379,"","","",3.5,3.5,null,"SEDUC 13.10",null,"",{"$error":"#N/A"}]
["iSINAPI",5050,"","","",1,1,null,"SEDUC 13.10",null,"",{"$error":"#N/A"}]
["iORSE",4508,"","","",1,{"$f":"ROUND(PRODUCT(E561:F561),2)","v":1},null,"SEDUC 13.10",null,"",{"$error":"#N/A"}]
["iSEINFRA","I1481","","","",1,{"$f":"ROUND(PRODUCT(E562:F562),2)","v":1},null,"SEDUC 13.10",null,"",{"$error":"#N/A"}]
["iSEINFRA","I1776","","","",1,{"$f":"ROUND(PRODUCT(E563:F563),2)","v":1},null,"SEDUC 13.10",null,"",{"$error":"#N/A"}]
[null,null,null,null,null,null,null,null,"SEDUC 13.10",null,"",{"$error":"#N/A"}]
[null,null,null,null,null,null,null,null,null,null,"",{"$error":"#N/A"}]
[null,"SEDUC 14","INSTALAÇÕES HIDRÁULICAS",null,null,null,null,null,{"$f":"$B$566","v":"SEDUC 14"},null,"",{"$error":"#N/A"}]
[null,"SEDUC 14.01","BUCHA DE REDUÇÃO DE PVC, SOLDÁVEL, CURTA, 32 X 25 MM, INSTALADA EM RAMAL OU SUB-RAMAL (Ref. SINAPI 90375)","UN",null,null,{"$f":"SUM(G568:G573)","v":1.32},null,{"$f":"$B$567","v":"SEDUC 14.01"},null,"",0]
["SINAPI",88248,{"$f":"IFERROR(INDEX(INDIRECT(A568&\"!A:D\"),MATCH(B568,INDIRECT(A568&\"!A:A\"),0),2),\"\")","v":""},{"$f":"IFERROR(INDEX(INDIRECT(A568&\"!A:D\"),MATCH(B568,INDIRECT(A568&\"!A:A\"),0),3),\"\")","v":""},{"$f":"IFERROR(INDEX(INDIRECT(A568&\"!A:D\"),MATCH(B568,INDIRECT(A568&\"!A:A\"),0),4),\"\")","v":""},0.11899999999999999,{"$f":"ROUND(PRODUCT(E568:F568),2)","v":0.12},null,"SEDUC 14.01",null,"",{"$error":"#N/A"}]
["SINAPI",88267,"","","",0.11899999999999999,0.12,null,"SEDUC 14.01",null,"",{"$error":"#N/A"}]
["iSINAPI",122,"","","",8.9999999999999993E-3,0.01,null,"SEDUC 14.01",null,"",{"$error":"#N/A"}]
["iSINAPI",829,"","","",1,1,null,"SEDUC 14.01",null,"",{"$error":"#N/A"}]
["iSINAPI",3767,"","","",0.06,0.06,null,{"$f":"$B$567","v":"SEDUC 14.01"},null,"",{"$error":"#N/A"}]
["iSINAPI",20083,"","","",1.0999999999999999E-2,0.01,null,"SEDUC 14.01",null,"",{"$error":"#N/A"}]
[null,null,null,null,null,null,null,null,"SEDUC 14.01",null,"",{"$error":"#N/A"}]
[null,"SEDUC 14.02","BUCHA DE REDUÇÃO DE PVC, SOLDÁVEL, LONGA, 40 X 25 MM, INSTALADA EM RAMAL OU SUB-RAMAL (Ref. SINAPI 90375)","UN",null,null,{"$f":"SUM(G576:G581)","v":1.32},null,{"$f":"$B$575","v":"SEDUC 14.02"},null,"",0]
["iSINAPI",122,{"$f":"IFERROR(INDEX(INDIRECT(A576&\"!A:D\"),MATCH(B576,INDIRECT(A576&\"!A:A\"),0),2),\"\")","v":""},{"$f":"IFERROR(INDEX(INDIRECT(A576&\"!A:D\"),MATCH(B576,INDIRECT(A576&\"!A:A\"),0),3),\"\")","v":""},{"$f":"IFERROR(INDEX(INDIRECT(A576&\"!A:D\"),MATCH(B576,INDIRECT(A576&\"!A:A\"),0),4),\"\")","v":""},8.9999999999999993E-3,{"$f":"ROUND(PRODUCT(E576:F576),2)","v":0.01},null,{"$f":"$B$575","v":"SEDUC 14.02"},null,"",{"$error":"#N/A"}]
["iSINAPI",834,"","","",1,1,null,"SEDUC 14.02",null,"",{"$error":"#N/A"}]
["iSINAPI",20083,"","","",1.0999999999999999E-2,0.01,null,"SEDUC 14.02",null,"",{"$error":"#N/A"}]
["iSINAPI",3767,"","","",0.06,0.06,null,"SEDUC 14.02",null,"",{"$error":"#N/A"}]
["SINAPI",88248,"","","",0.11899999999999999,0.12,null,"SEDUC 14.02",null,"",{"$error":"#N/A"}]
["SINAPI",88267,"","","",0.11899999999999999,0.12,null,"SEDUC 14.02",null,"",{"$error":"#N/A"}]
[null,null,null,null,null,null,null,null,"SEDUC 14.02",null,"",{"$error":"#N/A"}]
[null,"SEDUC 14.03","BUCHA DE REDUÇÃO DE PVC, SOLDÁVEL, LONGA, 50 X 32 MM, INSTALADA EM RAMAL OU SUB-RAMAL (Ref. SINAPI 90375)","UN",null,null,{"$f":"SUM(G584:G589)","v":1.32},null,{"$f":"$B$583","v":"SEDUC 14.03"},null,"",0]
["iSINAPI",122,{"$f":"IFERROR(INDEX(INDIRECT(A584&\"!A:D\"),MATCH(B584,INDIRECT(A584&\"!A:A\"),0),2),\"\")","v":""},{"$f":"IFERROR(INDEX(INDIRECT(A584&\"!A:D\"),MATCH(B584,INDIRECT(A584&\"!A:A\"),0),3),\"\")","v":""},{"$f":"IFERROR(INDEX(INDIRECT(A584&\"!A:D\"),MATCH(B584,INDIRECT(A584&\"!A:A\"),0),4),\"\")","v":""},8.9999999999999993E-3,{"$f":"ROUND(PRODUCT(E584:F584),2)","v":0.01},null,{"$f":"$B$583","v":"SEDUC 14.03"},null,"",{"$error":"#N/A"}]
["iSINAPI",820,"","","",1,1,null,"SEDUC 14.03",null,"",{"$error":"#N/A"}]
["iSINAPI",20083,"","","",1.0999999999999999E-2,0.01,null,"SEDUC 14.03",null,"",{"$error":"#N/A"}]
["iSINAPI",3767,"","","",0.06,0.06,null,"SEDUC 14.03",null,"",{"$error":"#N/A"}]
["SINAPI",88248,"","","",0.11899999999999999,0.12,null,"SEDUC 14.03",null,"",{"$error":"#N/A"}]
["SINAPI",88267,"","","",0.11899999999999999,0.12,null,"SEDUC 14.03",null,"",{"$error":"#N/A"}]
[null,null,null,null,null,null,null,null,"SEDUC 14.03",null,"",{"$error":"#N/A"}]
[null,"SEDUC 14.04","CAIXA D´ÁGUA EM FIBRA DE VIDRO - INSTALADA, SEM ESTRUTURA DE SUPORTE CAP. 2.000 LITROS (Ref. ORSE 1429)","UN",null,null,{"$f":"SUM(G592:G607)","v":32.82},null,{"$f":"$B$591","v":"SEDUC 14.04"},null,"","INSTALAR CAIXA D'ÁGUA DE FIBRA DE VIDRO DE 2.000 L SOBRE LAJE, INCLUINDO TUBULAÇÕES, REGISTROS E CONEXÕES, CONFORME COMPOSIÇÃO ANALÍTICA."]
["iORSE",461,{"$f":"IFERROR(INDEX(INDIRECT(A592&\"!A:D\"),MATCH(B592,INDIRECT(A592&\"!A:A\"),0),2),\"\")","v":""},{"$f":"IFERROR(INDEX(INDIRECT(A592&\"!A:D\"),MATCH(B592,INDIRECT(A592&\"!A:A\"),0),3),\"\")","v":""},{"$f":"IFERROR(INDEX(INDIRECT(A592&\"!A:D\"),MATCH(B592,INDIRECT(A592&\"!A:A\"),0),4),\"\")","v":""},1,{"$f":"ROUND(PRODUCT(E592:F592),2)","v":1},null,{"$f":"$B$591","v":"SEDUC 14.04"},null,"",{"$error":"#N/A"}]
["iORSE",981,"","","",6.7,6.7,null,"SEDUC 14.04",null,"",{"$error":"#N/A"}]
["iSINAPI",71,"","","",2,2,null,"SEDUC 14.04",null,"",{"$error":"#N/A"}]
["iSINAPI",72,"","","",1,1,null,"SEDUC 14.04",null,"",{"$error":"#N/A"}]
["iSINAPI",73,"","","",1,1,null,"SEDUC 14.04",null,"",{"$error":"#N/A"}]
["SINAPI",88267,"","","",4,4,null,"SEDUC 14.04",null,"",{"$error":"#N/A"}]
["iSINAPI",3482,"","","",2,2,null,"SEDUC 14.04",null,"",{"$error":"#N/A"}]
["iSINAPI",3876,"","","",2,2,null,"SEDUC 14.04",null,"",{"$error":"#N/A"}]
["iSINAPI",3878,"","","",1,1,null,"SEDUC 14.04",null,"",{"$error":"#N/A"}]
["iSINAPI",3884,"","","",2,2,null,"SEDUC 14.04",null,"",{"$error":"#N/A"}]
["SINAPI",88316,"","","",4,4,null,"SEDUC 14.04",null,"",{"$error":"#N/A"}]
["iSINAPI",9862,"","","",2.4,2.4,null,"SEDUC 14.04",null,"",{"$error":"#N/A"}]
["iSINAPI",9866,"","","",1.6,1.6,null,"SEDUC 14.04",null,"",{"$error":"#N/A"}]
["iSINAPI",11830,"","","",1,1,null,"SEDUC 14.04",null,"",{"$error":"#N/A"}]
["iSINAPI",6016,"","","",1,1,null,"SEDUC 14.04",null,"",{"$error":"#N/A"}]
["SINAPI",94964,"","","",0.12,0.12,null,"SEDUC 14.04",null,"",{"$error":"#N/A"}]
[null,null,null,null,null,null,null,null,"SEDUC 14.04",null,"",{"$error":"#N/A"}]
[null,"SEDUC 14.05","CAIXA D´ÁGUA EM FIBRA DE VIDRO - INSTALADA, SEM ESTRUTURA DE SUPORTE CAP. 3.000 LITROS (Ref. ORSE 1430)","UN",null,null,{"$f":"SUM(G610:G625)","v":32.82},null,{"$f":"$B$609","v":"SEDUC 14.05"},null,"",0]
["iORSE",462,{"$f":"IFERROR(INDEX(INDIRECT(A610&\"!A:D\"),MATCH(B610,INDIRECT(A610&\"!A:A\"),0),2),\"\")","v":""},{"$f":"IFERROR(INDEX(INDIRECT(A610&\"!A:D\"),MATCH(B610,INDIRECT(A610&\"!A:A\"),0),3),\"\")","v":""},{"$f":"IFERROR(INDEX(INDIRECT(A610&\"!A:D\"),MATCH(B610,INDIRECT(A610&\"!A:A\"),0),4),\"\")","v":""},1,{"$f":"ROUND(PRODUCT(E610:F610),2)","v":1},null,{"$f":"$B$609","v":"SEDUC 14.05"},null,"",{"$error":"#N/A"}]
["iORSE",981,"","","",6.7,6.7,null,"SEDUC 14.05",null,"",{"$error":"#N/A"}]
["iSINAPI",71,"","","",2,2,null,"SEDUC 14.05",null,"",{"$error":"#N/A"}]
["iSINAPI",72,"","","",1,1,null,"SEDUC 14.05",null,"",{"$error":"#N/A"}]
["iSINAPI",73,"","","",1,1,null,"SEDUC 14.05",null,"",{"$error":"#N/A"}]
["SINAPI",88267,"","","",4,4,null,"SEDUC 14.05",null,"",{"$error":"#N/A"}]
["iSINAPI",3482,"","","",2,2,null,"SEDUC 14.05",null,"",{"$error":"#N/A"}]
["iSINAPI",3876,"","","",2,2,null,"SEDUC 14.05",null,"",{"$error":"#N/A"}]
["iSINAPI",3878,"","","",1,1,null,"SEDUC 14.05",null,{"$f":"IF(A618=\"\",\"\",IF(E618=0,\"ERRO\",\"\"))","v":""},{"$error":"#N/A"}]
["iSINAPI",3884,"","","",2,2,null,"SEDUC 14.05",null,"",{"$error":"#N/A"}]
["SINAPI",88316,"","","",4,4,null,"SEDUC 14.05",null,"",{"$error":"#N/A"}]
["iSINAPI",9862,"","","",2.4,2.4,null,"SEDUC 14.05",null,"",{"$error":"#N/A"}]
["iSINAPI",9866,"","","",1.6,1.6,null,"SEDUC 14.05",null,"",{"$error":"#N/A"}]
["iSINAPI",11830,"","","",1,1,null,"SEDUC 14.05",null,"",{"$error":"#N/A"}]
["iSINAPI",6016,"","","",1,1,null,"SEDUC 14.05",null,"",{"$error":"#N/A"}]
["SINAPI",94964,"","","",0.12,0.12,null,"SEDUC 14.05",null,"",{"$error":"#N/A"}]
[null,null,null,null,null,null,null,null,"SEDUC 14.05",null,"",{"$error":"#N/A"}]
[null,"SEDUC 14.06","CAIXA D´ÁGUA EM FIBRA DE VIDRO - INSTALADA, SEM ESTRUTURA DE SUPORTE CAP. 10.000 LITROS (Ref. ORSE 1432)","UN",null,null,{"$f":"SUM(G628:G643)","v":26.87},null,{"$f":"$B$627","v":"SEDUC 14.06"},null,"",0]
["iSINAPI",37106,{"$f":"IFERROR(INDEX(INDIRECT(A628&\"!A:D\"),MATCH(B628,INDIRECT(A628&\"!A:A\"),0),2),\"\")","v":""},{"$f":"IFERROR(INDEX(INDIRECT(A628&\"!A:D\"),MATCH(B628,INDIRECT(A628&\"!A:A\"),0),3),\"\")","v":""},{"$f":"IFERROR(INDEX(INDIRECT(A628&\"!A:D\"),MATCH(B628,INDIRECT(A628&\"!A:A\"),0),4),\"\")","v":""},1,{"$f":"ROUND(PRODUCT(E628:F628),2)","v":1},null,{"$f":"$B$627","v":"SEDUC 14.06"},null,"",{"$error":"#N/A"}]
["iSINAPI",3146,"","","",{"$f":"6.7/10","v":0.67},0.67,null,"SEDUC 14.06",null,"",{"$error":"#N/A"}]
["iSINAPI",70,"","","",2,2,null,"SEDUC 14.06",null,"",{"$error":"#N/A"}]
["iSINAPI",71,"","","",1,1,null,"SEDUC 14.06",null,"",{"$error":"#N/A"}]
["iSINAPI",85,"","","",1,1,null,"SEDUC 14.06",null,"",{"$error":"#N/A"}]
["SINAPI",88267,"","","",4,4,null,"SEDUC 14.06",null,"",{"$error":"#N/A"}]
["iSINAPI",3510,"","","",2,2,null,"SEDUC 14.06",null,"",{"$error":"#N/A"}]
["iSINAPI",3876,"","","",2,2,null,"SEDUC 14.06",null,"",{"$error":"#N/A"}]
["iSINAPI",3877,"","","",2,2,null,"SEDUC 14.06",null,"",{"$error":"#N/A"}]
["iSINAPI",3879,"","","",1,1,null,"SEDUC 14.06",null,"",{"$error":"#N/A"}]
["iSINAPI",6017,"","","",1,1,null,"SEDUC 14.06",null,"",{"$error":"#N/A"}]
["SINAPI",88316,"","","",4,4,null,"SEDUC 14.06",null,"",{"$error":"#N/A"}]
["iSINAPI",9860,"","","",2.4,2.4,null,{"$f":"$B$627","v":"SEDUC 14.06"},null,"",{"$error":"#N/A"}]
["iSINAPI",9861,"","","",1.6,1.6,null,"SEDUC 14.06",null,"",{"$error":"#N/A"}]
["iSINAPI",11825,"","","",1,1,null,"SEDUC 14.06",null,"",{"$error":"#N/A"}]
["SINAPI",94964,"","","",0.2,0.2,null,"SEDUC 14.06",null,"",{"$error":"#N/A"}]
[null,null,null,null,null,null,null,null,"SEDUC 14.06",null,"",{"$error":"#N/A"}]
[null,"SEDUC 14.07","RESERVATORIO ELEVADO C/ CAIXA D'AGUA EM FIBRA DE VIDRO DE 5.000 LITROS APOIADO EM ESTRUTURA PRE-MOLDADA CONCRETO, COMPOSTA DE CAPITEL P/APOIO DA CAIXA E PILAR CILINDRICO C/ALTURA UTIL = 6,00M, INCLUSO FRETE E MONTAGEM NO LOCAL, EXCETO INST.HIDRAULICA\n (Ref. ORSE 10203)","UN",null,null,{"$f":"SUM(G646:G651)","v":408},null,{"$f":"$B$645","v":"SEDUC 14.07"},null,"","EXECUTAR RESERVATÓRIO ELEVADO PÓXIMO A AMBIENTES \"MOLHADOS\"; ESTRUTURA EM CONCRETO PRÉ-MOLDADO DE ALTURA = 6,0 M; INCLUI FUNDAÇÕES, PILARES E LAJE CIRCULAR; RESERVATÓRIO DE FIBRA DE VIDRO COM CAPACIDADE PARA 5.000 L."]
["iSINAPI",37105,{"$f":"IFERROR(INDEX(INDIRECT(A646&\"!A:D\"),MATCH(B646,INDIRECT(A646&\"!A:A\"),0),2),\"\")","v":""},{"$f":"IFERROR(INDEX(INDIRECT(A646&\"!A:D\"),MATCH(B646,INDIRECT(A646&\"!A:A\"),0),3),\"\")","v":""},{"$f":"IFERROR(INDEX(INDIRECT(A646&\"!A:D\"),MATCH(B646,INDIRECT(A646&\"!A:A\"),0),4),\"\")","v":""},1,{"$f":"ROUND(PRODUCT(E646:F646),2)","v":1},null,{"$f":"$B$645","v":"SEDUC 14.07"},null,"",{"$error":"#N/A"}]
["iORSE",10971,"","","",1,1,null,{"$f":"$B$645","v":"SEDUC 14.07"},null,"",{"$error":"#N/A"}]
["iSINAPI",367,"","","",2,2,null,"SEDUC 14.07",null,"",{"$error":"#N/A"}]
["iSINAPI",1379,"","","",400,400,null,"SEDUC 14.07",null,"",{"$error":"#N/A"}]
["iSINAPI",4721,"","","",2,2,null,"SEDUC 14.07",null,"",{"$error":"#N/A"}]
["iSINAPI",4730,"","","",2,2,null,"SEDUC 14.07",null,"",{"$error":"#N/A"}]
[null,null,null,null,null,null,null,null,"SEDUC 14.07",null,"",{"$error":"#N/A"}]
[null,"SEDUC 14.08","JOELHO REDUÇÃO PVC SOLD.MARROM D=32X25mm (1\"X3/4\") (Ref. Seinfra 24.1 C1565)","UN",null,null,{"$f":"SUM(G654:G658)","v":1.44},null,{"$f":"$B$653","v":"SEDUC 14.08"},null,"",0]
["SINAPI",88248,{"$f":"IFERROR(INDEX(INDIRECT(A654&\"!A:D\"),MATCH(B654,INDIRECT(A654&\"!A:A\"),0),2),\"\")","v":""},{"$f":"IFERROR(INDEX(INDIRECT(A654&\"!A:D\"),MATCH(B654,INDIRECT(A654&\"!A:A\"),0),3),\"\")","v":""},{"$f":"IFERROR(INDEX(INDIRECT(A654&\"!A:D\"),MATCH(B654,INDIRECT(A654&\"!A:A\"),0),4),\"\")","v":""},0.18,{"$f":"ROUND(PRODUCT(E654:F654),2)","v":0.18},null,{"$f":"$B$653","v":"SEDUC 14.08"},null,"",{"$error":"#N/A"}]
["SINAPI",88267,{"$f":"IFERROR(INDEX(INDIRECT(A655&\"!A:D\"),MATCH(B655,INDIRECT(A655&\"!A:A\"),0),2),\"\")","v":""},{"$f":"IFERROR(INDEX(INDIRECT(A655&\"!A:D\"),MATCH(B655,INDIRECT(A655&\"!A:A\"),0),3),\"\")","v":""},{"$f":"IFERROR(INDEX(INDIRECT(A655&\"!A:D\"),MATCH(B655,INDIRECT(A655&\"!A:A\"),0),4),\"\")","v":""},0.18,{"$f":"ROUND(PRODUCT(E655:F655),2)","v":0.18},null,"SEDUC 14.08",null,"",{"$error":"#N/A"}]
["iSINAPI",3538,{"$f":"IFERROR(INDEX(INDIRECT(A656&\"!A:D\"),MATCH(B656,INDIRECT(A656&\"!A:A\"),0),2),\"\")","v":""},{"$f":"IFERROR(INDEX(INDIRECT(A656&\"!A:D\"),MATCH(B656,INDIRECT(A656&\"!A:A\"),0),3),\"\")","v":""},{"$f":"IFERROR(INDEX(INDIRECT(A656&\"!A:D\"),MATCH(B656,INDIRECT(A656&\"!A:A\"),0),4),\"\")","v":""},1,{"$f":"ROUND(PRODUCT(E656:F656),2)","v":1},null,"SEDUC 14.08",null,"",{"$error":"#N/A"}]
["iSINAPI",20082,{"$f":"IFERROR(INDEX(INDIRECT(A657&\"!A:D\"),MATCH(B657,INDIRECT(A657&\"!A:A\"),0),2),\"\")","v":""},{"$f":"IFERROR(INDEX(INDIRECT(A657&\"!A:D\"),MATCH(B657,INDIRECT(A657&\"!A:A\"),0),3),\"\")","v":""},{"$f":"IFERROR(INDEX(INDIRECT(A657&\"!A:D\"),MATCH(B657,INDIRECT(A657&\"!A:A\"),0),4),\"\")","v":""},{"$f":"0.0095*5","v":4.7500000000000001E-2},{"$f":"ROUND(PRODUCT(E657:F657),2)","v":0.05},null,"SEDUC 14.08",null,"",{"$error":"#N/A"}]
["iSINAPI",20080,{"$f":"IFERROR(INDEX(INDIRECT(A658&\"!A:D\"),MATCH(B658,INDIRECT(A658&\"!A:A\"),0),2),\"\")","v":""},{"$f":"IFERROR(INDEX(INDIRECT(A658&\"!A:D\"),MATCH(B658,INDIRECT(A658&\"!A:A\"),0),3),\"\")","v":""},{"$f":"IFERROR(INDEX(INDIRECT(A658&\"!A:D\"),MATCH(B658,INDIRECT(A658&\"!A:A\"),0),4),\"\")","v":""},{"$f":"0.006*5.715","v":3.4290000000000001E-2},{"$f":"ROUND(PRODUCT(E658:F658),2)","v":0.03},null,"SEDUC 14.08",null,"",{"$error":"#N/A"}]
[null,null,null,null,null,null,null,null,"SEDUC 14.08",null,"",{"$error":"#N/A"}]
[null,"SEDUC 14.09","JOELHO REDUÇÃO PVC SOLD./ROSCA. D=25mmX1/2\" (Ref. Seinfra 24.1 C1560)","UN",null,null,{"$f":"SUM(G661:G665)","v":1.74},null,{"$f":"$B$660","v":"SEDUC 14.09"},null,"",0]
["SINAPI",88248,{"$f":"IFERROR(INDEX(INDIRECT(A661&\"!A:D\"),MATCH(B661,INDIRECT(A661&\"!A:A\"),0),2),\"\")","v":""},{"$f":"IFERROR(INDEX(INDIRECT(A661&\"!A:D\"),MATCH(B661,INDIRECT(A661&\"!A:A\"),0),3),\"\")","v":""},{"$f":"IFERROR(INDEX(INDIRECT(A661&\"!A:D\"),MATCH(B661,INDIRECT(A661&\"!A:A\"),0),4),\"\")","v":""},0.2,{"$f":"ROUND(PRODUCT(E661:F661),2)","v":0.2},null,{"$f":"$B$660","v":"SEDUC 14.09"},null,"",{"$error":"#N/A"}]
["SINAPI",88267,{"$f":"IFERROR(INDEX(INDIRECT(A662&\"!A:D\"),MATCH(B662,INDIRECT(A662&\"!A:A\"),0),2),\"\")","v":""},{"$f":"IFERROR(INDEX(INDIRECT(A662&\"!A:D\"),MATCH(B662,INDIRECT(A662&\"!A:A\"),0),3),\"\")","v":""},{"$f":"IFERROR(INDEX(INDIRECT(A662&\"!A:D\"),MATCH(B662,INDIRECT(A662&\"!A:A\"),0),4),\"\")","v":""},0.2,{"$f":"ROUND(PRODUCT(E662:F662),2)","v":0.2},null,"SEDUC 14.09",null,"",{"$error":"#N/A"}]
["iSINAPI",3538,{"$f":"IFERROR(INDEX(INDIRECT(A663&\"!A:D\"),MATCH(B663,INDIRECT(A663&\"!A:A\"),0),2),\"\")","v":""},{"$f":"IFERROR(INDEX(INDIRECT(A663&\"!A:D\"),MATCH(B663,INDIRECT(A663&\"!A:A\"),0),3),\"\")","v":""},{"$f":"IFERROR(INDEX(INDIRECT(A663&\"!A:D\"),MATCH(B663,INDIRECT(A663&\"!A:A\"),0),4),\"\")","v":""},1,{"$f":"ROUND(PRODUCT(E663:F663),2)","v":1},null,"SEDUC 14.09",null,"",{"$error":"#N/A"}]
["iSINAPI",20082,{"$f":"IFERROR(INDEX(INDIRECT(A664&\"!A:D\"),MATCH(B664,INDIRECT(A664&\"!A:A\"),0),2),\"\")","v":""},{"$f":"IFERROR(INDEX(INDIRECT(A664&\"!A:D\"),MATCH(B664,INDIRECT(A664&\"!A:A\"),0),3),\"\")","v":""},{"$f":"IFERROR(INDEX(INDIRECT(A664&\"!A:D\"),MATCH(B664,INDIRECT(A664&\"!A:A\"),0),4),\"\")","v":""},{"$f":"5*0.04","v":0.2},{"$f":"ROUND(PRODUCT(E664:F664),2)","v":0.2},null,"SEDUC 14.09",null,"",{"$error":"#N/A"}]
["iSINAPI",20080,{"$f":"IFERROR(INDEX(INDIRECT(A665&\"!A:D\"),MATCH(B665,INDIRECT(A665&\"!A:A\"),0),2),\"\")","v":""},{"$f":"IFERROR(INDEX(INDIRECT(A665&\"!A:D\"),MATCH(B665,INDIRECT(A665&\"!A:A\"),0),3),\"\")","v":""},{"$f":"IFERROR(INDEX(INDIRECT(A665&\"!A:D\"),MATCH(B665,INDIRECT(A665&\"!A:A\"),0),4),\"\")","v":""},{"$f":"0.025*5.715","v":0.142875},{"$f":"ROUND(PRODUCT(E665:F665),2)","v":0.14000000000000001},null,"SEDUC 14.09",null,"",{"$error":"#N/A"}]
[null,null,null,null,null,null,null,null,"SEDUC 14.09",null,"",{"$error":"#N/A"}]
[null,"SEDUC 14.10","JOELHO REDUÇÃO PVC SOLD.MARROM D=40X32mm (1 1/4\"X1\") (Ref. Seinfra 24.1 C1566)","UN",null,null,{"$f":"SUM(G668:G672)","v":1.67},null,{"$f":"$B$667","v":"SEDUC 14.10"},null,"",0]
["SINAPI",88267,{"$f":"IFERROR(INDEX(INDIRECT(A668&\"!A:D\"),MATCH(B668,INDIRECT(A668&\"!A:A\"),0),2),\"\")","v":""},{"$f":"IFERROR(INDEX(INDIRECT(A668&\"!A:D\"),MATCH(B668,INDIRECT(A668&\"!A:A\"),0),3),\"\")","v":""},{"$f":"IFERROR(INDEX(INDIRECT(A668&\"!A:D\"),MATCH(B668,INDIRECT(A668&\"!A:A\"),0),4),\"\")","v":""},0.28000000000000003,{"$f":"ROUND(PRODUCT(E668:F668),2)","v":0.28000000000000003},null,"SEDUC 14.10",null,"",{"$error":"#N/A"}]
["SINAPI",88248,{"$f":"IFERROR(INDEX(INDIRECT(A669&\"!A:D\"),MATCH(B669,INDIRECT(A669&\"!A:A\"),0),2),\"\")","v":""},{"$f":"IFERROR(INDEX(INDIRECT(A669&\"!A:D\"),MATCH(B669,INDIRECT(A669&\"!A:A\"),0),3),\"\")","v":""},{"$f":"IFERROR(INDEX(INDIRECT(A669&\"!A:D\"),MATCH(B669,INDIRECT(A669&\"!A:A\"),0),4),\"\")","v":""},0.28000000000000003,{"$f":"ROUND(PRODUCT(E669:F669),2)","v":0.28000000000000003},null,"SEDUC 14.10",null,"",{"$error":"#N/A"}]
["iSINAPI",20080,{"$f":"IFERROR(INDEX(INDIRECT(A670&\"!A:D\"),MATCH(B670,INDIRECT(A670&\"!A:A\"),0),2),\"\")","v":""},{"$f":"IFERROR(INDEX(INDIRECT(A670&\"!A:D\"),MATCH(B670,INDIRECT(A670&\"!A:A\"),0),3),\"\")","v":""},{"$f":"IFERROR(INDEX(INDIRECT(A670&\"!A:D\"),MATCH(B670,INDIRECT(A670&\"!A:A\"),0),4),\"\")","v":""},{"$f":"ROUND(0.0085/0.175,4)","v":4.8599999999999997E-2},{"$f":"ROUND(PRODUCT(E670:F670),2)","v":0.05},null,"SEDUC 14.10",null,"",{"$error":"#N/A"}]
["iSEINFRA","i1312",{"$f":"IFERROR(INDEX(INDIRECT(A671&\"!A:D\"),MATCH(B671,INDIRECT(A671&\"!A:A\"),0),2),\"\")","v":""},{"$f":"IFERROR(INDEX(INDIRECT(A671&\"!A:D\"),MATCH(B671,INDIRECT(A671&\"!A:A\"),0),3),\"\")","v":""},{"$f":"IFERROR(INDEX(INDIRECT(A671&\"!A:D\"),MATCH(B671,INDIRECT(A671&\"!A:A\"),0),4),\"\")","v":""},1,{"$f":"ROUND(PRODUCT(E671:F671),2)","v":1},null,"SEDUC 14.10",null,"",{"$error":"#N/A"}]
["iSINAPI",20082,{"$f":"IFERROR(INDEX(INDIRECT(A672&\"!A:D\"),MATCH(B672,INDIRECT(A672&\"!A:A\"),0),2),\"\")","v":""},{"$f":"IFERROR(INDEX(INDIRECT(A672&\"!A:D\"),MATCH(B672,INDIRECT(A672&\"!A:A\"),0),3),\"\")","v":""},{"$f":"IFERROR(INDEX(INDIRECT(A672&\"!A:D\"),MATCH(B672,INDIRECT(A672&\"!A:A\"),0),4),\"\")","v":""},{"$f":"0.0125/0.2","v":6.25E-2},{"$f":"ROUND(PRODUCT(E672:F672),2)","v":0.06},null,"SEDUC 14.10",null,"",{"$error":"#N/A"}]
[null,null,null,null,null,null,null,null,"SEDUC 14.10",null,"",{"$error":"#N/A"}]
[null,"SEDUC 14.11","JOELHO REDUÇÃO PVC SOLD. AZUL D=25mmX1/2\" (Ref. Seinfra 24.1 C1562)","UN",null,null,{"$f":"SUM(G675:G679)","v":1.39},null,{"$f":"$B$674","v":"SEDUC 14.11"},null,"",0]
["SINAPI",88267,{"$f":"IFERROR(INDEX(INDIRECT(A675&\"!A:D\"),MATCH(B675,INDIRECT(A675&\"!A:A\"),0),2),\"\")","v":""},{"$f":"IFERROR(INDEX(INDIRECT(A675&\"!A:D\"),MATCH(B675,INDIRECT(A675&\"!A:A\"),0),3),\"\")","v":""},{"$f":"IFERROR(INDEX(INDIRECT(A675&\"!A:D\"),MATCH(B675,INDIRECT(A675&\"!A:A\"),0),4),\"\")","v":""},0.18,{"$f":"ROUND(PRODUCT(E675:F675),2)","v":0.18},null,{"$f":"$B$674","v":"SEDUC 14.11"},null,"",{"$error":"#N/A"}]
["SINAPI",88248,{"$f":"IFERROR(INDEX(INDIRECT(A676&\"!A:D\"),MATCH(B676,INDIRECT(A676&\"!A:A\"),0),2),\"\")","v":""},{"$f":"IFERROR(INDEX(INDIRECT(A676&\"!A:D\"),MATCH(B676,INDIRECT(A676&\"!A:A\"),0),3),\"\")","v":""},{"$f":"IFERROR(INDEX(INDIRECT(A676&\"!A:D\"),MATCH(B676,INDIRECT(A676&\"!A:A\"),0),4),\"\")","v":""},0.18,{"$f":"ROUND(PRODUCT(E676:F676),2)","v":0.18},null,"SEDUC 14.11",null,"",{"$error":"#N/A"}]
["iSINAPI",20080,{"$f":"IFERROR(INDEX(INDIRECT(A677&\"!A:D\"),MATCH(B677,INDIRECT(A677&\"!A:A\"),0),2),\"\")","v":""},{"$f":"IFERROR(INDEX(INDIRECT(A677&\"!A:D\"),MATCH(B677,INDIRECT(A677&\"!A:A\"),0),3),\"\")","v":""},{"$f":"IFERROR(INDEX(INDIRECT(A677&\"!A:D\"),MATCH(B677,INDIRECT(A677&\"!A:A\"),0),4),\"\")","v":""},{"$f":"ROUND(0.0025/0.175,4)","v":1.43E-2},{"$f":"ROUND(PRODUCT(E677:F677),2)","v":0.01},null,"SEDUC 14.11",null,"",{"$error":"#N/A"}]
["iSEINFRA","i1306",{"$f":"IFERROR(INDEX(INDIRECT(A678&\"!A:D\"),MATCH(B678,INDIRECT(A678&\"!A:A\"),0),2),\"\")","v":""},{"$f":"IFERROR(INDEX(INDIRECT(A678&\"!A:D\"),MATCH(B678,INDIRECT(A678&\"!A:A\"),0),3),\"\")","v":""},{"$f":"IFERROR(INDEX(INDIRECT(A678&\"!A:D\"),MATCH(B678,INDIRECT(A678&\"!A:A\"),0),4),\"\")","v":""},1,{"$f":"ROUND(PRODUCT(E678:F678),2)","v":1},null,"SEDUC 14.11",null,"",{"$error":"#N/A"}]
["iSINAPI",20082,{"$f":"IFERROR(INDEX(INDIRECT(A679&\"!A:D\"),MATCH(B679,INDIRECT(A679&\"!A:A\"),0),2),\"\")","v":""},{"$f":"IFERROR(INDEX(INDIRECT(A679&\"!A:D\"),MATCH(B679,INDIRECT(A679&\"!A:A\"),0),3),\"\")","v":""},{"$f":"IFERROR(INDEX(INDIRECT(A679&\"!A:D\"),MATCH(B679,INDIRECT(A679&\"!A:A\"),0),4),\"\")","v":""},{"$f":"0.004/0.2","v":0.02},{"$f":"ROUND(PRODUCT(E679:F679),2)","v":0.02},null,"SEDUC 14.11",null,"",{"$error":"#N/A"}]
[null,null,null,null,null,null,null,null,"SEDUC 14.11",null,"",{"$error":"#N/A"}]
[null,"SEDUC 14.12","CONJUNTO MOTO-BOMBA CENTRÍFUGA, MONOFASICA, MOTOR 7.5 CV, SCHNEIDER BC-21R OU SIMILAR (Ref. ORSE 04080)","UN",null,null,{"$f":"SUM(G682:G685)","v":9},null,{"$f":"$B$681","v":"SEDUC 14.12"},null,"",{"$error":"#N/A"}]
["iORSE",3210,{"$f":"IFERROR(INDEX(INDIRECT(A682&\"!A:D\"),MATCH(B682,INDIRECT(A682&\"!A:A\"),0),2),\"\")","v":""},{"$f":"IFERROR(INDEX(INDIRECT(A682&\"!A:D\"),MATCH(B682,INDIRECT(A682&\"!A:A\"),0),3),\"\")","v":""},{"$f":"IFERROR(INDEX(INDIRECT(A682&\"!A:D\"),MATCH(B682,INDIRECT(A682&\"!A:A\"),0),4),\"\")","v":""},1,{"$f":"ROUND(PRODUCT(E682:F682),2)","v":1},null,"SEDUC 14.12",null,{"$f":"IF(A682=\"\",\"\",IF(E682=0,\"ERRO\",\"\"))","v":""},{"$error":"#N/A"}]
["SINAPI",88264,{"$f":"IFERROR(INDEX(INDIRECT(A683&\"!A:D\"),MATCH(B683,INDIRECT(A683&\"!A:A\"),0),2),\"\")","v":""},{"$f":"IFERROR(INDEX(INDIRECT(A683&\"!A:D\"),MATCH(B683,INDIRECT(A683&\"!A:A\"),0),3),\"\")","v":""},{"$f":"IFERROR(INDEX(INDIRECT(A683&\"!A:D\"),MATCH(B683,INDIRECT(A683&\"!A:A\"),0),4),\"\")","v":""},2,{"$f":"ROUND(PRODUCT(E683:F683),2)","v":2},null,"SEDUC 14.12",null,"",{"$error":"#N/A"}]
["SINAPI",88267,{"$f":"IFERROR(INDEX(INDIRECT(A684&\"!A:D\"),MATCH(B684,INDIRECT(A684&\"!A:A\"),0),2),\"\")","v":""},{"$f":"IFERROR(INDEX(INDIRECT(A684&\"!A:D\"),MATCH(B684,INDIRECT(A684&\"!A:A\"),0),3),\"\")","v":""},{"$f":"IFERROR(INDEX(INDIRECT(A684&\"!A:D\"),MATCH(B684,INDIRECT(A684&\"!A:A\"),0),4),\"\")","v":""},2,{"$f":"ROUND(PRODUCT(E684:F684),2)","v":2},null,"SEDUC 14.12",null,"",{"$error":"#N/A"}]
["SINAPI",88316,{"$f":"IFERROR(INDEX(INDIRECT(A685&\"!A:D\"),MATCH(B685,INDIRECT(A685&\"!A:A\"),0),2),\"\")","v":""},{"$f":"IFERROR(INDEX(INDIRECT(A685&\"!A:D\"),MATCH(B685,INDIRECT(A685&\"!A:A\"),0),3),\"\")","v":""},{"$f":"IFERROR(INDEX(INDIRECT(A685&\"!A:D\"),MATCH(B685,INDIRECT(A685&\"!A:A\"),0),4),\"\")","v":""},4,{"$f":"ROUND(PRODUCT(E685:F685),2)","v":4},null,"SEDUC 14.12",null,"",{"$error":"#N/A"}]
[null,null,null,null,null,null,null,null,"SEDUC 14.12",null,"",{"$error":"#N/A"}]
[null,"SEDUC 14.13","QUADRO DE COMANDO DE BOMBAS - COMPLETO (Ref. SEINFRA C2065)","UN",null,null,{"$f":"SUM(G688:G695)","v":13},null,{"$f":"$B$687","v":"SEDUC 14.13"},null,"",{"$error":"#N/A"}]
["iSINAPI",2392,{"$f":"IFERROR(INDEX(INDIRECT(A688&\"!A:D\"),MATCH(B688,INDIRECT(A688&\"!A:A\"),0),2),\"\")","v":""},{"$f":"IFERROR(INDEX(INDIRECT(A688&\"!A:D\"),MATCH(B688,INDIRECT(A688&\"!A:A\"),0),3),\"\")","v":""},{"$f":"IFERROR(INDEX(INDIRECT(A688&\"!A:D\"),MATCH(B688,INDIRECT(A688&\"!A:A\"),0),4),\"\")","v":""},1,{"$f":"ROUND(PRODUCT(E688:F688),2)","v":1},null,"SEDUC 14.13",null,"",{"$error":"#N/A"}]
["iSEINFRA","I1692","","","",1,1,null,"SEDUC 14.13",null,"",{"$error":"#N/A"}]
["iSEINFRA","I0436","","","",1,1,null,"SEDUC 14.13",null,"",{"$error":"#N/A"}]
["iSEINFRA","I0200","","","",1,1,null,"SEDUC 14.13",null,"",{"$error":"#N/A"}]
["iSEINFRA","I1205","","","",1,1,null,"SEDUC 14.13",null,"",{"$error":"#N/A"}]
["iSEINFRA","I0195","","","",1,1,null,"SEDUC 14.13",null,"",{"$error":"#N/A"}]
["SINAPI",88247,"","","",3.5,3.5,null,"SEDUC 14.13",null,"",{"$error":"#N/A"}]
["SINAPI",88264,"","","",3.5,3.5,null,"SEDUC 14.13",null,"",{"$error":"#N/A"}]
[null,null,null,null,null,null,null,null,"SEDUC 14.13",null,"",{"$error":"#N/A"}]
[null,"SEDUC 14.14","BUCHA DE REDUÇÃO, PVC, SOLDÁVEL, DN 60MM X 25MM, INSTALADO EM RAMAL OU SUB-RAMAL DE ÁGUA - FORNECIMENTO E INSTALAÇÃO (Ref. SINAPI 90375)","UN",null,null,{"$f":"SUM(G698:G703)","v":1.32},null,{"$f":"$B$697","v":"SEDUC 14.14"}]
["iSINAPI",122,{"$f":"IFERROR(INDEX(INDIRECT(A698&\"!A:D\"),MATCH(B698,INDIRECT(A698&\"!A:A\"),0),2),\"\")","v":""},{"$f":"IFERROR(INDEX(INDIRECT(A698&\"!A:D\"),MATCH(B698,INDIRECT(A698&\"!A:A\"),0),3),\"\")","v":""},{"$f":"IFERROR(INDEX(INDIRECT(A698&\"!A:D\"),MATCH(B698,INDIRECT(A698&\"!A:A\"),0),4),\"\")","v":""},8.9999999999999993E-3,{"$f":"ROUND(PRODUCT(E698:F698),2)","v":0.01},null,"SEDUC 14.14"]
["iSINAPI",816,"","","",1,1,null,"SEDUC 14.14"]
["iSINAPI",20083,"","","",1.0999999999999999E-2,0.01,null,"SEDUC 14.14"]
["iSINAPI",38383,"","","",0.06,0.06,null,"SEDUC 14.14"]
["SINAPI",88248,"","","",0.11899999999999999,0.12,null,"SEDUC 14.14"]
["SINAPI",88267,"","","",0.11899999999999999,0.12,null,"SEDUC 14.14"]
[null,null,null,null,null,null,null,null,"SEDUC 14.14"]
[null,"SEDUC 14.15","BUCHA DE REDUÇÃO, PVC, SOLDÁVEL, DN 60MM X 32MM, INSTALADO EM RAMAL OU SUB-RAMAL DE ÁGUA - FORNECIMENTO E INSTALAÇÃO (Ref. SINAPI 90375)","UN",null,null,{"$f":"SUM(G706:G711)","v":1.32},null,{"$f":"$B$705","v":"SEDUC 14.15"}]
["iSINAPI",122,{"$f":"IFERROR(INDEX(INDIRECT(A706&\"!A:D\"),MATCH(B706,INDIRECT(A706&\"!A:A\"),0),2),\"\")","v":""},{"$f":"IFERROR(INDEX(INDIRECT(A706&\"!A:D\"),MATCH(B706,INDIRECT(A706&\"!A:A\"),0),3),\"\")","v":""},{"$f":"IFERROR(INDEX(INDIRECT(A706&\"!A:D\"),MATCH(B706,INDIRECT(A706&\"!A:A\"),0),4),\"\")","v":""},8.9999999999999993E-3,{"$f":"ROUND(PRODUCT(E706:F706),2)","v":0.01},null,{"$f":"$B$705","v":"SEDUC 14.15"}]
["iSINAPI",814,"","","",1,1,null,"SEDUC 14.15"]
["iSINAPI",20083,"","","",1.0999999999999999E-2,0.01,null,"SEDUC 14.15"]
["iSINAPI",38383,"","","",0.06,0.06,null,"SEDUC 14.15"]
["SINAPI",88248,"","","",0.11899999999999999,0.12,null,"SEDUC 14.15"]
["SINAPI",88267,"","","",0.11899999999999999,0.12,null,"SEDUC 14.15"]
[null,null,null,null,null,null,null,null,"SEDUC 14.15"]
[null,null,null,null,null,null,null,null,null,null,"",{"$error":"#N/A"}]
[null,"SEDUC 15","INSTALAÇÕES SANITÁRIAS",null,null,null,null,null,{"$f":"$B$714","v":"SEDUC 15"},null,"",{"$error":"#N/A"}]
[null,"SEDUC 15.03","TÊ SANITÁRIO, SERIE NORMAL, ESGOTO PREDIAL, DN 100 X 50 MM (Ref. SEINFRA C2347)","UN",null,null,{"$f":"SUM(G716:G720)","v":2.0699999999999998},null,{"$f":"$B$715","v":"SEDUC 15.03"},null,"",0]
["iSINAPI",122,{"$f":"IFERROR(INDEX(INDIRECT(A716&\"!A:D\"),MATCH(B716,INDIRECT(A716&\"!A:A\"),0),2),\"\")","v":""},{"$f":"IFERROR(INDEX(INDIRECT(A716&\"!A:D\"),MATCH(B716,INDIRECT(A716&\"!A:A\"),0),3),\"\")","v":""},{"$f":"IFERROR(INDEX(INDIRECT(A716&\"!A:D\"),MATCH(B716,INDIRECT(A716&\"!A:A\"),0),4),\"\")","v":""},5.8000000000000003E-2,{"$f":"ROUND(PRODUCT(E716:F716),2)","v":0.06},null,{"$f":"$B$715","v":"SEDUC 15.03"},null,"",{"$error":"#N/A"}]
["iSINAPI",11655,{"$f":"IFERROR(INDEX(INDIRECT(A717&\"!A:D\"),MATCH(B717,INDIRECT(A717&\"!A:A\"),0),2),\"\")","v":""},{"$f":"IFERROR(INDEX(INDIRECT(A717&\"!A:D\"),MATCH(B717,INDIRECT(A717&\"!A:A\"),0),3),\"\")","v":""},{"$f":"IFERROR(INDEX(INDIRECT(A717&\"!A:D\"),MATCH(B717,INDIRECT(A717&\"!A:A\"),0),4),\"\")","v":""},1,{"$f":"ROUND(PRODUCT(E717:F717),2)","v":1},null,"SEDUC 15.03",null,"",{"$error":"#N/A"}]
["iSINAPI",20083,{"$f":"IFERROR(INDEX(INDIRECT(A718&\"!A:D\"),MATCH(B718,INDIRECT(A718&\"!A:A\"),0),2),\"\")","v":""},{"$f":"IFERROR(INDEX(INDIRECT(A718&\"!A:D\"),MATCH(B718,INDIRECT(A718&\"!A:A\"),0),3),\"\")","v":""},{"$f":"IFERROR(INDEX(INDIRECT(A718&\"!A:D\"),MATCH(B718,INDIRECT(A718&\"!A:A\"),0),4),\"\")","v":""},9.0999999999999998E-2,{"$f":"ROUND(PRODUCT(E718:F718),2)","v":0.09},null,"SEDUC 15.03",null,"",{"$error":"#N/A"}]
["SINAPI",88248,{"$f":"IFERROR(INDEX(INDIRECT(A719&\"!A:D\"),MATCH(B719,INDIRECT(A719&\"!A:A\"),0),2),\"\")","v":""},{"$f":"IFERROR(INDEX(INDIRECT(A719&\"!A:D\"),MATCH(B719,INDIRECT(A719&\"!A:A\"),0),3),\"\")","v":""},{"$f":"IFERROR(INDEX(INDIRECT(A719&\"!A:D\"),MATCH(B719,INDIRECT(A719&\"!A:A\"),0),4),\"\")","v":""},0.46,{"$f":"ROUND(PRODUCT(E719:F719),2)","v":0.46},null,"SEDUC 15.03",null,"",{"$error":"#N/A"}]
["SINAPI",88267,{"$f":"IFERROR(INDEX(INDIRECT(A720&\"!A:D\"),MATCH(B720,INDIRECT(A720&\"!A:A\"),0),2),\"\")","v":""},{"$f":"IFERROR(INDEX(INDIRECT(A720&\"!A:D\"),MATCH(B720,INDIRECT(A720&\"!A:A\"),0),3),\"\")","v":""},{"$f":"IFERROR(INDEX(INDIRECT(A720&\"!A:D\"),MATCH(B720,INDIRECT(A720&\"!A:A\"),0),4),\"\")","v":""},0.46,{"$f":"ROUND(PRODUCT(E720:F720),2)","v":0.46},null,"SEDUC 15.03",null,"",{"$error":"#N/A"}]
[null,null,null,null,null,null,null,null,"SEDUC 15.03",null,"",{"$error":"#N/A"}]
[null,"SEDUC 15.04","REDUÇÃO PVC BRANCO P/ESGOTO D=75X50mm (3\"X2\")-C/ANÉIS (Ref. SEINFRA C2152)","UN",null,null,{"$f":"SUM(G723:G728)","v":6.84},null,{"$f":"$B$722","v":"SEDUC 15.04"},null,"",0]
["SINAPI",88248,{"$f":"IFERROR(INDEX(INDIRECT(A723&\"!A:D\"),MATCH(B723,INDIRECT(A723&\"!A:A\"),0),2),\"\")","v":""},{"$f":"IFERROR(INDEX(INDIRECT(A723&\"!A:D\"),MATCH(B723,INDIRECT(A723&\"!A:A\"),0),3),\"\")","v":""},{"$f":"IFERROR(INDEX(INDIRECT(A723&\"!A:D\"),MATCH(B723,INDIRECT(A723&\"!A:A\"),0),4),\"\")","v":""},0.36,{"$f":"ROUND(PRODUCT(E723:F723),2)","v":0.36},null,{"$f":"$B$722","v":"SEDUC 15.04"},null,"",{"$error":"#N/A"}]
["SINAPI",88267,"","","",0.36,0.36,null,"SEDUC 15.04",null,"",{"$error":"#N/A"}]
["iSEINFRA","I1351","","","",2.5000000000000001E-2,0.03,null,"SEDUC 15.04",null,"",{"$error":"#N/A"}]
["iSEINFRA","I0077","","","",1.0249999999999999,1.03,null,"SEDUC 15.04",null,"",{"$error":"#N/A"}]
["iSEINFRA","I0078","","","",2.0249999999999999,2.0299999999999998,null,{"$f":"$B$722","v":"SEDUC 15.04"},null,"",{"$error":"#N/A"}]
["iSEINFRA","I1792","","","",3.0249999999999999,3.03,null,"SEDUC 15.04",null,"",{"$error":"#N/A"}]
[null,null,null,null,null,null,null,null,"SEDUC 15.04",null,"",{"$error":"#N/A"}]
[null,"SEDUC 15.05","JUNÇÃO SIMPLES DE REDUÇÃO PVC P/ESGOTO 100X75mm (4\"X3\")-C/ANÉIS (Ref. SEINFRA C1577)","UN",null,null,{"$f":"SUM(G731:G736)","v":6.84},null,{"$f":"$B$730","v":"SEDUC 15.05"},null,"",0]
["SINAPI",88248,{"$f":"IFERROR(INDEX(INDIRECT(A731&\"!A:D\"),MATCH(B731,INDIRECT(A731&\"!A:A\"),0),2),\"\")","v":""},{"$f":"IFERROR(INDEX(INDIRECT(A731&\"!A:D\"),MATCH(B731,INDIRECT(A731&\"!A:A\"),0),3),\"\")","v":""},{"$f":"IFERROR(INDEX(INDIRECT(A731&\"!A:D\"),MATCH(B731,INDIRECT(A731&\"!A:A\"),0),4),\"\")","v":""},0.36,{"$f":"ROUND(PRODUCT(E731:F731),2)","v":0.36},null,{"$f":"$B$730","v":"SEDUC 15.05"},null,"",{"$error":"#N/A"}]
["SINAPI",88267,"","","",0.36,0.36,null,"SEDUC 15.05",null,"",{"$error":"#N/A"}]
["iSEINFRA","I1351","","","",2.5000000000000001E-2,0.03,null,"SEDUC 15.05",null,"",{"$error":"#N/A"}]
["iSEINFRA","I0077","","","",1.0249999999999999,1.03,null,"SEDUC 15.05",null,"",{"$error":"#N/A"}]
["iSEINFRA","I0078","","","",2.0249999999999999,2.0299999999999998,null,"SEDUC 15.05",null,"",{"$error":"#N/A"}]
["iSEINFRA","I1320","","","",3.0249999999999999,3.03,null,"SEDUC 15.05",null,"",{"$error":"#N/A"}]
[null,null,null,null,null,null,null,null,"SEDUC 15.05",null,"",{"$error":"#N/A"}]
[null,"SEDUC 15.07","BUCHA DE PVC LONGA P/ ESGOTO 50 X 40MM (Ref. SEINFRA C0488)","UN",null,null,{"$f":"SUM(G739:G743)","v":1.44},null,{"$f":"$B$738","v":"SEDUC 15.07"},null,{"$f":"IF(A738=\"\",\"\",IF(E738=0,\"ERRO\",\"\"))","v":""},0]
["SINAPI",88248,{"$f":"IFERROR(INDEX(INDIRECT(A739&\"!A:D\"),MATCH(B739,INDIRECT(A739&\"!A:A\"),0),2),\"\")","v":""},{"$f":"IFERROR(INDEX(INDIRECT(A739&\"!A:D\"),MATCH(B739,INDIRECT(A739&\"!A:A\"),0),3),\"\")","v":""},{"$f":"IFERROR(INDEX(INDIRECT(A739&\"!A:D\"),MATCH(B739,INDIRECT(A739&\"!A:A\"),0),4),\"\")","v":""},0.14000000000000001,{"$f":"ROUND(PRODUCT(E739:F739),2)","v":0.14000000000000001},null,{"$f":"$B$738","v":"SEDUC 15.07"},null,"",{"$error":"#N/A"}]
["SINAPI",88267,{"$f":"IFERROR(INDEX(INDIRECT(A740&\"!A:D\"),MATCH(B740,INDIRECT(A740&\"!A:A\"),0),2),\"\")","v":""},{"$f":"IFERROR(INDEX(INDIRECT(A740&\"!A:D\"),MATCH(B740,INDIRECT(A740&\"!A:A\"),0),3),\"\")","v":""},{"$f":"IFERROR(INDEX(INDIRECT(A740&\"!A:D\"),MATCH(B740,INDIRECT(A740&\"!A:A\"),0),4),\"\")","v":""},0.14000000000000001,{"$f":"ROUND(PRODUCT(E740:F740),2)","v":0.14000000000000001},null,"SEDUC 15.07",null,"",{"$error":"#N/A"}]
["iSEINFRA","I0325",{"$f":"IFERROR(INDEX(INDIRECT(A741&\"!A:D\"),MATCH(B741,INDIRECT(A741&\"!A:A\"),0),2),\"\")","v":""},{"$f":"IFERROR(INDEX(INDIRECT(A741&\"!A:D\"),MATCH(B741,INDIRECT(A741&\"!A:A\"),0),3),\"\")","v":""},{"$f":"IFERROR(INDEX(INDIRECT(A741&\"!A:D\"),MATCH(B741,INDIRECT(A741&\"!A:A\"),0),4),\"\")","v":""},1,{"$f":"ROUND(PRODUCT(E741:F741),2)","v":1},null,"SEDUC 15.07",null,"",{"$error":"#N/A"}]
["iSINAPI",20082,{"$f":"IFERROR(INDEX(INDIRECT(A742&\"!A:D\"),MATCH(B742,INDIRECT(A742&\"!A:A\"),0),2),\"\")","v":""},{"$f":"IFERROR(INDEX(INDIRECT(A742&\"!A:D\"),MATCH(B742,INDIRECT(A742&\"!A:A\"),0),3),\"\")","v":""},{"$f":"IFERROR(INDEX(INDIRECT(A742&\"!A:D\"),MATCH(B742,INDIRECT(A742&\"!A:A\"),0),4),\"\")","v":""},9.2499999999999999E-2,{"$f":"ROUND(PRODUCT(E742:F742),2)","v":0.09},null,"SEDUC 15.07",null,"",{"$error":"#N/A"}]
["iSINAPI",20080,{"$f":"IFERROR(INDEX(INDIRECT(A743&\"!A:D\"),MATCH(B743,INDIRECT(A743&\"!A:A\"),0),2),\"\")","v":""},{"$f":"IFERROR(INDEX(INDIRECT(A743&\"!A:D\"),MATCH(B743,INDIRECT(A743&\"!A:A\"),0),3),\"\")","v":""},{"$f":"IFERROR(INDEX(INDIRECT(A743&\"!A:D\"),MATCH(B743,INDIRECT(A743&\"!A:A\"),0),4),\"\")","v":""},7.1400000000000005E-2,{"$f":"ROUND(PRODUCT(E743:F743),2)","v":7.0000000000000007E-2},null,"SEDUC 15.07",null,"",{"$error":"#N/A"}]
[null,null,null,null,null,null,null,null,"SEDUC 15.07",null,"",{"$error":"#N/A"}]
[null,"SEDUC 15.08","JUNÇÃO SIMPLES DE REDUÇÃO PVC P/ESGOTO 75X50mm (3\"X2\") (Ref. SEINFRA C1579)","UN",null,null,{"$f":"SUM(G746:G750)","v":2.0099999999999998},null,{"$f":"$B$745","v":"SEDUC 15.08"},null,"",0]
["SINAPI",88248,{"$f":"IFERROR(INDEX(INDIRECT(A746&\"!A:D\"),MATCH(B746,INDIRECT(A746&\"!A:A\"),0),2),\"\")","v":""},{"$f":"IFERROR(INDEX(INDIRECT(A746&\"!A:D\"),MATCH(B746,INDIRECT(A746&\"!A:A\"),0),3),\"\")","v":""},{"$f":"IFERROR(INDEX(INDIRECT(A746&\"!A:D\"),MATCH(B746,INDIRECT(A746&\"!A:A\"),0),4),\"\")","v":""},0.37,{"$f":"ROUND(PRODUCT(E746:F746),2)","v":0.37},null,{"$f":"$B$745","v":"SEDUC 15.08"},null,"",{"$error":"#N/A"}]
["SINAPI",88267,{"$f":"IFERROR(INDEX(INDIRECT(A747&\"!A:D\"),MATCH(B747,INDIRECT(A747&\"!A:A\"),0),2),\"\")","v":""},{"$f":"IFERROR(INDEX(INDIRECT(A747&\"!A:D\"),MATCH(B747,INDIRECT(A747&\"!A:A\"),0),3),\"\")","v":""},{"$f":"IFERROR(INDEX(INDIRECT(A747&\"!A:D\"),MATCH(B747,INDIRECT(A747&\"!A:A\"),0),4),\"\")","v":""},0.37,{"$f":"ROUND(PRODUCT(E747:F747),2)","v":0.37},null,"SEDUC 15.08",null,"",{"$error":"#N/A"}]
["iSINAPI",3661,{"$f":"IFERROR(INDEX(INDIRECT(A748&\"!A:D\"),MATCH(B748,INDIRECT(A748&\"!A:A\"),0),2),\"\")","v":""},{"$f":"IFERROR(INDEX(INDIRECT(A748&\"!A:D\"),MATCH(B748,INDIRECT(A748&\"!A:A\"),0),3),\"\")","v":""},{"$f":"IFERROR(INDEX(INDIRECT(A748&\"!A:D\"),MATCH(B748,INDIRECT(A748&\"!A:A\"),0),4),\"\")","v":""},1,{"$f":"ROUND(PRODUCT(E748:F748),2)","v":1},null,"SEDUC 15.08",null,"",{"$error":"#N/A"}]
["iSINAPI",20082,{"$f":"IFERROR(INDEX(INDIRECT(A749&\"!A:D\"),MATCH(B749,INDIRECT(A749&\"!A:A\"),0),2),\"\")","v":""},{"$f":"IFERROR(INDEX(INDIRECT(A749&\"!A:D\"),MATCH(B749,INDIRECT(A749&\"!A:A\"),0),3),\"\")","v":""},{"$f":"IFERROR(INDEX(INDIRECT(A749&\"!A:D\"),MATCH(B749,INDIRECT(A749&\"!A:A\"),0),4),\"\")","v":""},{"$f":"ROUND(0.063/2,4)","v":3.15E-2},{"$f":"ROUND(PRODUCT(E749:F749),2)","v":0.03},null,"SEDUC 15.08",null,"",{"$error":"#N/A"}]
["iSINAPI",20080,{"$f":"IFERROR(INDEX(INDIRECT(A750&\"!A:D\"),MATCH(B750,INDIRECT(A750&\"!A:A\"),0),2),\"\")","v":""},{"$f":"IFERROR(INDEX(INDIRECT(A750&\"!A:D\"),MATCH(B750,INDIRECT(A750&\"!A:A\"),0),3),\"\")","v":""},{"$f":"IFERROR(INDEX(INDIRECT(A750&\"!A:D\"),MATCH(B750,INDIRECT(A750&\"!A:A\"),0),4),\"\")","v":""},{"$f":"ROUND(0.0415/0.175,4)","v":0.23710000000000001},{"$f":"ROUND(PRODUCT(E750:F750),2)","v":0.24},null,"SEDUC 15.08",null,"",{"$error":"#N/A"}]
[null,null,null,null,null,null,null,null,"SEDUC 15.08",null,"",{"$error":"#N/A"}]
[null,"SEDUC 15.09","FOSSA SÉPTICA E SUMIDOURO EM ANÉIS D=1,20M (Ref. SEINFRA C4162 / C2860 )","UN",null,null,{"$f":"SUM(G753:G763)","v":{"$error":"#REF!"}},null,{"$f":"$B$752","v":"SEDUC 15.09"},null,"",{"$error":"#N/A"}]
["SINAPI",88309,{"$f":"IFERROR(INDEX(INDIRECT(A753&\"!A:D\"),MATCH(B753,INDIRECT(A753&\"!A:A\"),0),2),\"\")","v":""},{"$f":"IFERROR(INDEX(INDIRECT(A753&\"!A:D\"),MATCH(B753,INDIRECT(A753&\"!A:A\"),0),3),\"\")","v":""},{"$f":"IFERROR(INDEX(INDIRECT(A753&\"!A:D\"),MATCH(B753,INDIRECT(A753&\"!A:A\"),0),4),\"\")","v":""},9,{"$f":"ROUND(PRODUCT(E753:F753),2)","v":9},null,{"$f":"$B$752","v":"SEDUC 15.09"},null,"",{"$error":"#N/A"}]
["SINAPI",88316,"","","",{"$f":"5+1.3","v":6.3},6.3,null,"SEDUC 15.09",null,"",{"$error":"#N/A"}]
["iSINAPI",369,"","","",{"$f":"0.109+1.15","v":1.2589999999999999},1.26,null,"SEDUC 15.09",null,"",{"$error":"#N/A"}]
["iSINAPI",1379,"","","",72.900000000000006,72.900000000000006,null,"SEDUC 15.09",null,"",{"$error":"#N/A"}]
["iSINAPI",12551,"","","",6,6,null,"SEDUC 15.09",null,"",{"$error":"#N/A"}]
["iSEINFRA","I7965","","","",2,2,null,"SEDUC 15.09",null,"",{"$error":"#N/A"}]
["iSEINFRA","I7966","","","",1,1,null,"SEDUC 15.09",null,"",{"$error":"#N/A"}]
["SINAPI",89714,"","","",4,4,null,"SEDUC 15.09",null,"",{"$error":"#N/A"}]
["SEDUC","SEDUC 3.01",{"$f":"#REF!","v":{"$error":"#REF!"}},{"$f":"#REF!","v":{"$error":"#REF!"}},{"$f":"#REF!","v":{"$error":"#REF!"}},8.0399999999999991,{"$error":"#REF!"},null,"SEDUC 15.09",null,{"$error":"#REF!"},"ESCAVAR VOLUMES DE SOLO NATURAL A FIM DE NIVELAMENTO DO TERRENO NATURAL PARA IMPLANTAÇÃO DE NOVAS ÁREAS DE CONSTRUÇÃO; TAMBÉM APLICÁVEL A ESCAVAÇÕES PARA FUNDAÇÕES NÃO LINEARES (SAPATAS, TUBULÕES, ETC); ESTE SERVIÇO DEVE SER FEITO DE FORMA MANUAL; NÃO SE DEVE CONFUNDIR TAL SERVIÇO COM ESCAVAÇÃO DE VALAS;"]
["SINAPI",94107,"","","",0.23,0.23,null,"SEDUC 15.09",null,"",{"$error":"#N/A"}]
["SINAPI",96995,"","","",5.52,{"$f":"ROUND(PRODUCT(E763:F763),2)","v":5.52},null,"SEDUC 15.09",null,"",{"$error":"#N/A"}]
[null,null,null,null,null,null,null,null,"SEDUC 15.09",null,null,{"$error":"#N/A"}]
[null,"SEDUC 15.10","TERMINAL DE VENTILACAO, 50 MM, SERIE NORMAL, ESGOTO PREDIAL (Ref. ORSE 01594 )","UN",null,null,{"$f":"SUM(G766:G770)","v":37.6},null,{"$f":"$B$765","v":"SEDUC 15.10"},null,null,{"$error":"#N/A"}]
["iSINAPI",122,{"$f":"IFERROR(INDEX(INDIRECT(A766&\"!A:D\"),MATCH(B766,INDIRECT(A766&\"!A:A\"),0),2),\"\")","v":""},{"$f":"IFERROR(INDEX(INDIRECT(A766&\"!A:D\"),MATCH(B766,INDIRECT(A766&\"!A:A\"),0),3),\"\")","v":""},{"$f":"IFERROR(INDEX(INDIRECT(A766&\"!A:D\"),MATCH(B766,INDIRECT(A766&\"!A:A\"),0),4),\"\")","v":""},5.52,{"$f":"ROUND(PRODUCT(E766:F766),2)","v":5.52},null,{"$f":"$B$765","v":"SEDUC 15.10"},null,null,{"$error":"#N/A"}]
["iSINAPI",20083,{"$f":"IFERROR(INDEX(INDIRECT(A767&\"!A:D\"),MATCH(B767,INDIRECT(A767&\"!A:A\"),0),2),\"\")","v":""},{"$f":"IFERROR(INDEX(INDIRECT(A767&\"!A:D\"),MATCH(B767,INDIRECT(A767&\"!A:A\"),0),3),\"\")","v":""},{"$f":"IFERROR(INDEX(INDIRECT(A767&\"!A:D\"),MATCH(B767,INDIRECT(A767&\"!A:A\"),0),4),\"\")","v":""},6.52,{"$f":"ROUND(PRODUCT(E767:F767),2)","v":6.52},null,"SEDUC 15.10",null,null,{"$error":"#N/A"}]
["iSINAPI",39319,{"$f":"IFERROR(INDEX(INDIRECT(A768&\"!A:D\"),MATCH(B768,INDIRECT(A768&\"!A:A\"),0),2),\"\")","v":""},{"$f":"IFERROR(INDEX(INDIRECT(A768&\"!A:D\"),MATCH(B768,INDIRECT(A768&\"!A:A\"),0),3),\"\")","v":""},{"$f":"IFERROR(INDEX(INDIRECT(A768&\"!A:D\"),MATCH(B768,INDIRECT(A768&\"!A:A\"),0),4),\"\")","v":""},7.52,{"$f":"ROUND(PRODUCT(E768:F768),2)","v":7.52},null,"SEDUC 15.10",null,null,{"$error":"#N/A"}]
["SINAPI",88267,{"$f":"IFERROR(INDEX(INDIRECT(A769&\"!A:D\"),MATCH(B769,INDIRECT(A769&\"!A:A\"),0),2),\"\")","v":""},{"$f":"IFERROR(INDEX(INDIRECT(A769&\"!A:D\"),MATCH(B769,INDIRECT(A769&\"!A:A\"),0),3),\"\")","v":""},{"$f":"IFERROR(INDEX(INDIRECT(A769&\"!A:D\"),MATCH(B769,INDIRECT(A769&\"!A:A\"),0),4),\"\")","v":""},8.52,{"$f":"ROUND(PRODUCT(E769:F769),2)","v":8.52},null,"SEDUC 15.10",null,null,{"$error":"#N/A"}]
["SINAPI",88316,{"$f":"IFERROR(INDEX(INDIRECT(A770&\"!A:D\"),MATCH(B770,INDIRECT(A770&\"!A:A\"),0),2),\"\")","v":""},{"$f":"IFERROR(INDEX(INDIRECT(A770&\"!A:D\"),MATCH(B770,INDIRECT(A770&\"!A:A\"),0),3),\"\")","v":""},{"$f":"IFERROR(INDEX(INDIRECT(A770&\"!A:D\"),MATCH(B770,INDIRECT(A770&\"!A:A\"),0),4),\"\")","v":""},9.52,{"$f":"ROUND(PRODUCT(E770:F770),2)","v":9.52},null,"SEDUC 15.10",null,null,{"$error":"#N/A"}]
[null,null,null,null,null,null,null,null,"SEDUC 15.10",null,"",{"$error":"#N/A"}]
[null,"SEDUC 15.11","FORNECIMENTO E MONTAGEM DE ANEL PRÉ-MOLDADO, D=1,50M, H=0,50M, P/DECANTO DIGESTOR/FILTRO ANAERÓBIO (Ref. SEINFRA C2882)","UN",null,null,{"$f":"SUM(G773:G777)","v":1.77},null,{"$f":"$B$772","v":"SEDUC 15.11"},null,null,{"$error":"#N/A"}]
["iSINAPI",12563,{"$f":"IFERROR(INDEX(INDIRECT(A773&\"!A:D\"),MATCH(B773,INDIRECT(A773&\"!A:A\"),0),2),\"\")","v":""},{"$f":"IFERROR(INDEX(INDIRECT(A773&\"!A:D\"),MATCH(B773,INDIRECT(A773&\"!A:A\"),0),3),\"\")","v":""},{"$f":"IFERROR(INDEX(INDIRECT(A773&\"!A:D\"),MATCH(B773,INDIRECT(A773&\"!A:A\"),0),4),\"\")","v":""},1,{"$f":"ROUND(PRODUCT(E773:F773),2)","v":1},null,{"$f":"$B$772","v":"SEDUC 15.11"},null,null,{"$error":"#N/A"}]
["SINAPI",88630,{"$f":"IFERROR(INDEX(INDIRECT(A774&\"!A:D\"),MATCH(B774,INDIRECT(A774&\"!A:A\"),0),2),\"\")","v":""},{"$f":"IFERROR(INDEX(INDIRECT(A774&\"!A:D\"),MATCH(B774,INDIRECT(A774&\"!A:A\"),0),3),\"\")","v":""},{"$f":"IFERROR(INDEX(INDIRECT(A774&\"!A:D\"),MATCH(B774,INDIRECT(A774&\"!A:A\"),0),4),\"\")","v":""},1.6E-2,{"$f":"ROUND(PRODUCT(E774:F774),2)","v":0.02},null,"SEDUC 15.11",null,null,{"$error":"#N/A"}]
["iSEINFRA","I0705",{"$f":"IFERROR(INDEX(INDIRECT(A775&\"!A:D\"),MATCH(B775,INDIRECT(A775&\"!A:A\"),0),2),\"\")","v":""},{"$f":"IFERROR(INDEX(INDIRECT(A775&\"!A:D\"),MATCH(B775,INDIRECT(A775&\"!A:A\"),0),3),\"\")","v":""},{"$f":"IFERROR(INDEX(INDIRECT(A775&\"!A:D\"),MATCH(B775,INDIRECT(A775&\"!A:A\"),0),4),\"\")","v":""},0.25,{"$f":"ROUND(PRODUCT(E775:F775),2)","v":0.25},null,"SEDUC 15.11",null,null,{"$error":"#N/A"}]
["SINAPI",88309,{"$f":"IFERROR(INDEX(INDIRECT(A776&\"!A:D\"),MATCH(B776,INDIRECT(A776&\"!A:A\"),0),2),\"\")","v":""},{"$f":"IFERROR(INDEX(INDIRECT(A776&\"!A:D\"),MATCH(B776,INDIRECT(A776&\"!A:A\"),0),3),\"\")","v":""},{"$f":"IFERROR(INDEX(INDIRECT(A776&\"!A:D\"),MATCH(B776,INDIRECT(A776&\"!A:A\"),0),4),\"\")","v":""},0.25,{"$f":"ROUND(PRODUCT(E776:F776),2)","v":0.25},null,"SEDUC 15.11",null,null,{"$error":"#N/A"}]
["SINAPI",88316,{"$f":"IFERROR(INDEX(INDIRECT(A777&\"!A:D\"),MATCH(B777,INDIRECT(A777&\"!A:A\"),0),2),\"\")","v":""},{"$f":"IFERROR(INDEX(INDIRECT(A777&\"!A:D\"),MATCH(B777,INDIRECT(A777&\"!A:A\"),0),3),\"\")","v":""},{"$f":"IFERROR(INDEX(INDIRECT(A777&\"!A:D\"),MATCH(B777,INDIRECT(A777&\"!A:A\"),0),4),\"\")","v":""},0.25,{"$f":"ROUND(PRODUCT(E777:F777),2)","v":0.25},null,"SEDUC 15.11",null,null,{"$error":"#N/A"}]
[null,null,null,null,null,null,null,null,"SEDUC 15.11",null,{"$f":"IF(A778=\"\",\"\",IF(E778=0,\"ERRO\",\"\"))","v":""},{"$error":"#N/A"}]
[null,null,null,null,null,null,null,null,null,null,"",{"$error":"#N/A"}]
[null,"SEDUC 16","DRENAGEM PLUVIAL",null,null,null,null,null,{"$f":"$B$780","v":"SEDUC 16"},null,"",{"$error":"#N/A"}]
[null,"SEDUC 16.01","CANALETA DE CONCRETO 20 X 20 CM, SEM  TAMPA (REF. SEINFRA C4026)","M",null,null,{"$f":"SUM(G782:G784)","v":0.56000000000000005},null,{"$f":"$B$781","v":"SEDUC 16.01"},null,"","EXECUTAR CANALETA EM CONCRETO ARMADO PARA TRANSPORTE DE ÁGUAS PLUVIAIS; INSTALAR EM LOCAIS INDICADOS EM PROJETO OU PELA ADMINISTRAÇÃO; CONCRETO DE FCK = 15 MPA PREPARADO MANUALMENTE; INCLUSO FÔRMAS DE MADEIRA."]
["SINAPI",93358,{"$f":"IFERROR(INDEX(INDIRECT(A782&\"!A:D\"),MATCH(B782,INDIRECT(A782&\"!A:A\"),0),2),\"\")","v":""},{"$f":"IFERROR(INDEX(INDIRECT(A782&\"!A:D\"),MATCH(B782,INDIRECT(A782&\"!A:A\"),0),3),\"\")","v":""},{"$f":"IFERROR(INDEX(INDIRECT(A782&\"!A:D\"),MATCH(B782,INDIRECT(A782&\"!A:A\"),0),4),\"\")","v":""},0.1,{"$f":"ROUND(PRODUCT(E782:F782),2)","v":0.1},null,{"$f":"$B$781","v":"SEDUC 16.01"},null,"",{"$error":"#N/A"}]
["SINAPI",94975,{"$f":"IFERROR(INDEX(INDIRECT(A783&\"!A:D\"),MATCH(B783,INDIRECT(A783&\"!A:A\"),0),2),\"\")","v":""},{"$f":"IFERROR(INDEX(INDIRECT(A783&\"!A:D\"),MATCH(B783,INDIRECT(A783&\"!A:A\"),0),3),\"\")","v":""},{"$f":"IFERROR(INDEX(INDIRECT(A783&\"!A:D\"),MATCH(B783,INDIRECT(A783&\"!A:A\"),0),4),\"\")","v":""},0.06,{"$f":"ROUND(PRODUCT(E783:F783),2)","v":0.06},null,{"$f":"$B$781","v":"SEDUC 16.01"},null,"",{"$error":"#N/A"}]
["SINAPI",96534,{"$f":"IFERROR(INDEX(INDIRECT(A784&\"!A:D\"),MATCH(B784,INDIRECT(A784&\"!A:A\"),0),2),\"\")","v":""},{"$f":"IFERROR(INDEX(INDIRECT(A784&\"!A:D\"),MATCH(B784,INDIRECT(A784&\"!A:A\"),0),3),\"\")","v":""},{"$f":"IFERROR(INDEX(INDIRECT(A784&\"!A:D\"),MATCH(B784,INDIRECT(A784&\"!A:A\"),0),4),\"\")","v":""},0.4,{"$f":"ROUND(PRODUCT(E784:F784),2)","v":0.4},null,{"$f":"$B$781","v":"SEDUC 16.01"},null,"",{"$error":"#N/A"}]
[null,null,null,null,null,null,null,null,{"$f":"$B$781","v":"SEDUC 16.01"},null,"",{"$error":"#N/A"}]
[null,"SEDUC 16.02","RALO HEMISFÉRICO EM FERRO FUNDIDO TIPO ABACAXI, DN 150 MM (REF. ORSE 7752)","UN",null,null,{"$f":"SUM(G787:G789)","v":2},null,{"$f":"$B$786","v":"SEDUC 16.02"},null,"","RETIRAR MANUALMENTE TELA DE ARAME DANIFICADA EXISTENTE EM ALAMBRADO E, POSTERIORMENTE, PROMOVER A DEVIDA INSTALAÇÃO DE NOVA TELA (FIO 14 BWG)"]
["SINAPI",88267,{"$f":"IFERROR(INDEX(INDIRECT(A787&\"!A:D\"),MATCH(B787,INDIRECT(A787&\"!A:A\"),0),2),\"\")","v":""},{"$f":"IFERROR(INDEX(INDIRECT(A787&\"!A:D\"),MATCH(B787,INDIRECT(A787&\"!A:A\"),0),3),\"\")","v":""},{"$f":"IFERROR(INDEX(INDIRECT(A787&\"!A:D\"),MATCH(B787,INDIRECT(A787&\"!A:A\"),0),4),\"\")","v":""},0.5,{"$f":"ROUND(PRODUCT(E787:F787),2)","v":0.5},null,{"$f":"$B$786","v":"SEDUC 16.02"},null,"",{"$error":"#N/A"}]
["SINAPI",88248,{"$f":"IFERROR(INDEX(INDIRECT(A788&\"!A:D\"),MATCH(B788,INDIRECT(A788&\"!A:A\"),0),2),\"\")","v":""},{"$f":"IFERROR(INDEX(INDIRECT(A788&\"!A:D\"),MATCH(B788,INDIRECT(A788&\"!A:A\"),0),3),\"\")","v":""},{"$f":"IFERROR(INDEX(INDIRECT(A788&\"!A:D\"),MATCH(B788,INDIRECT(A788&\"!A:A\"),0),4),\"\")","v":""},0.5,{"$f":"ROUND(PRODUCT(E788:F788),2)","v":0.5},null,{"$f":"$B$786","v":"SEDUC 16.02"},null,"",{"$error":"#N/A"}]
["iSINAPI",11709,{"$f":"IFERROR(INDEX(INDIRECT(A789&\"!A:D\"),MATCH(B789,INDIRECT(A789&\"!A:A\"),0),2),\"\")","v":""},{"$f":"IFERROR(INDEX(INDIRECT(A789&\"!A:D\"),MATCH(B789,INDIRECT(A789&\"!A:A\"),0),3),\"\")","v":""},{"$f":"IFERROR(INDEX(INDIRECT(A789&\"!A:D\"),MATCH(B789,INDIRECT(A789&\"!A:A\"),0),4),\"\")","v":""},1,{"$f":"ROUND(PRODUCT(E789:F789),2)","v":1},null,{"$f":"$B$786","v":"SEDUC 16.02"},null,"",{"$error":"#N/A"}]
[null,null,null,null,null,null,null,null,{"$f":"$B$786","v":"SEDUC 16.02"},null,"",{"$error":"#N/A"}]
[null,null,null,null,null,null,null,null,null,null,"",{"$error":"#N/A"}]
[null,"SEDUC 17","INSTALAÇÕES DE GÁS",null,null,null,null,null,{"$f":"$B$792","v":"SEDUC 17"},null,"",{"$error":"#N/A"}]
[null,"SEDUC 17.01","REDE DE GÁS P/ COZINHA (FORN./MONTAGEM)(REF. SEINFRA C4006)","M",null,null,{"$f":"SUM(G794)","v":1},null,{"$f":"$B$793","v":"SEDUC 17.01"},null,"","EXECUTAR REDE DE GÁS ENTRE CASA DE GÁS E APARELHOS NA COZINHA; VERIFICAR ADEQUAÇÃO DE MATERIAIS, TUBOS, CONEXÕES, REGISTROS E DEMAIS PEÇAS NECESSÁRIAS."]
["iSEINFRA","i7509",{"$f":"IFERROR(INDEX(INDIRECT(A794&\"!A:D\"),MATCH(B794,INDIRECT(A794&\"!A:A\"),0),2),\"\")","v":""},{"$f":"IFERROR(INDEX(INDIRECT(A794&\"!A:D\"),MATCH(B794,INDIRECT(A794&\"!A:A\"),0),3),\"\")","v":""},{"$f":"IFERROR(INDEX(INDIRECT(A794&\"!A:D\"),MATCH(B794,INDIRECT(A794&\"!A:A\"),0),4),\"\")","v":""},1,{"$f":"ROUND(PRODUCT(E794:F794),2)","v":1},null,{"$f":"$B$793","v":"SEDUC 17.01"},null,"",{"$error":"#N/A"}]
[null,null,null,null,null,null,null,null,{"$f":"$B$793","v":"SEDUC 17.01"},null,"",{"$error":"#N/A"}]
[null,"SEDUC 17.02","VALVULA DE BLOQUEIO, CLASSE 300, D=15MM (REF. ORSE 09014)","UN",null,null,{"$f":"SUM(G797:G800)","v":2.14},null,{"$f":"$B$796","v":"SEDUC 17.02"},null,"",{"$error":"#N/A"}]
["iSINAPI",3146,{"$f":"IFERROR(INDEX(INDIRECT(A797&\"!A:D\"),MATCH(B797,INDIRECT(A797&\"!A:A\"),0),2),\"\")","v":""},{"$f":"IFERROR(INDEX(INDIRECT(A797&\"!A:D\"),MATCH(B797,INDIRECT(A797&\"!A:A\"),0),3),\"\")","v":""},{"$f":"IFERROR(INDEX(INDIRECT(A797&\"!A:D\"),MATCH(B797,INDIRECT(A797&\"!A:A\"),0),4),\"\")","v":""},{"$f":"0.56/10","v":5.6000000000000001E-2},{"$f":"ROUND(PRODUCT(E797:F797),2)","v":0.06},null,"SEDUC 17.02",null,"",{"$error":"#N/A"}]
["iORSE",9268,{"$f":"IFERROR(INDEX(INDIRECT(A798&\"!A:D\"),MATCH(B798,INDIRECT(A798&\"!A:A\"),0),2),\"\")","v":""},{"$f":"IFERROR(INDEX(INDIRECT(A798&\"!A:D\"),MATCH(B798,INDIRECT(A798&\"!A:A\"),0),3),\"\")","v":""},{"$f":"IFERROR(INDEX(INDIRECT(A798&\"!A:D\"),MATCH(B798,INDIRECT(A798&\"!A:A\"),0),4),\"\")","v":""},1,{"$f":"ROUND(PRODUCT(E798:F798),2)","v":1},null,"SEDUC 17.02",null,"",{"$error":"#N/A"}]
["SINAPI",88267,{"$f":"IFERROR(INDEX(INDIRECT(A799&\"!A:D\"),MATCH(B799,INDIRECT(A799&\"!A:A\"),0),2),\"\")","v":""},{"$f":"IFERROR(INDEX(INDIRECT(A799&\"!A:D\"),MATCH(B799,INDIRECT(A799&\"!A:A\"),0),3),\"\")","v":""},{"$f":"IFERROR(INDEX(INDIRECT(A799&\"!A:D\"),MATCH(B799,INDIRECT(A799&\"!A:A\"),0),4),\"\")","v":""},0.54,{"$f":"ROUND(PRODUCT(E799:F799),2)","v":0.54},null,"SEDUC 17.02",null,"",{"$error":"#N/A"}]
["SINAPI",88316,{"$f":"IFERROR(INDEX(INDIRECT(A800&\"!A:D\"),MATCH(B800,INDIRECT(A800&\"!A:A\"),0),2),\"\")","v":""},{"$f":"IFERROR(INDEX(INDIRECT(A800&\"!A:D\"),MATCH(B800,INDIRECT(A800&\"!A:A\"),0),3),\"\")","v":""},{"$f":"IFERROR(INDEX(INDIRECT(A800&\"!A:D\"),MATCH(B800,INDIRECT(A800&\"!A:A\"),0),4),\"\")","v":""},0.54,{"$f":"ROUND(PRODUCT(E800:F800),2)","v":0.54},null,"SEDUC 17.02",null,"",{"$error":"#N/A"}]
[null,null,null,null,null,null,null,null,"SEDUC 17.02",null,"",{"$error":"#N/A"}]
[null,"SEDUC 17.03","REGISTRO DE FECHO RÁPIDO, 1/2\" NPT (REF. ORSE 10339)","UN",null,null,{"$f":"SUM(G803:G804)","v":1.03},null,{"$f":"$B$802","v":"SEDUC 17.03"},null,{"$f":"IF(A802=\"\",\"\",IF(E802=0,\"ERRO\",\"\"))","v":""},{"$error":"#N/A"}]
["iORSE",11112,{"$f":"IFERROR(INDEX(INDIRECT(A803&\"!A:D\"),MATCH(B803,INDIRECT(A803&\"!A:A\"),0),2),\"\")","v":""},{"$f":"IFERROR(INDEX(INDIRECT(A803&\"!A:D\"),MATCH(B803,INDIRECT(A803&\"!A:A\"),0),3),\"\")","v":""},{"$f":"IFERROR(INDEX(INDIRECT(A803&\"!A:D\"),MATCH(B803,INDIRECT(A803&\"!A:A\"),0),4),\"\")","v":""},1,{"$f":"ROUND(PRODUCT(E803:F803),2)","v":1},null,{"$f":"$B$802","v":"SEDUC 17.03"},null,"",{"$error":"#N/A"}]
["SINAPI",88267,{"$f":"IFERROR(INDEX(INDIRECT(A804&\"!A:D\"),MATCH(B804,INDIRECT(A804&\"!A:A\"),0),2),\"\")","v":""},{"$f":"IFERROR(INDEX(INDIRECT(A804&\"!A:D\"),MATCH(B804,INDIRECT(A804&\"!A:A\"),0),3),\"\")","v":""},{"$f":"IFERROR(INDEX(INDIRECT(A804&\"!A:D\"),MATCH(B804,INDIRECT(A804&\"!A:A\"),0),4),\"\")","v":""},0.03,{"$f":"ROUND(PRODUCT(E804:F804),2)","v":0.03},null,{"$f":"$B$802","v":"SEDUC 17.03"},null,"",{"$error":"#N/A"}]
[null,null,null,null,null,null,null,null,{"$f":"$B$802","v":"SEDUC 17.03"},null,"",{"$error":"#N/A"}]
[null,"SEDUC 17.04","REGULADOR DE BAIXA PRESSÃO, D=15MM, 2º ESTÁGIO (REF. ORSE 09093)","UN",null,null,{"$f":"SUM(G807:G809)","v":2},null,{"$f":"$B$806","v":"SEDUC 17.04"},null,"",{"$error":"#N/A"}]
["iORSE",9377,{"$f":"IFERROR(INDEX(INDIRECT(A807&\"!A:D\"),MATCH(B807,INDIRECT(A807&\"!A:A\"),0),2),\"\")","v":""},{"$f":"IFERROR(INDEX(INDIRECT(A807&\"!A:D\"),MATCH(B807,INDIRECT(A807&\"!A:A\"),0),3),\"\")","v":""},{"$f":"IFERROR(INDEX(INDIRECT(A807&\"!A:D\"),MATCH(B807,INDIRECT(A807&\"!A:A\"),0),4),\"\")","v":""},1,{"$f":"ROUND(PRODUCT(E807:F807),2)","v":1},null,{"$f":"$B$806","v":"SEDUC 17.04"},null,"",{"$error":"#N/A"}]
["SINAPI",88267,{"$f":"IFERROR(INDEX(INDIRECT(A808&\"!A:D\"),MATCH(B808,INDIRECT(A808&\"!A:A\"),0),2),\"\")","v":""},{"$f":"IFERROR(INDEX(INDIRECT(A808&\"!A:D\"),MATCH(B808,INDIRECT(A808&\"!A:A\"),0),3),\"\")","v":""},{"$f":"IFERROR(INDEX(INDIRECT(A808&\"!A:D\"),MATCH(B808,INDIRECT(A808&\"!A:A\"),0),4),\"\")","v":""},0.5,{"$f":"ROUND(PRODUCT(E808:F808),2)","v":0.5},null,{"$f":"$B$806","v":"SEDUC 17.04"},null,"",{"$error":"#N/A"}]
["SINAPI",88316,{"$f":"IFERROR(INDEX(INDIRECT(A809&\"!A:D\"),MATCH(B809,INDIRECT(A809&\"!A:A\"),0),2),\"\")","v":""},{"$f":"IFERROR(INDEX(INDIRECT(A809&\"!A:D\"),MATCH(B809,INDIRECT(A809&\"!A:A\"),0),3),\"\")","v":""},{"$f":"IFERROR(INDEX(INDIRECT(A809&\"!A:D\"),MATCH(B809,INDIRECT(A809&\"!A:A\"),0),4),\"\")","v":""},0.5,{"$f":"ROUND(PRODUCT(E809:F809),2)","v":0.5},null,{"$f":"$B$806","v":"SEDUC 17.04"},null,"",{"$error":"#N/A"}]
[null,null,null,null,null,null,null,null,{"$f":"$B$806","v":"SEDUC 17.04"},null,"",{"$error":"#N/A"}]
[null,"SEDUC 17.05","REGULADOR DE ALTA PRESSÃO, D=28MM, 1º ESTÁGIO (REF. ORSE 09092)","UN",null,null,{"$f":"SUM(G812:G814)","v":2},null,{"$f":"$B$811","v":"SEDUC 17.05"},null,"",{"$error":"#N/A"}]
["iORSE",9376,{"$f":"IFERROR(INDEX(INDIRECT(A812&\"!A:D\"),MATCH(B812,INDIRECT(A812&\"!A:A\"),0),2),\"\")","v":""},{"$f":"IFERROR(INDEX(INDIRECT(A812&\"!A:D\"),MATCH(B812,INDIRECT(A812&\"!A:A\"),0),3),\"\")","v":""},{"$f":"IFERROR(INDEX(INDIRECT(A812&\"!A:D\"),MATCH(B812,INDIRECT(A812&\"!A:A\"),0),4),\"\")","v":""},1,{"$f":"ROUND(PRODUCT(E812:F812),2)","v":1},null,{"$f":"$B$811","v":"SEDUC 17.05"},null,"",{"$error":"#N/A"}]
["SINAPI",88267,{"$f":"IFERROR(INDEX(INDIRECT(A813&\"!A:D\"),MATCH(B813,INDIRECT(A813&\"!A:A\"),0),2),\"\")","v":""},{"$f":"IFERROR(INDEX(INDIRECT(A813&\"!A:D\"),MATCH(B813,INDIRECT(A813&\"!A:A\"),0),3),\"\")","v":""},{"$f":"IFERROR(INDEX(INDIRECT(A813&\"!A:D\"),MATCH(B813,INDIRECT(A813&\"!A:A\"),0),4),\"\")","v":""},0.5,{"$f":"ROUND(PRODUCT(E813:F813),2)","v":0.5},null,{"$f":"$B$811","v":"SEDUC 17.05"},null,"",{"$error":"#N/A"}]
["SINAPI",88316,{"$f":"IFERROR(INDEX(INDIRECT(A814&\"!A:D\"),MATCH(B814,INDIRECT(A814&\"!A:A\"),0),2),\"\")","v":""},{"$f":"IFERROR(INDEX(INDIRECT(A814&\"!A:D\"),MATCH(B814,INDIRECT(A814&\"!A:A\"),0),3),\"\")","v":""},{"$f":"IFERROR(INDEX(INDIRECT(A814&\"!A:D\"),MATCH(B814,INDIRECT(A814&\"!A:A\"),0),4),\"\")","v":""},0.5,{"$f":"ROUND(PRODUCT(E814:F814),2)","v":0.5},null,{"$f":"$B$811","v":"SEDUC 17.05"},null,"",{"$error":"#N/A"}]
[null,null,null,null,null,null,null,null,{"$f":"$B$811","v":"SEDUC 17.05"},null,"",{"$error":"#N/A"}]
[null,null,null,null,null,null,null,null,null,null,"",{"$error":"#N/A"}]
[null,"SEDUC 18","COMBATE A INCÊNDIO E PÂNICO",null,null,null,null,null,{"$f":"$B$817","v":"SEDUC 18"},null,"",{"$error":"#N/A"}]
[null,"SEDUC 18.01","SINALIZAÇÃO PARA EXTINTOR (REF. SEINFRA C4649)","UN",null,null,{"$f":"SUM(G819:G821)","v":2.33},null,{"$f":"$B$818","v":"SEDUC 18.01"},null,"",{"$error":"#N/A"}]
["SINAPI",88310,{"$f":"IFERROR(INDEX(INDIRECT(A819&\"!A:D\"),MATCH(B819,INDIRECT(A819&\"!A:A\"),0),2),\"\")","v":""},{"$f":"IFERROR(INDEX(INDIRECT(A819&\"!A:D\"),MATCH(B819,INDIRECT(A819&\"!A:A\"),0),3),\"\")","v":""},{"$f":"IFERROR(INDEX(INDIRECT(A819&\"!A:D\"),MATCH(B819,INDIRECT(A819&\"!A:A\"),0),4),\"\")","v":""},1.5,{"$f":"ROUND(PRODUCT(E819:F819),2)","v":1.5},null,{"$f":"$B$818","v":"SEDUC 18.01"},null,"",{"$error":"#N/A"}]
["SINAPI",88243,{"$f":"IFERROR(INDEX(INDIRECT(A820&\"!A:D\"),MATCH(B820,INDIRECT(A820&\"!A:A\"),0),2),\"\")","v":""},{"$f":"IFERROR(INDEX(INDIRECT(A820&\"!A:D\"),MATCH(B820,INDIRECT(A820&\"!A:A\"),0),3),\"\")","v":""},{"$f":"IFERROR(INDEX(INDIRECT(A820&\"!A:D\"),MATCH(B820,INDIRECT(A820&\"!A:A\"),0),4),\"\")","v":""},0.8,{"$f":"ROUND(PRODUCT(E820:F820),2)","v":0.8},null,{"$f":"$B$818","v":"SEDUC 18.01"},null,"",{"$error":"#N/A"}]
["iSEINFRA","I2084",{"$f":"IFERROR(INDEX(INDIRECT(A821&\"!A:D\"),MATCH(B821,INDIRECT(A821&\"!A:A\"),0),2),\"\")","v":""},{"$f":"IFERROR(INDEX(INDIRECT(A821&\"!A:D\"),MATCH(B821,INDIRECT(A821&\"!A:A\"),0),3),\"\")","v":""},{"$f":"IFERROR(INDEX(INDIRECT(A821&\"!A:D\"),MATCH(B821,INDIRECT(A821&\"!A:A\"),0),4),\"\")","v":""},0.03,{"$f":"ROUND(PRODUCT(E821:F821),2)","v":0.03},null,{"$f":"$B$818","v":"SEDUC 18.01"},null,"",{"$error":"#N/A"}]
[null,null,null,null,null,null,null,null,{"$f":"$B$818","v":"SEDUC 18.01"},null,"",{"$error":"#N/A"}]
[null,"SEDUC 18.02","SENSOR ÓTICO DE FUMAÇA (REF. ORSE 11822)","UN",null,null,{"$f":"SUM(G824:G826)","v":2},null,{"$f":"$B$823","v":"SEDUC 18.02"},null,"",{"$error":"#N/A"}]
["iORSE",12662,{"$f":"IFERROR(INDEX(INDIRECT(A824&\"!A:D\"),MATCH(B824,INDIRECT(A824&\"!A:A\"),0),2),\"\")","v":""},{"$f":"IFERROR(INDEX(INDIRECT(A824&\"!A:D\"),MATCH(B824,INDIRECT(A824&\"!A:A\"),0),3),\"\")","v":""},{"$f":"IFERROR(INDEX(INDIRECT(A824&\"!A:D\"),MATCH(B824,INDIRECT(A824&\"!A:A\"),0),4),\"\")","v":""},1,{"$f":"ROUND(PRODUCT(E824:F824),2)","v":1},null,{"$f":"$B$823","v":"SEDUC 18.02"},null,"",{"$error":"#N/A"}]
["SINAPI",88264,{"$f":"IFERROR(INDEX(INDIRECT(A825&\"!A:D\"),MATCH(B825,INDIRECT(A825&\"!A:A\"),0),2),\"\")","v":""},{"$f":"IFERROR(INDEX(INDIRECT(A825&\"!A:D\"),MATCH(B825,INDIRECT(A825&\"!A:A\"),0),3),\"\")","v":""},{"$f":"IFERROR(INDEX(INDIRECT(A825&\"!A:D\"),MATCH(B825,INDIRECT(A825&\"!A:A\"),0),4),\"\")","v":""},0.5,{"$f":"ROUND(PRODUCT(E825:F825),2)","v":0.5},null,{"$f":"$B$823","v":"SEDUC 18.02"},null,{"$f":"IF(A825=\"\",\"\",IF(E825=0,\"ERRO\",\"\"))","v":""},{"$error":"#N/A"}]
["SINAPI",88316,{"$f":"IFERROR(INDEX(INDIRECT(A826&\"!A:D\"),MATCH(B826,INDIRECT(A826&\"!A:A\"),0),2),\"\")","v":""},{"$f":"IFERROR(INDEX(INDIRECT(A826&\"!A:D\"),MATCH(B826,INDIRECT(A826&\"!A:A\"),0),3),\"\")","v":""},{"$f":"IFERROR(INDEX(INDIRECT(A826&\"!A:D\"),MATCH(B826,INDIRECT(A826&\"!A:A\"),0),4),\"\")","v":""},0.5,{"$f":"ROUND(PRODUCT(E826:F826),2)","v":0.5},null,{"$f":"$B$823","v":"SEDUC 18.02"},null,"",{"$error":"#N/A"}]
[null,null,null,null,null,null,null,null,{"$f":"$B$823","v":"SEDUC 18.02"},null,"",{"$error":"#N/A"}]
[null,"SEDUC 18.03","DETECTOR DE TEMPERATURA TERMOVELOCÍMETRICO CONVENCIONAL, MODELO VR-T, MARCA VERIN OU SIMILAR (REF. ORSE 11977)","UN",null,null,{"$f":"SUM(G829:G831)","v":2},null,{"$f":"$B$828","v":"SEDUC 18.03"},null,"",{"$error":"#N/A"}]
["iORSE",12849,{"$f":"IFERROR(INDEX(INDIRECT(A829&\"!A:D\"),MATCH(B829,INDIRECT(A829&\"!A:A\"),0),2),\"\")","v":""},{"$f":"IFERROR(INDEX(INDIRECT(A829&\"!A:D\"),MATCH(B829,INDIRECT(A829&\"!A:A\"),0),3),\"\")","v":""},{"$f":"IFERROR(INDEX(INDIRECT(A829&\"!A:D\"),MATCH(B829,INDIRECT(A829&\"!A:A\"),0),4),\"\")","v":""},1,{"$f":"ROUND(PRODUCT(E829:F829),2)","v":1},null,{"$f":"$B$828","v":"SEDUC 18.03"},null,"",{"$error":"#N/A"}]
["SINAPI",88264,{"$f":"IFERROR(INDEX(INDIRECT(A830&\"!A:D\"),MATCH(B830,INDIRECT(A830&\"!A:A\"),0),2),\"\")","v":""},{"$f":"IFERROR(INDEX(INDIRECT(A830&\"!A:D\"),MATCH(B830,INDIRECT(A830&\"!A:A\"),0),3),\"\")","v":""},{"$f":"IFERROR(INDEX(INDIRECT(A830&\"!A:D\"),MATCH(B830,INDIRECT(A830&\"!A:A\"),0),4),\"\")","v":""},0.5,{"$f":"ROUND(PRODUCT(E830:F830),2)","v":0.5},null,{"$f":"$B$828","v":"SEDUC 18.03"},null,"",{"$error":"#N/A"}]
["SINAPI",88316,{"$f":"IFERROR(INDEX(INDIRECT(A831&\"!A:D\"),MATCH(B831,INDIRECT(A831&\"!A:A\"),0),2),\"\")","v":""},{"$f":"IFERROR(INDEX(INDIRECT(A831&\"!A:D\"),MATCH(B831,INDIRECT(A831&\"!A:A\"),0),3),\"\")","v":""},{"$f":"IFERROR(INDEX(INDIRECT(A831&\"!A:D\"),MATCH(B831,INDIRECT(A831&\"!A:A\"),0),4),\"\")","v":""},0.5,{"$f":"ROUND(PRODUCT(E831:F831),2)","v":0.5},null,{"$f":"$B$828","v":"SEDUC 18.03"},null,"",{"$error":"#N/A"}]
[null,null,null,null,null,null,null,null,{"$f":"$B$828","v":"SEDUC 18.03"},null,"",{"$error":"#N/A"}]
[null,"SEDUC 18.04","DETECTOR DE TEMPERATURA TERMOVELOCÍMETRICO ENDEREÇÁVEL, MODELO VRE-T, MARCA VERIN OU SIMILAR (REF. ORSE 12017)","UN",null,null,{"$f":"SUM(G834:G836)","v":2},null,{"$f":"$B$833","v":"SEDUC 18.04"},null,"",{"$error":"#N/A"}]
["iORSE",12882,{"$f":"IFERROR(INDEX(INDIRECT(A834&\"!A:D\"),MATCH(B834,INDIRECT(A834&\"!A:A\"),0),2),\"\")","v":""},{"$f":"IFERROR(INDEX(INDIRECT(A834&\"!A:D\"),MATCH(B834,INDIRECT(A834&\"!A:A\"),0),3),\"\")","v":""},{"$f":"IFERROR(INDEX(INDIRECT(A834&\"!A:D\"),MATCH(B834,INDIRECT(A834&\"!A:A\"),0),4),\"\")","v":""},1,{"$f":"ROUND(PRODUCT(E834:F834),2)","v":1},null,{"$f":"$B$833","v":"SEDUC 18.04"},null,"",{"$error":"#N/A"}]
["SINAPI",88264,{"$f":"IFERROR(INDEX(INDIRECT(A835&\"!A:D\"),MATCH(B835,INDIRECT(A835&\"!A:A\"),0),2),\"\")","v":""},{"$f":"IFERROR(INDEX(INDIRECT(A835&\"!A:D\"),MATCH(B835,INDIRECT(A835&\"!A:A\"),0),3),\"\")","v":""},{"$f":"IFERROR(INDEX(INDIRECT(A835&\"!A:D\"),MATCH(B835,INDIRECT(A835&\"!A:A\"),0),4),\"\")","v":""},0.5,{"$f":"ROUND(PRODUCT(E835:F835),2)","v":0.5},null,{"$f":"$B$833","v":"SEDUC 18.04"},null,"",{"$error":"#N/A"}]
["SINAPI",88316,{"$f":"IFERROR(INDEX(INDIRECT(A836&\"!A:D\"),MATCH(B836,INDIRECT(A836&\"!A:A\"),0),2),\"\")","v":""},{"$f":"IFERROR(INDEX(INDIRECT(A836&\"!A:D\"),MATCH(B836,INDIRECT(A836&\"!A:A\"),0),3),\"\")","v":""},{"$f":"IFERROR(INDEX(INDIRECT(A836&\"!A:D\"),MATCH(B836,INDIRECT(A836&\"!A:A\"),0),4),\"\")","v":""},0.5,{"$f":"ROUND(PRODUCT(E836:F836),2)","v":0.5},null,{"$f":"$B$833","v":"SEDUC 18.04"},null,"",{"$error":"#N/A"}]
[null,null,null,null,null,null,null,null,{"$f":"$B$833","v":"SEDUC 18.04"},null,"",{"$error":"#N/A"}]
[null,"SEDUC 18.05","CENTRAL DE ALARME E DETECÇÃO DE INCENDIO, CAPACIDADE: 8 LAÇOS, COM 2 LINHAS, MOD.VR-8L, VERIN OU SIMILAR (REF. ORSE 08058)","UN",null,null,{"$f":"SUM(G839:G841)","v":3},null,{"$f":"$B$838","v":"SEDUC 18.05"},null,"",{"$error":"#N/A"}]
["iORSE",7627,{"$f":"IFERROR(INDEX(INDIRECT(A839&\"!A:D\"),MATCH(B839,INDIRECT(A839&\"!A:A\"),0),2),\"\")","v":""},{"$f":"IFERROR(INDEX(INDIRECT(A839&\"!A:D\"),MATCH(B839,INDIRECT(A839&\"!A:A\"),0),3),\"\")","v":""},{"$f":"IFERROR(INDEX(INDIRECT(A839&\"!A:D\"),MATCH(B839,INDIRECT(A839&\"!A:A\"),0),4),\"\")","v":""},1,{"$f":"ROUND(PRODUCT(E839:F839),2)","v":1},null,{"$f":"$B$838","v":"SEDUC 18.05"},null,"",{"$error":"#N/A"}]
["SINAPI",88264,{"$f":"IFERROR(INDEX(INDIRECT(A840&\"!A:D\"),MATCH(B840,INDIRECT(A840&\"!A:A\"),0),2),\"\")","v":""},{"$f":"IFERROR(INDEX(INDIRECT(A840&\"!A:D\"),MATCH(B840,INDIRECT(A840&\"!A:A\"),0),3),\"\")","v":""},{"$f":"IFERROR(INDEX(INDIRECT(A840&\"!A:D\"),MATCH(B840,INDIRECT(A840&\"!A:A\"),0),4),\"\")","v":""},1,{"$f":"ROUND(PRODUCT(E840:F840),2)","v":1},null,{"$f":"$B$838","v":"SEDUC 18.05"},null,"",{"$error":"#N/A"}]
["SINAPI",88316,{"$f":"IFERROR(INDEX(INDIRECT(A841&\"!A:D\"),MATCH(B841,INDIRECT(A841&\"!A:A\"),0),2),\"\")","v":""},{"$f":"IFERROR(INDEX(INDIRECT(A841&\"!A:D\"),MATCH(B841,INDIRECT(A841&\"!A:A\"),0),3),\"\")","v":""},{"$f":"IFERROR(INDEX(INDIRECT(A841&\"!A:D\"),MATCH(B841,INDIRECT(A841&\"!A:A\"),0),4),\"\")","v":""},1,{"$f":"ROUND(PRODUCT(E841:F841),2)","v":1},null,{"$f":"$B$838","v":"SEDUC 18.05"},null,"",{"$error":"#N/A"}]
[null,null,null,null,null,null,null,null,{"$f":"$B$838","v":"SEDUC 18.05"},null,"",{"$error":"#N/A"}]
[null,"SEDUC 18.06","SIRENE AÚDIO-VISUAL 120DB PARA ALARME DE INCÊNDIO,ENDEREÇÁVEL (REF. ORSE 11824)","UN",null,null,{"$f":"SUM(G844:G846)","v":2.4},null,{"$f":"$B$843","v":"SEDUC 18.06"},null,"",{"$error":"#N/A"}]
["iORSE",12665,{"$f":"IFERROR(INDEX(INDIRECT(A844&\"!A:D\"),MATCH(B844,INDIRECT(A844&\"!A:A\"),0),2),\"\")","v":""},{"$f":"IFERROR(INDEX(INDIRECT(A844&\"!A:D\"),MATCH(B844,INDIRECT(A844&\"!A:A\"),0),3),\"\")","v":""},{"$f":"IFERROR(INDEX(INDIRECT(A844&\"!A:D\"),MATCH(B844,INDIRECT(A844&\"!A:A\"),0),4),\"\")","v":""},1,{"$f":"ROUND(PRODUCT(E844:F844),2)","v":1},null,{"$f":"$B$843","v":"SEDUC 18.06"},null,"",{"$error":"#N/A"}]
["SINAPI",88264,{"$f":"IFERROR(INDEX(INDIRECT(A845&\"!A:D\"),MATCH(B845,INDIRECT(A845&\"!A:A\"),0),2),\"\")","v":""},{"$f":"IFERROR(INDEX(INDIRECT(A845&\"!A:D\"),MATCH(B845,INDIRECT(A845&\"!A:A\"),0),3),\"\")","v":""},{"$f":"IFERROR(INDEX(INDIRECT(A845&\"!A:D\"),MATCH(B845,INDIRECT(A845&\"!A:A\"),0),4),\"\")","v":""},0.7,{"$f":"ROUND(PRODUCT(E845:F845),2)","v":0.7},null,{"$f":"$B$843","v":"SEDUC 18.06"},null,"",{"$error":"#N/A"}]
["SINAPI",88316,{"$f":"IFERROR(INDEX(INDIRECT(A846&\"!A:D\"),MATCH(B846,INDIRECT(A846&\"!A:A\"),0),2),\"\")","v":""},{"$f":"IFERROR(INDEX(INDIRECT(A846&\"!A:D\"),MATCH(B846,INDIRECT(A846&\"!A:A\"),0),3),\"\")","v":""},{"$f":"IFERROR(INDEX(INDIRECT(A846&\"!A:D\"),MATCH(B846,INDIRECT(A846&\"!A:A\"),0),4),\"\")","v":""},0.7,{"$f":"ROUND(PRODUCT(E846:F846),2)","v":0.7},null,{"$f":"$B$843","v":"SEDUC 18.06"},null,"",{"$error":"#N/A"}]
[null,null,null,null,null,null,null,null,{"$f":"$B$843","v":"SEDUC 18.06"},null,"",{"$error":"#N/A"}]
[null,null,null,null,null,null,null,null,null,null,"",{"$error":"#N/A"}]
[null,"SEDUC 19","BANCADAS E PEITORIS",null,null,null,null,null,{"$f":"$B$849","v":"SEDUC 19"},null,"",{"$error":"#N/A"}]
[null,"SEDUC 19.02","PRATELEIRA DE GRANITO CINZA POLIDO (Ref. SEINFRA C4756)","M²",null,null,{"$f":"SUM(G851:G855)","v":4.55},null,{"$f":"$B$850","v":"SEDUC 19.02"},null,"","FORNECER E INSTALAR PRATELEIRAS DE GRANITO CINZA POLIDO COM ESPESSURA DE 2 CM; APLICAR EM LOCAIS INDICADOS EM PROJETO COM RESPEITO ÀS DIMENSÕES ESTABELECIDAS; ASSENTAMENTO COM ARGAMASSA PREPARADA MANUALMENTE SOBRE ALVENARIA OU MÃOS FRANCESAS (NÃO INCLUSAS)."]
["SINAPI",88309,{"$f":"IFERROR(INDEX(INDIRECT(A851&\"!A:D\"),MATCH(B851,INDIRECT(A851&\"!A:A\"),0),2),\"\")","v":""},{"$f":"IFERROR(INDEX(INDIRECT(A851&\"!A:D\"),MATCH(B851,INDIRECT(A851&\"!A:A\"),0),3),\"\")","v":""},{"$f":"IFERROR(INDEX(INDIRECT(A851&\"!A:D\"),MATCH(B851,INDIRECT(A851&\"!A:A\"),0),4),\"\")","v":""},0.5,{"$f":"ROUND(PRODUCT(E851:F851),2)","v":0.5},null,"SEDUC 19.02",null,"",{"$error":"#N/A"}]
["SINAPI",88316,{"$f":"IFERROR(INDEX(INDIRECT(A852&\"!A:D\"),MATCH(B852,INDIRECT(A852&\"!A:A\"),0),2),\"\")","v":""},{"$f":"IFERROR(INDEX(INDIRECT(A852&\"!A:D\"),MATCH(B852,INDIRECT(A852&\"!A:A\"),0),3),\"\")","v":""},{"$f":"IFERROR(INDEX(INDIRECT(A852&\"!A:D\"),MATCH(B852,INDIRECT(A852&\"!A:A\"),0),4),\"\")","v":""},0.75,{"$f":"ROUND(PRODUCT(E852:F852),2)","v":0.75},null,"SEDUC 19.02",null,"",{"$error":"#N/A"}]
["iSINAPI",367,{"$f":"IFERROR(INDEX(INDIRECT(A853&\"!A:D\"),MATCH(B853,INDIRECT(A853&\"!A:A\"),0),2),\"\")","v":""},{"$f":"IFERROR(INDEX(INDIRECT(A853&\"!A:D\"),MATCH(B853,INDIRECT(A853&\"!A:A\"),0),3),\"\")","v":""},{"$f":"IFERROR(INDEX(INDIRECT(A853&\"!A:D\"),MATCH(B853,INDIRECT(A853&\"!A:A\"),0),4),\"\")","v":""},2E-3,{"$f":"ROUND(PRODUCT(E853:F853),2)","v":0},null,"SEDUC 19.02",null,"",{"$error":"#N/A"}]
["iSINAPI",1379,{"$f":"IFERROR(INDEX(INDIRECT(A854&\"!A:D\"),MATCH(B854,INDIRECT(A854&\"!A:A\"),0),2),\"\")","v":""},{"$f":"IFERROR(INDEX(INDIRECT(A854&\"!A:D\"),MATCH(B854,INDIRECT(A854&\"!A:A\"),0),3),\"\")","v":""},{"$f":"IFERROR(INDEX(INDIRECT(A854&\"!A:D\"),MATCH(B854,INDIRECT(A854&\"!A:A\"),0),4),\"\")","v":""},2.2999999999999998,{"$f":"ROUND(PRODUCT(E854:F854),2)","v":2.2999999999999998},null,"SEDUC 19.02",null,"",{"$error":"#N/A"}]
["iSEINFRA","i1659",{"$f":"IFERROR(INDEX(INDIRECT(A855&\"!A:D\"),MATCH(B855,INDIRECT(A855&\"!A:A\"),0),2),\"\")","v":""},{"$f":"IFERROR(INDEX(INDIRECT(A855&\"!A:D\"),MATCH(B855,INDIRECT(A855&\"!A:A\"),0),3),\"\")","v":""},{"$f":"IFERROR(INDEX(INDIRECT(A855&\"!A:D\"),MATCH(B855,INDIRECT(A855&\"!A:A\"),0),4),\"\")","v":""},1,{"$f":"ROUND(PRODUCT(E855:F855),2)","v":1},null,"SEDUC 19.02",null,"",{"$error":"#N/A"}]
[null,null,null,null,null,null,null,null,"SEDUC 19.02",null,"",{"$error":"#N/A"}]
[null,"SEDUC 19.03","EXECUÇÃO DE FURO EM BANCADA DE GRANITO PARA PASSAGEM DE FIAÇÃO (Ref. 38633)","UN",null,null,{"$f":"SUM(G858:G858)","v":1},null,{"$f":"$B$857","v":"SEDUC 19.03"},null,"","EXECUTAR FUROS CIRCULARES EM BANCADAS DE GRANITO (OU OUTROS TIPOS DE PEDRA) PARA PASSAGEM DE FIAÇÃO."]
["iSINAPI",38633,{"$f":"IFERROR(INDEX(INDIRECT(A858&\"!A:D\"),MATCH(B858,INDIRECT(A858&\"!A:A\"),0),2),\"\")","v":""},{"$f":"IFERROR(INDEX(INDIRECT(A858&\"!A:D\"),MATCH(B858,INDIRECT(A858&\"!A:A\"),0),3),\"\")","v":""},{"$f":"IFERROR(INDEX(INDIRECT(A858&\"!A:D\"),MATCH(B858,INDIRECT(A858&\"!A:A\"),0),4),\"\")","v":""},1,{"$f":"ROUND(PRODUCT(E858:F858),2)","v":1},null,{"$f":"$B$857","v":"SEDUC 19.03"},null,"",{"$error":"#N/A"}]
[null,null,null,null,null,null,null,null,{"$f":"$B$857","v":"SEDUC 19.03"},null,"",{"$error":"#N/A"}]
[null,"SEDUC 19.04","PEITORIL PRÉ-MOLDADO DE GRANILITE L=15 CM (REF. SEINFRA C1872)","M",null,null,{"$f":"SUM(G861:G866)","v":3.37},null,{"$f":"$B$860","v":"SEDUC 19.04"},null,"","FORNECER E INSTALAR PEITORIL DE GRANILITE (LARGURA DE 15 CM); ASSENTAMENTO FEITO EM ARGAMASSA PREPARADA MANUALMENTE; APLICAR EM JANELAS."]
["SINAPI",88316,{"$f":"IFERROR(INDEX(INDIRECT(A861&\"!A:D\"),MATCH(B861,INDIRECT(A861&\"!A:A\"),0),2),\"\")","v":""},{"$f":"IFERROR(INDEX(INDIRECT(A861&\"!A:D\"),MATCH(B861,INDIRECT(A861&\"!A:A\"),0),3),\"\")","v":""},{"$f":"IFERROR(INDEX(INDIRECT(A861&\"!A:D\"),MATCH(B861,INDIRECT(A861&\"!A:A\"),0),4),\"\")","v":""},0.63,{"$f":"ROUND(PRODUCT(E861:F861),2)","v":0.63},null,"SEDUC 19.04",null,"",{"$error":"#N/A"}]
["SINAPI",88309,"","","",0.6,0.6,null,"SEDUC 19.04",null,"",{"$error":"#N/A"}]
["iSEINFRA","I1609","","","",1,1,null,"SEDUC 19.04",null,"",{"$error":"#N/A"}]
["iSINAPI",1379,"","","",0.76,0.76,null,"SEDUC 19.04",null,"",{"$error":"#N/A"}]
["iSINAPI",370,"","","",2E-3,0,null,"SEDUC 19.04",null,"",{"$error":"#N/A"}]
["iSINAPI",1106,"","","",0.38,0.38,null,"SEDUC 19.04",null,"",{"$error":"#N/A"}]
[null,null,null,null,null,null,null,null,"SEDUC 19.04",null,"",{"$error":"#N/A"}]
[null,"SEDUC 19.05","PEITORIL DE GRANITO L=15 CM (REF. SEINFRA C1869)","M",null,null,{"$f":"SUM(G869:G872)","v":1.75},null,{"$f":"$B$868","v":"SEDUC 19.05"},null,"","FORNECER E INSTALAR PEITORIL DE GRANITO (LARGURA DE 15 CM); ASSENTAMENTO FEITO EM ARGAMASSA PREPARADA MANUALMENTE; APLICAR EM JANELAS."]
["SINAPI",88316,{"$f":"IFERROR(INDEX(INDIRECT(A869&\"!A:D\"),MATCH(B869,INDIRECT(A869&\"!A:A\"),0),2),\"\")","v":""},{"$f":"IFERROR(INDEX(INDIRECT(A869&\"!A:D\"),MATCH(B869,INDIRECT(A869&\"!A:A\"),0),3),\"\")","v":""},{"$f":"IFERROR(INDEX(INDIRECT(A869&\"!A:D\"),MATCH(B869,INDIRECT(A869&\"!A:A\"),0),4),\"\")","v":""},0.25,{"$f":"ROUND(PRODUCT(E869:F869),2)","v":0.25},null,"SEDUC 19.05",null,"",{"$error":"#N/A"}]
["SINAPI",88309,{"$f":"IFERROR(INDEX(INDIRECT(A870&\"!A:D\"),MATCH(B870,INDIRECT(A870&\"!A:A\"),0),2),\"\")","v":""},{"$f":"IFERROR(INDEX(INDIRECT(A870&\"!A:D\"),MATCH(B870,INDIRECT(A870&\"!A:A\"),0),3),\"\")","v":""},{"$f":"IFERROR(INDEX(INDIRECT(A870&\"!A:D\"),MATCH(B870,INDIRECT(A870&\"!A:A\"),0),4),\"\")","v":""},0.5,{"$f":"ROUND(PRODUCT(E870:F870),2)","v":0.5},null,"SEDUC 19.05",null,"",{"$error":"#N/A"}]
["iSEINFRA","I1610",{"$f":"IFERROR(INDEX(INDIRECT(A871&\"!A:D\"),MATCH(B871,INDIRECT(A871&\"!A:A\"),0),2),\"\")","v":""},{"$f":"IFERROR(INDEX(INDIRECT(A871&\"!A:D\"),MATCH(B871,INDIRECT(A871&\"!A:A\"),0),3),\"\")","v":""},{"$f":"IFERROR(INDEX(INDIRECT(A871&\"!A:D\"),MATCH(B871,INDIRECT(A871&\"!A:A\"),0),4),\"\")","v":""},1,{"$f":"ROUND(PRODUCT(E871:F871),2)","v":1},null,"SEDUC 19.05",null,"",{"$error":"#N/A"}]
["SINAPI",88627,{"$f":"IFERROR(INDEX(INDIRECT(A872&\"!A:D\"),MATCH(B872,INDIRECT(A872&\"!A:A\"),0),2),\"\")","v":""},{"$f":"IFERROR(INDEX(INDIRECT(A872&\"!A:D\"),MATCH(B872,INDIRECT(A872&\"!A:A\"),0),3),\"\")","v":""},{"$f":"IFERROR(INDEX(INDIRECT(A872&\"!A:D\"),MATCH(B872,INDIRECT(A872&\"!A:A\"),0),4),\"\")","v":""},4.0000000000000001E-3,{"$f":"ROUND(PRODUCT(E872:F872),2)","v":0},null,"SEDUC 19.05",null,"",{"$error":"#N/A"}]
[null,null,null,null,null,null,null,null,"SEDUC 19.05",null,"",{"$error":"#N/A"}]
[null,"SEDUC 19.06","PEITORIL  DE CIMENTO (REF. SEINFRA C3015)","M²",null,null,{"$f":"SUM(G875:G878)","v":6.27},null,{"$f":"$B$874","v":"SEDUC 19.06"},null,"","CONFECCIONAR E INSTALAR PEITORIL DE CONCRETO ARMADO; ASSENTAMENTO FEITO EM ARGAMASSA PREPARADA MANUALMENTE; APLICAR EM JANELAS."]
["SINAPI",88316,{"$f":"IFERROR(INDEX(INDIRECT(A875&\"!A:D\"),MATCH(B875,INDIRECT(A875&\"!A:A\"),0),2),\"\")","v":""},{"$f":"IFERROR(INDEX(INDIRECT(A875&\"!A:D\"),MATCH(B875,INDIRECT(A875&\"!A:A\"),0),3),\"\")","v":""},{"$f":"IFERROR(INDEX(INDIRECT(A875&\"!A:D\"),MATCH(B875,INDIRECT(A875&\"!A:A\"),0),4),\"\")","v":""},2.5,{"$f":"ROUND(PRODUCT(E875:F875),2)","v":2.5},null,"SEDUC 19.06",null,"",{"$error":"#N/A"}]
["SINAPI",88309,{"$f":"IFERROR(INDEX(INDIRECT(A876&\"!A:D\"),MATCH(B876,INDIRECT(A876&\"!A:A\"),0),2),\"\")","v":""},{"$f":"IFERROR(INDEX(INDIRECT(A876&\"!A:D\"),MATCH(B876,INDIRECT(A876&\"!A:A\"),0),3),\"\")","v":""},{"$f":"IFERROR(INDEX(INDIRECT(A876&\"!A:D\"),MATCH(B876,INDIRECT(A876&\"!A:A\"),0),4),\"\")","v":""},3,{"$f":"ROUND(PRODUCT(E876:F876),2)","v":3},null,"SEDUC 19.06",null,"",{"$error":"#N/A"}]
["SINAPI",88629,{"$f":"IFERROR(INDEX(INDIRECT(A877&\"!A:D\"),MATCH(B877,INDIRECT(A877&\"!A:A\"),0),2),\"\")","v":""},{"$f":"IFERROR(INDEX(INDIRECT(A877&\"!A:D\"),MATCH(B877,INDIRECT(A877&\"!A:A\"),0),3),\"\")","v":""},{"$f":"IFERROR(INDEX(INDIRECT(A877&\"!A:D\"),MATCH(B877,INDIRECT(A877&\"!A:A\"),0),4),\"\")","v":""},5.6000000000000001E-2,{"$f":"ROUND(PRODUCT(E877:F877),2)","v":0.06},null,"SEDUC 19.06",null,"",{"$error":"#N/A"}]
["SINAPI",92915,{"$f":"IFERROR(INDEX(INDIRECT(A878&\"!A:D\"),MATCH(B878,INDIRECT(A878&\"!A:A\"),0),2),\"\")","v":""},{"$f":"IFERROR(INDEX(INDIRECT(A878&\"!A:D\"),MATCH(B878,INDIRECT(A878&\"!A:A\"),0),3),\"\")","v":""},{"$f":"IFERROR(INDEX(INDIRECT(A878&\"!A:D\"),MATCH(B878,INDIRECT(A878&\"!A:A\"),0),4),\"\")","v":""},0.71,{"$f":"ROUND(PRODUCT(E878:F878),2)","v":0.71},null,"SEDUC 19.06",null,"",{"$error":"#N/A"}]
[null,null,null,null,null,null,null,null,"SEDUC 19.06",null,"",{"$error":"#N/A"}]
[null,null,null,null,null,null,null,null,null,null,"",{"$error":"#N/A"}]
[null,"SEDUC 20","LOUÇAS E ACESSÓRIOS",null,null,null,null,null,{"$f":"$B$881","v":"SEDUC 20"},null,"",{"$error":"#N/A"}]
[null,"SEDUC 20.01","PIA DE AÇO INOX (1.20x0.55)m C/ 1 CUBA E ACESSÓRIOS (Ref. Seinfra C3017)","UN",null,null,{"$f":"SUM(G883:G893)","v":21.39},null,{"$f":"$B$882","v":"SEDUC 20.01"},null,{"$f":"IF(A882=\"\",\"\",IF(E882=0,\"ERRO\",\"\"))","v":""},"EXECUTAR PIA DE AÇO INOX DE DIMENSÕES 120 X 55 CM COM UMA CUBA DE INOX, SIFÃO DO TIPO \"COPO\" EM METAL CROMADO, VÁLVULA METÁLICA; NÃO INCLUSA TORNEIRA; PREENCHIMENTO DA BANCADA INOX COM GRANILHA, PEDRISCO OU SEMELHANTE; FIXAR SOBRE ALVENARIA COM VERGALHÃO E ARGAMASSA PREPARADA MANUALMENTE."]
["SINAPI",88316,{"$f":"IFERROR(INDEX(INDIRECT(A883&\"!A:D\"),MATCH(B883,INDIRECT(A883&\"!A:A\"),0),2),\"\")","v":""},{"$f":"IFERROR(INDEX(INDIRECT(A883&\"!A:D\"),MATCH(B883,INDIRECT(A883&\"!A:A\"),0),3),\"\")","v":""},{"$f":"IFERROR(INDEX(INDIRECT(A883&\"!A:D\"),MATCH(B883,INDIRECT(A883&\"!A:A\"),0),4),\"\")","v":""},{"$f":"2-0.04","v":1.96},{"$f":"ROUND(PRODUCT(E883:F883),2)","v":1.96},null,"SEDUC 20.01",null,"",{"$error":"#N/A"}]
["SINAPI",88267,"","","",{"$f":"2-0.12","v":1.88},1.88,null,"SEDUC 20.01",null,"",{"$error":"#N/A"}]
["SINAPI",88248,"","","",2,2,null,"SEDUC 20.01",null,"",{"$error":"#N/A"}]
["SINAPI",88309,"","","",2,2,null,"SEDUC 20.01",null,"",{"$error":"#N/A"}]
["iSINAPI",6150,"","","",1,1,null,"SEDUC 20.01",null,"",{"$error":"#N/A"}]
["iSINAPI",34343,"","","",0.6,0.6,null,"SEDUC 20.01",null,"",{"$error":"#N/A"}]
["iSINAPI",4824,"","","",2.5999999999999999E-2,0.03,null,"SEDUC 20.01",null,"",{"$error":"#N/A"}]
["iSINAPI",1746,"","","",1,1,null,"SEDUC 20.01",null,"",{"$error":"#N/A"}]
["iSINAPI",3143,"","","",{"$f":"1.1-0.0304","v":1.0696000000000001},1.07,null,"SEDUC 20.01",null,"",{"$error":"#N/A"}]
["iSINAPI",367,"","","",1.9E-2,0.02,null,"SEDUC 20.01",null,"",{"$error":"#N/A"}]
["iSINAPI",34753,"","","",9.83,9.83,null,"SEDUC 20.01",null,"",{"$error":"#N/A"}]
[null,null,null,null,null,null,null,null,"SEDUC 20.01",null,"",{"$error":"#N/A"}]
[null,"SEDUC 20.02","PIA DE AÇO INOX (0,55 X 1,40)m C/ 1 CUBA, TORNEIRA PADRÃO MÉDIO E ACESSÓRIOS (Ref. Seinfra C3017)","UN",null,null,{"$f":"SUM(G896:G906)","v":23.03},null,{"$f":"$B$895","v":"SEDUC 20.02"},null,"","EXECUTAR PIA DE AÇO INOX DE DIMENSÕES 140 X 55 CM COM UMA CUBA DE INOX, SIFÃO DO TIPO \"COPO\" EM METAL CROMADO, VÁLVULA METÁLICA; NÃO INCLUSA TORNEIRA; PREENCHIMENTO DA BANCADA INOX COM GRANILHA, PEDRISCO OU SEMELHANTE; FIXAR SOBRE ALVENARIA COM VERGALHÃO E ARGAMASSA PREPARADA MANUALMENTE."]
["SINAPI",88316,{"$f":"IFERROR(INDEX(INDIRECT(A896&\"!A:D\"),MATCH(B896,INDIRECT(A896&\"!A:A\"),0),2),\"\")","v":""},{"$f":"IFERROR(INDEX(INDIRECT(A896&\"!A:D\"),MATCH(B896,INDIRECT(A896&\"!A:A\"),0),3),\"\")","v":""},{"$f":"IFERROR(INDEX(INDIRECT(A896&\"!A:D\"),MATCH(B896,INDIRECT(A896&\"!A:A\"),0),4),\"\")","v":""},{"$f":"2-0.04","v":1.96},{"$f":"ROUND(PRODUCT(E896:F896),2)","v":1.96},null,"SEDUC 20.02",null,"",{"$error":"#N/A"}]
["SINAPI",88267,"","","",{"$f":"2-0.12","v":1.88},1.88,null,"SEDUC 20.02",null,"",{"$error":"#N/A"}]
["SINAPI",88248,"","","",2,2,null,"SEDUC 20.02",null,"",{"$error":"#N/A"}]
["SINAPI",88309,"","","",2,2,null,"SEDUC 20.02",null,"",{"$error":"#N/A"}]
["iSINAPI",6150,"","","",1,1,null,"SEDUC 20.02",null,"",{"$error":"#N/A"}]
["iSINAPI",34343,"","","",0.6,0.6,null,"SEDUC 20.02",null,"",{"$error":"#N/A"}]
["iSINAPI",4824,"","","",0.03,0.03,null,"SEDUC 20.02",null,"",{"$error":"#N/A"}]
["iSINAPI",1748,"","","",1,1,null,"SEDUC 20.02",null,"",{"$error":"#N/A"}]
["iSINAPI",3143,"","","",{"$f":"1.1-0.0304","v":1.0696000000000001},1.07,null,"SEDUC 20.02",null,"",{"$error":"#N/A"}]
["iSINAPI",367,"","","",2.1999999999999999E-2,0.02,null,"SEDUC 20.02",null,"",{"$error":"#N/A"}]
["iSINAPI",34753,"","","",11.47,11.47,null,"SEDUC 20.02",null,"",{"$error":"#N/A"}]
[null,null,null,null,null,null,null,null,"SEDUC 20.02",null,"",{"$error":"#N/A"}]
[null,"SEDUC 20.03","PIA DE AÇO INOX (0,55 X 1,60)m C/ 1 CUBA E ACESSÓRIOS (Ref. Seinfra C3017)","UN",null,null,{"$f":"SUM(G909:G920)","v":25.65},null,{"$f":"$B$908","v":"SEDUC 20.03"},null,"","EXECUTAR PIA DE AÇO INOX DE DIMENSÕES 160 X 55 CM COM UMA CUBA DE INOX, SIFÃO DO TIPO \"COPO\" EM METAL CROMADO, VÁLVULA METÁLICA; NÃO INCLUSA TORNEIRA; PREENCHIMENTO DA BANCADA INOX COM GRANILHA, PEDRISCO OU SEMELHANTE; FIXAR SOBRE ALVENARIA COM VERGALHÃO E ARGAMASSA PREPARADA MANUALMENTE."]
["SINAPI",88316,{"$f":"IFERROR(INDEX(INDIRECT(A909&\"!A:D\"),MATCH(B909,INDIRECT(A909&\"!A:A\"),0),2),\"\")","v":""},{"$f":"IFERROR(INDEX(INDIRECT(A909&\"!A:D\"),MATCH(B909,INDIRECT(A909&\"!A:A\"),0),3),\"\")","v":""},{"$f":"IFERROR(INDEX(INDIRECT(A909&\"!A:D\"),MATCH(B909,INDIRECT(A909&\"!A:A\"),0),4),\"\")","v":""},{"$f":"2-0.04","v":1.96},{"$f":"ROUND(PRODUCT(E909:F909),2)","v":1.96},null,"SEDUC 20.03",null,"",{"$error":"#N/A"}]
["SINAPI",88267,"","","",{"$f":"2-0.12","v":1.88},1.88,null,"SEDUC 20.03",null,"",{"$error":"#N/A"}]
["SINAPI",88248,"","","",2,2,null,"SEDUC 20.03",null,"",{"$error":"#N/A"}]
["SINAPI",88309,"","","",2,2,null,"SEDUC 20.03",null,"",{"$error":"#N/A"}]
["iSINAPI",6150,"","","",1,1,null,"SEDUC 20.03",null,"",{"$error":"#N/A"}]
["iSINAPI",34343,"","","",0.6,0.6,null,"SEDUC 20.03",null,"",{"$error":"#N/A"}]
["iSINAPI",4824,"","","",3.5000000000000003E-2,0.04,null,"SEDUC 20.03",null,"",{"$error":"#N/A"}]
["iSINAPI",1745,"","","",1,1,null,"SEDUC 20.03",null,"",{"$error":"#N/A"}]
["iSINAPI",6157,"","","",1,1,null,"SEDUC 20.03",null,"",{"$error":"#N/A"}]
["iSINAPI",3143,"","","",{"$f":"1.1-0.0304","v":1.0696000000000001},1.07,null,"SEDUC 20.03",null,"",{"$error":"#N/A"}]
["iSINAPI",367,"","","",2.5000000000000001E-2,0.03,null,"SEDUC 20.03",null,"",{"$error":"#N/A"}]
["iSINAPI",34753,"","","",13.074,13.07,null,"SEDUC 20.03",null,"",{"$error":"#N/A"}]
[null,null,null,null,null,null,null,null,"SEDUC 20.03",null,"",{"$error":"#N/A"}]
[null,"SEDUC 20.04","PIA DE AÇO INOX (0,58 X 2,00)m C/ 2 CUBAS E ACESSÓRIOS (Ref. Seinfra C1902)","UN",null,null,{"$f":"SUM(G923:G934)","v":34.979999999999997},null,{"$f":"$B$922","v":"SEDUC 20.04"},null,"","EXECUTAR PIA DE AÇO INOX DE DIMENSÕES 200 X 58 CM COM DUAS CUBAS DE INOX, SIFÕES DO TIPO \"COPO\" EM METAL CROMADO, VÁLVULAS METÁLICAS; NÃO INCLUSAS TORNEIRAS; PREENCHIMENTO DA BANCADA INOX COM GRANILHA, PEDRISCO OU SEMELHANTE; FIXAR SOBRE ALVENARIA COM VERGALHÃO E ARGAMASSA PREPARADA MANUALMENTE."]
["SINAPI",88316,{"$f":"IFERROR(INDEX(INDIRECT(A923&\"!A:D\"),MATCH(B923,INDIRECT(A923&\"!A:A\"),0),2),\"\")","v":""},{"$f":"IFERROR(INDEX(INDIRECT(A923&\"!A:D\"),MATCH(B923,INDIRECT(A923&\"!A:A\"),0),3),\"\")","v":""},{"$f":"IFERROR(INDEX(INDIRECT(A923&\"!A:D\"),MATCH(B923,INDIRECT(A923&\"!A:A\"),0),4),\"\")","v":""},{"$f":"2.46-0.04","v":2.42},{"$f":"ROUND(PRODUCT(E923:F923),2)","v":2.42},null,"SEDUC 20.04",null,"",{"$error":"#N/A"}]
["SINAPI",88267,"","","",{"$f":"3.88-0.12","v":3.76},3.76,null,"SEDUC 20.04",null,"",{"$error":"#N/A"}]
["SINAPI",88248,"","","",{"$f":"3.88-0.12","v":3.76},3.76,null,"SEDUC 20.04",null,"",{"$error":"#N/A"}]
["SINAPI",88309,"","","",{"$f":"2.46-0.04","v":2.42},2.42,null,"SEDUC 20.04",null,"",{"$error":"#N/A"}]
["iSINAPI",34456,"","","",1.1399999999999999,1.1399999999999999,null,"SEDUC 20.04",null,"",{"$error":"#N/A"}]
["iSINAPI",3143,"","","",{"$f":"0.0596-0.0304","v":2.92E-2},0.03,null,"SEDUC 20.04",null,"",{"$error":"#N/A"}]
["iSINAPI",4824,"","","",0.04,0.04,null,"SEDUC 20.04",null,"",{"$error":"#N/A"}]
["iSEINFRA","i1648","","","",1,1,null,"SEDUC 20.04",null,"",{"$error":"#N/A"}]
["SINAPI",86881,"","","",2,2,null,"SEDUC 20.04",null,"",{"$error":"#N/A"}]
["iSINAPI",367,"","","",0.03,0.03,null,"SEDUC 20.04",null,"",{"$error":"#N/A"}]
["iSINAPI",1379,"","","",16.38,16.38,null,"SEDUC 20.04",null,"",{"$error":"#N/A"}]
["iSINAPI",6157,"","","",2,2,null,"SEDUC 20.04",null,"",{"$error":"#N/A"}]
[null,null,null,null,null,null,null,null,"SEDUC 20.04",null,"",{"$error":"#N/A"}]
[null,"SEDUC 20.05","PIA DE AÇO INOX (0,60 X 4,20)m C/ 2 CUBAS E ACESSÓRIOS (Ref. Seinfra C3020)","UN",null,null,{"$f":"SUM(G937:G948)","v":60.46},null,{"$f":"$B$936","v":"SEDUC 20.05"},null,"","EXECUTAR PIA DE AÇO INOX DE DIMENSÕES 420 X 60 CM COM DUAS CUBAS DE INOX, SIFÕES DO TIPO \"COPO\" EM METAL CROMADO, VÁLVULAS METÁLICAS; NÃO INCLUSAS TORNEIRAS; PREENCHIMENTO DA BANCADA INOX COM GRANILHA, PEDRISCO OU SEMELHANTE; FIXAR SOBRE ALVENARIA COM VERGALHÃO E ARGAMASSA PREPARADA MANUALMENTE."]
["SINAPI",88316,{"$f":"IFERROR(INDEX(INDIRECT(A937&\"!A:D\"),MATCH(B937,INDIRECT(A937&\"!A:A\"),0),2),\"\")","v":""},{"$f":"IFERROR(INDEX(INDIRECT(A937&\"!A:D\"),MATCH(B937,INDIRECT(A937&\"!A:A\"),0),3),\"\")","v":""},{"$f":"IFERROR(INDEX(INDIRECT(A937&\"!A:D\"),MATCH(B937,INDIRECT(A937&\"!A:A\"),0),4),\"\")","v":""},{"$f":"5-0.08","v":4.92},{"$f":"ROUND(PRODUCT(E937:F937),2)","v":4.92},null,"SEDUC 20.05",null,"",{"$error":"#N/A"}]
["SINAPI",88267,"","","",{"$f":"4-0.024","v":3.976},3.98,null,"SEDUC 20.05",null,"",{"$error":"#N/A"}]
["SINAPI",88248,"","","",{"$f":"4-0.024","v":3.976},3.98,null,"SEDUC 20.05",null,"",{"$error":"#N/A"}]
["SINAPI",88309,"","","",{"$f":"5-0.08","v":4.92},4.92,null,"SEDUC 20.05",null,"",{"$error":"#N/A"}]
["iSINAPI",34456,"","","",2.2999999999999998,2.2999999999999998,null,"SEDUC 20.05",null,"",{"$error":"#N/A"}]
["iSINAPI",3143,"","","",{"$f":"2.26-0.0608","v":2.1991999999999998},2.2000000000000002,null,"SEDUC 20.05",null,"",{"$error":"#N/A"}]
["iSINAPI",4824,"","","",0.09,0.09,null,"SEDUC 20.05",null,"",{"$error":"#N/A"}]
["iSEINFRA","i2492","","","",1,1,null,"SEDUC 20.05",null,"",{"$error":"#N/A"}]
["SINAPI",86881,"","","",2,2,null,"SEDUC 20.05",null,"",{"$error":"#N/A"}]
["iSINAPI",367,"","","",{"$f":"0.065","v":6.5000000000000002E-2},7.0000000000000007E-2,null,"SEDUC 20.05",null,{"$f":"IF(A946=\"\",\"\",IF(E946=0,\"ERRO\",\"\"))","v":""},{"$error":"#N/A"}]
["iSINAPI",1379,"","","",33,33,null,"SEDUC 20.05",null,"",{"$error":"#N/A"}]
["iSINAPI",6157,"","","",2,2,null,"SEDUC 20.05",null,"",{"$error":"#N/A"}]
[null,null,null,null,null,null,null,null,"SEDUC 20.05",null,"",{"$error":"#N/A"}]
[null,"SEDUC 20.06","TANQUE DE AÇO INOXIDÁVEL (Ref. SEINFRA C2311)","UN",null,null,{"$f":"SUM(G951:G956)","v":9.06},null,{"$f":"$B$950","v":"SEDUC 20.06"},null,"","INSTALAR TANQUE DE AÇO INOXIDÁVEL EM LOCAL E DIMENSÃO DEFINIDA EM PROJETO; INCLUSO SIFÃO EM METAL CROMADO."]
["SINAPI",88248,{"$f":"IFERROR(INDEX(INDIRECT(A951&\"!A:D\"),MATCH(B951,INDIRECT(A951&\"!A:A\"),0),2),\"\")","v":""},{"$f":"IFERROR(INDEX(INDIRECT(A951&\"!A:D\"),MATCH(B951,INDIRECT(A951&\"!A:A\"),0),3),\"\")","v":""},{"$f":"IFERROR(INDEX(INDIRECT(A951&\"!A:D\"),MATCH(B951,INDIRECT(A951&\"!A:A\"),0),4),\"\")","v":""},3,{"$f":"ROUND(PRODUCT(E951:F951),2)","v":3},null,"SEDUC 20.06",null,"",{"$error":"#N/A"}]
["SINAPI",88267,"","","",3,3,null,"SEDUC 20.06",null,"",{"$error":"#N/A"}]
["iSINAPI",11688,"","","",1,1,null,"SEDUC 20.06",null,"",{"$error":"#N/A"}]
["iSINAPI",38638,"","","",1,1,null,"SEDUC 20.06",null,"",{"$error":"#N/A"}]
["iSINAPI",3146,"","","",0.06,0.06,null,"SEDUC 20.06",null,"",{"$error":"#N/A"}]
["iSEINFRA","i0851","","","",1,1,null,"SEDUC 20.06",null,"",{"$error":"#N/A"}]
[null,null,null,null,null,null,null,null,"SEDUC 20.06",null,"",{"$error":"#N/A"}]
[null,"SEDUC 20.08","CHUVEIRO PLÁSTICO (INSTALADO) (Ref. Seinfra 24.1 C0797)","UN",null,null,{"$f":"SUM(G959:G961)","v":1.29},null,{"$f":"$B$958","v":"SEDUC 20.08"},null,"","INSTALAR CHUVEIROS METÁLICOS ARTICULADOS CROMADOS NOS PONTOS INDICADOS EM PROJETO."]
["SINAPI",88267,{"$f":"IFERROR(INDEX(INDIRECT(A959&\"!A:D\"),MATCH(B959,INDIRECT(A959&\"!A:A\"),0),2),\"\")","v":""},{"$f":"IFERROR(INDEX(INDIRECT(A959&\"!A:D\"),MATCH(B959,INDIRECT(A959&\"!A:A\"),0),3),\"\")","v":""},{"$f":"IFERROR(INDEX(INDIRECT(A959&\"!A:D\"),MATCH(B959,INDIRECT(A959&\"!A:A\"),0),4),\"\")","v":""},0.25,{"$f":"ROUND(PRODUCT(E959:F959),2)","v":0.25},null,{"$f":"$B$958","v":"SEDUC 20.08"},null,"",{"$error":"#N/A"}]
["iSINAPI",3146,{"$f":"IFERROR(INDEX(INDIRECT(A960&\"!A:D\"),MATCH(B960,INDIRECT(A960&\"!A:A\"),0),2),\"\")","v":""},{"$f":"IFERROR(INDEX(INDIRECT(A960&\"!A:D\"),MATCH(B960,INDIRECT(A960&\"!A:A\"),0),3),\"\")","v":""},{"$f":"IFERROR(INDEX(INDIRECT(A960&\"!A:D\"),MATCH(B960,INDIRECT(A960&\"!A:A\"),0),4),\"\")","v":""},3.5000000000000003E-2,{"$f":"ROUND(PRODUCT(E960:F960),2)","v":0.04},null,{"$f":"$B$958","v":"SEDUC 20.08"},null,"",{"$error":"#N/A"}]
["iSEINFRA","I0796",{"$f":"IFERROR(INDEX(INDIRECT(A961&\"!A:D\"),MATCH(B961,INDIRECT(A961&\"!A:A\"),0),2),\"\")","v":""},{"$f":"IFERROR(INDEX(INDIRECT(A961&\"!A:D\"),MATCH(B961,INDIRECT(A961&\"!A:A\"),0),3),\"\")","v":""},{"$f":"IFERROR(INDEX(INDIRECT(A961&\"!A:D\"),MATCH(B961,INDIRECT(A961&\"!A:A\"),0),4),\"\")","v":""},1,{"$f":"ROUND(PRODUCT(E961:F961),2)","v":1},null,{"$f":"$B$958","v":"SEDUC 20.08"},null,"",{"$error":"#N/A"}]
[null,null,null,null,null,null,null,null,{"$f":"$B$958","v":"SEDUC 20.08"},null,"",{"$error":"#N/A"}]
[null,"SEDUC 20.10","ASSENTO PLÁSTICO UNIVERSAL, BRANCO, PARA VASO SANITÁRIO CONVENCIONAL (Ref. ORSE 2056)","UN",null,null,{"$f":"SUM(G964:G965)","v":1.1000000000000001},null,{"$f":"$B$963","v":"SEDUC 20.10"},null,"","INSTALAR NOVOS ASSENTOS PLÁSTICOS CONVENCIONAIS, NA COR BRANCA, EM VASOS SANITÁRIOS."]
["iSINAPI",377,{"$f":"IFERROR(INDEX(INDIRECT(A964&\"!A:D\"),MATCH(B964,INDIRECT(A964&\"!A:A\"),0),2),\"\")","v":""},{"$f":"IFERROR(INDEX(INDIRECT(A964&\"!A:D\"),MATCH(B964,INDIRECT(A964&\"!A:A\"),0),3),\"\")","v":""},{"$f":"IFERROR(INDEX(INDIRECT(A964&\"!A:D\"),MATCH(B964,INDIRECT(A964&\"!A:A\"),0),4),\"\")","v":""},1,{"$f":"ROUND(PRODUCT(E964:F964),2)","v":1},null,{"$f":"$B$963","v":"SEDUC 20.10"},null,"",{"$error":"#N/A"}]
["SINAPI",88316,{"$f":"IFERROR(INDEX(INDIRECT(A965&\"!A:D\"),MATCH(B965,INDIRECT(A965&\"!A:A\"),0),2),\"\")","v":""},{"$f":"IFERROR(INDEX(INDIRECT(A965&\"!A:D\"),MATCH(B965,INDIRECT(A965&\"!A:A\"),0),3),\"\")","v":""},{"$f":"IFERROR(INDEX(INDIRECT(A965&\"!A:D\"),MATCH(B965,INDIRECT(A965&\"!A:A\"),0),4),\"\")","v":""},0.1,{"$f":"ROUND(PRODUCT(E965:F965),2)","v":0.1},null,{"$f":"$B$963","v":"SEDUC 20.10"},null,"",{"$error":"#N/A"}]
[null,null,null,null,null,null,null,null,{"$f":"$B$963","v":"SEDUC 20.10"},null,"",{"$error":"#N/A"}]
[null,"SEDUC 20.11","ASSENTO PARA VASO SANITÁRIO REMOVÍVEL PARA DEFICIENTE FÍSICO (Ref. ORSE 4387)","UN",null,null,{"$f":"SUM(G968:G969)","v":1.1000000000000001},null,{"$f":"$B$967","v":"SEDUC 20.11"},null,"",0]
["iORSE",3767,{"$f":"IFERROR(INDEX(INDIRECT(A968&\"!A:D\"),MATCH(B968,INDIRECT(A968&\"!A:A\"),0),2),\"\")","v":""},{"$f":"IFERROR(INDEX(INDIRECT(A968&\"!A:D\"),MATCH(B968,INDIRECT(A968&\"!A:A\"),0),3),\"\")","v":""},{"$f":"IFERROR(INDEX(INDIRECT(A968&\"!A:D\"),MATCH(B968,INDIRECT(A968&\"!A:A\"),0),4),\"\")","v":""},1,{"$f":"ROUND(PRODUCT(E968:F968),2)","v":1},null,{"$f":"$B$967","v":"SEDUC 20.11"},null,"",{"$error":"#N/A"}]
["SINAPI",88316,{"$f":"IFERROR(INDEX(INDIRECT(A969&\"!A:D\"),MATCH(B969,INDIRECT(A969&\"!A:A\"),0),2),\"\")","v":""},{"$f":"IFERROR(INDEX(INDIRECT(A969&\"!A:D\"),MATCH(B969,INDIRECT(A969&\"!A:A\"),0),3),\"\")","v":""},{"$f":"IFERROR(INDEX(INDIRECT(A969&\"!A:D\"),MATCH(B969,INDIRECT(A969&\"!A:A\"),0),4),\"\")","v":""},0.1,{"$f":"ROUND(PRODUCT(E969:F969),2)","v":0.1},null,{"$f":"$B$967","v":"SEDUC 20.11"},null,"",{"$error":"#N/A"}]
[null,null,null,null,null,null,null,null,{"$f":"$B$967","v":"SEDUC 20.11"},null,"",{"$error":"#N/A"}]
[null,"SEDUC 20.13","PIA DE AÇO INOX (3.00x0.60)m C/ 1 CUBA E ACESSÓRIOS EXCLUSIVE TORNEIRA (Ref. Seinfra C3019)","UN",null,null,{"$f":"SUM(G972:G983)","v":40.96},null,{"$f":"$B$971","v":"SEDUC 20.13"},null,"",{"$error":"#N/A"}]
["SINAPI",88316,{"$f":"IFERROR(INDEX(INDIRECT(A972&\"!A:D\"),MATCH(B972,INDIRECT(A972&\"!A:A\"),0),2),\"\")","v":""},{"$f":"IFERROR(INDEX(INDIRECT(A972&\"!A:D\"),MATCH(B972,INDIRECT(A972&\"!A:A\"),0),3),\"\")","v":""},{"$f":"IFERROR(INDEX(INDIRECT(A972&\"!A:D\"),MATCH(B972,INDIRECT(A972&\"!A:A\"),0),4),\"\")","v":""},{"$f":"2.75-0.08","v":2.67},{"$f":"ROUND(PRODUCT(E972:F972),2)","v":2.67},null,{"$f":"$B$971","v":"SEDUC 20.13"},null,"",{"$error":"#N/A"}]
["SINAPI",88267,"","","",{"$f":"3.5-0.024","v":3.476},3.48,null,"SEDUC 20.13",null,"",{"$error":"#N/A"}]
["SINAPI",88248,"","","",{"$f":"3.5-0.024","v":3.476},3.48,null,"SEDUC 20.13",null,"",{"$error":"#N/A"}]
["SINAPI",88309,"","","",{"$f":"2.75-0.08","v":2.67},2.67,null,"SEDUC 20.13",null,"",{"$error":"#N/A"}]
["iSINAPI",34456,"","","",1.5,1.5,null,"SEDUC 20.13",null,"",{"$error":"#N/A"}]
["iSINAPI",3143,"","","",1.1299999999999999,1.1299999999999999,null,"SEDUC 20.13",null,"",{"$error":"#N/A"}]
["iSINAPI",4824,"","","",6.0999999999999999E-2,0.06,null,"SEDUC 20.13",null,"",{"$error":"#N/A"}]
["iSEINFRA","I2491","","","",1,1,null,"SEDUC 20.13",null,"",{"$error":"#N/A"}]
["SINAPI",86881,"","","",1,1,null,"SEDUC 20.13",null,"",{"$error":"#N/A"}]
["iSINAPI",367,"","","",4.3999999999999997E-2,0.04,null,"SEDUC 20.13",null,"",{"$error":"#N/A"}]
["iSINAPI",1379,"","","",22.93,22.93,null,"SEDUC 20.13",null,"",{"$error":"#N/A"}]
["iSINAPI",6157,"","","",1,1,null,"SEDUC 20.13",null,"",{"$error":"#N/A"}]
[null,null,null,null,null,null,null,null,"SEDUC 20.13",null,"",{"$error":"#N/A"}]
[null,"SEDUC 20.14"," TANQUE PRÉ-MOLDADO DE CONCRETO (0.80X0.70)m (Ref. SEINFRA C2313 )","UN",null,null,{"$f":"SUM(G986:G994)","v":10.4},null,{"$f":"$B$985","v":"SEDUC 20.14"},null,"",{"$error":"#N/A"}]
["iSINAPI",6152,{"$f":"IFERROR(INDEX(INDIRECT(A986&\"!A:D\"),MATCH(B986,INDIRECT(A986&\"!A:A\"),0),2),\"\")","v":""},{"$f":"IFERROR(INDEX(INDIRECT(A986&\"!A:D\"),MATCH(B986,INDIRECT(A986&\"!A:A\"),0),3),\"\")","v":""},{"$f":"IFERROR(INDEX(INDIRECT(A986&\"!A:D\"),MATCH(B986,INDIRECT(A986&\"!A:A\"),0),4),\"\")","v":""},1,{"$f":"ROUND(PRODUCT(E986:F986),2)","v":1},null,{"$f":"$B$985","v":"SEDUC 20.14"},null,"",{"$error":"#N/A"}]
["iSINAPI",7604,"","","",1,1,null,"SEDUC 20.14",null,"",{"$error":"#N/A"}]
["iSINAPI",6146,"","","",1,1,null,"SEDUC 20.14",null,"",{"$error":"#N/A"}]
["iSEINFRA","I1936",{"$f":"IFERROR(INDEX(INDIRECT(A989&\"!A:D\"),MATCH(B989,INDIRECT(A989&\"!A:A\"),0),2),\"\")","v":""},{"$f":"IFERROR(INDEX(INDIRECT(A989&\"!A:D\"),MATCH(B989,INDIRECT(A989&\"!A:A\"),0),3),\"\")","v":""},{"$f":"IFERROR(INDEX(INDIRECT(A989&\"!A:D\"),MATCH(B989,INDIRECT(A989&\"!A:A\"),0),4),\"\")","v":""},1,{"$f":"ROUND(PRODUCT(E989:F989),2)","v":1},null,"SEDUC 20.14",null,{"$f":"IF(A989=\"\",\"\",IF(E989=0,\"ERRO\",\"\"))","v":""},{"$error":"#N/A"}]
["iSINAPI",1379,{"$f":"IFERROR(INDEX(INDIRECT(A990&\"!A:D\"),MATCH(B990,INDIRECT(A990&\"!A:A\"),0),2),\"\")","v":""},{"$f":"IFERROR(INDEX(INDIRECT(A990&\"!A:D\"),MATCH(B990,INDIRECT(A990&\"!A:A\"),0),3),\"\")","v":""},{"$f":"IFERROR(INDEX(INDIRECT(A990&\"!A:D\"),MATCH(B990,INDIRECT(A990&\"!A:A\"),0),4),\"\")","v":""},3.35,{"$f":"ROUND(PRODUCT(E990:F990),2)","v":3.35},null,"SEDUC 20.14",null,{"$f":"IF(A990=\"\",\"\",IF(E990=0,\"ERRO\",\"\"))","v":""},{"$error":"#N/A"}]
["iSINAPI",3143,{"$f":"IFERROR(INDEX(INDIRECT(A991&\"!A:D\"),MATCH(B991,INDIRECT(A991&\"!A:A\"),0),2),\"\")","v":""},{"$f":"IFERROR(INDEX(INDIRECT(A991&\"!A:D\"),MATCH(B991,INDIRECT(A991&\"!A:A\"),0),3),\"\")","v":""},{"$f":"IFERROR(INDEX(INDIRECT(A991&\"!A:D\"),MATCH(B991,INDIRECT(A991&\"!A:A\"),0),4),\"\")","v":""},{"$f":"ROUND(0.75/25,4)","v":0.03},{"$f":"ROUND(PRODUCT(E991:F991),2)","v":0.03},null,"SEDUC 20.14",null,{"$f":"IF(A991=\"\",\"\",IF(E991=0,\"ERRO\",\"\"))","v":""},{"$error":"#N/A"}]
["iSINAPI",367,"","","",1.7999999999999999E-2,0.02,null,"SEDUC 20.14",null,{"$f":"IF(A992=\"\",\"\",IF(E992=0,\"ERRO\",\"\"))","v":""},{"$error":"#N/A"}]
["SINAPI",88267,"","","",1.5,1.5,null,"SEDUC 20.14",null,"",{"$error":"#N/A"}]
["SINAPI",88316,"","","",1.5,1.5,null,"SEDUC 20.14",null,"",{"$error":"#N/A"}]
[null,null,null,null,null,null,null,null,"SEDUC 20.14",null,null,{"$error":"#N/A"}]
[null,"SEDUC 20.16","CABIDE DE LOUÇA BRANCA C/DOIS GANCHOS (Ref. SEINFRA C0515 )","UN",null,null,{"$f":"SUM(G997:G1001)","v":3.82},null,{"$f":"$B$996","v":"SEDUC 20.16"},null,null,{"$error":"#N/A"}]
["iSEINFRA","I0333",{"$f":"IFERROR(INDEX(INDIRECT(A997&\"!A:D\"),MATCH(B997,INDIRECT(A997&\"!A:A\"),0),2),\"\")","v":""},{"$f":"IFERROR(INDEX(INDIRECT(A997&\"!A:D\"),MATCH(B997,INDIRECT(A997&\"!A:A\"),0),3),\"\")","v":""},{"$f":"IFERROR(INDEX(INDIRECT(A997&\"!A:D\"),MATCH(B997,INDIRECT(A997&\"!A:A\"),0),4),\"\")","v":""},1,{"$f":"ROUND(PRODUCT(E997:F997),2)","v":1},null,{"$f":"$B$996","v":"SEDUC 20.16"},null,null,{"$error":"#N/A"}]
["iSINAPI",1379,{"$f":"IFERROR(INDEX(INDIRECT(A998&\"!A:D\"),MATCH(B998,INDIRECT(A998&\"!A:A\"),0),2),\"\")","v":""},{"$f":"IFERROR(INDEX(INDIRECT(A998&\"!A:D\"),MATCH(B998,INDIRECT(A998&\"!A:A\"),0),3),\"\")","v":""},{"$f":"IFERROR(INDEX(INDIRECT(A998&\"!A:D\"),MATCH(B998,INDIRECT(A998&\"!A:A\"),0),4),\"\")","v":""},0.62,{"$f":"ROUND(PRODUCT(E998:F998),2)","v":0.62},null,"SEDUC 20.16",null,null,{"$error":"#N/A"}]
["iSINAPI",367,{"$f":"IFERROR(INDEX(INDIRECT(A999&\"!A:D\"),MATCH(B999,INDIRECT(A999&\"!A:A\"),0),2),\"\")","v":""},{"$f":"IFERROR(INDEX(INDIRECT(A999&\"!A:D\"),MATCH(B999,INDIRECT(A999&\"!A:A\"),0),3),\"\")","v":""},{"$f":"IFERROR(INDEX(INDIRECT(A999&\"!A:D\"),MATCH(B999,INDIRECT(A999&\"!A:A\"),0),4),\"\")","v":""},5.0000000000000001E-4,{"$f":"ROUND(PRODUCT(E999:F999),2)","v":0},null,"SEDUC 20.16",null,null,{"$error":"#N/A"}]
["SINAPI",88256,{"$f":"IFERROR(INDEX(INDIRECT(A1000&\"!A:D\"),MATCH(B1000,INDIRECT(A1000&\"!A:A\"),0),2),\"\")","v":""},{"$f":"IFERROR(INDEX(INDIRECT(A1000&\"!A:D\"),MATCH(B1000,INDIRECT(A1000&\"!A:A\"),0),3),\"\")","v":""},{"$f":"IFERROR(INDEX(INDIRECT(A1000&\"!A:D\"),MATCH(B1000,INDIRECT(A1000&\"!A:A\"),0),4),\"\")","v":""},1.1000000000000001,{"$f":"ROUND(PRODUCT(E1000:F1000),2)","v":1.1000000000000001},null,"SEDUC 20.16",null,null,{"$error":"#N/A"}]
["SINAPI",88316,{"$f":"IFERROR(INDEX(INDIRECT(A1001&\"!A:D\"),MATCH(B1001,INDIRECT(A1001&\"!A:A\"),0),2),\"\")","v":""},{"$f":"IFERROR(INDEX(INDIRECT(A1001&\"!A:D\"),MATCH(B1001,INDIRECT(A1001&\"!A:A\"),0),3),\"\")","v":""},{"$f":"IFERROR(INDEX(INDIRECT(A1001&\"!A:D\"),MATCH(B1001,INDIRECT(A1001&\"!A:A\"),0),4),\"\")","v":""},1.1000000000000001,{"$f":"ROUND(PRODUCT(E1001:F1001),2)","v":1.1000000000000001},null,"SEDUC 20.16",null,null,{"$error":"#N/A"}]
[null,null,null,null,null,null,null,null,"SEDUC 20.16",null,{"$f":"IF(A1002=\"\",\"\",IF(E1002=0,\"ERRO\",\"\"))","v":""},{"$error":"#N/A"}]
[null,null,null,null,null,null,null,null,null,null,"",{"$error":"#N/A"}]
[null,"SEDUC 21","SEVIRÇOS DIVERSOS",null,null,null,null,null,{"$f":"$B$1004","v":"SEDUC 21"},null,"",{"$error":"#N/A"}]
[null,"SEDUC 21.02","CONJUNTO DE TRAVES PARA FUTSAL EM TUBOS DE AÇO GALVANIZADO; DIMENSÕES OFICIAIS; PINTADA A PRIMER COM TINTA ESMALTE; INCLUSO REDES DE NYLON","CJ",null,null,{"$f":"SUM(G1006)","v":1},null,{"$f":"$B$1005","v":"SEDUC 21.02"},null,"","FORNECER CONJUNTO DE TRAVES PARA FUTSAL COM MEDIDAS OFICIAIS, INCLUSIVE REDES DE NYLON; DEVE-SE REALIZAR A DEVIDA PINTURA À BASE DE PRIMER E ESMALTE; POSICIONAR O CONJUNTO NA QUADRA POLIESPORTIVA."]
["iSINAPI",25398,{"$f":"IFERROR(INDEX(INDIRECT(A1006&\"!A:D\"),MATCH(B1006,INDIRECT(A1006&\"!A:A\"),0),2),\"\")","v":""},{"$f":"IFERROR(INDEX(INDIRECT(A1006&\"!A:D\"),MATCH(B1006,INDIRECT(A1006&\"!A:A\"),0),3),\"\")","v":""},{"$f":"IFERROR(INDEX(INDIRECT(A1006&\"!A:D\"),MATCH(B1006,INDIRECT(A1006&\"!A:A\"),0),4),\"\")","v":""},1,{"$f":"ROUND(PRODUCT(E1006:F1006),2)","v":1},null,{"$f":"$B$1005","v":"SEDUC 21.02"},null,"",{"$error":"#N/A"}]
[null,null,null,null,null,null,null,null,{"$f":"$B$1005","v":"SEDUC 21.02"},null,"",{"$error":"#N/A"}]
[null,"SEDUC 21.03","CONJUNTO DE EQUIPAMENTOS OFICIAIS PARA VÔLEI COM POSTES PINTADOS, REDE DE NYLON  E ANTENAS.","CJ",null,null,{"$f":"SUM(G1009)","v":1},null,{"$f":"$B$1008","v":"SEDUC 21.03"},null,"","FORNECER EQUIPAMENTO COMPLETO PARA PRÁTICA DE VÔLEI, INCLUINDO TRAVES, REDES E ANTENAS."]
["iSINAPI",25399,{"$f":"IFERROR(INDEX(INDIRECT(A1009&\"!A:D\"),MATCH(B1009,INDIRECT(A1009&\"!A:A\"),0),2),\"\")","v":""},{"$f":"IFERROR(INDEX(INDIRECT(A1009&\"!A:D\"),MATCH(B1009,INDIRECT(A1009&\"!A:A\"),0),3),\"\")","v":""},{"$f":"IFERROR(INDEX(INDIRECT(A1009&\"!A:D\"),MATCH(B1009,INDIRECT(A1009&\"!A:A\"),0),4),\"\")","v":""},1,{"$f":"ROUND(PRODUCT(E1009:F1009),2)","v":1},null,{"$f":"$B$1008","v":"SEDUC 21.03"},null,"",{"$error":"#N/A"}]
[null,null,null,null,null,null,null,null,{"$f":"$B$1008","v":"SEDUC 21.03"},null,"",{"$error":"#N/A"}]
[null,"SEDUC 21.04","SUBSTITUIÇÃO DE TELAS DE ALAMBRADO DE ARAME GALVANIZADO, FIO 14 BWG, MALHA QUADRADA PARA QUADRA POLIESPORTIVA - REMOÇÃO, FORNECIMENTO E INSTALAÇÃO","M²",null,null,{"$f":"SUM(G1012:G1016)","v":2.0699999999999998},null,{"$f":"$B$1011","v":"SEDUC 21.04"},null,"",0]
["SINAPI",88315,{"$f":"IFERROR(INDEX(INDIRECT(A1012&\"!A:D\"),MATCH(B1012,INDIRECT(A1012&\"!A:A\"),0),2),\"\")","v":""},{"$f":"IFERROR(INDEX(INDIRECT(A1012&\"!A:D\"),MATCH(B1012,INDIRECT(A1012&\"!A:A\"),0),3),\"\")","v":""},{"$f":"IFERROR(INDEX(INDIRECT(A1012&\"!A:D\"),MATCH(B1012,INDIRECT(A1012&\"!A:A\"),0),4),\"\")","v":""},0.3,{"$f":"ROUND(PRODUCT(E1012:F1012),2)","v":0.3},null,"SEDUC 21.04",null,"",{"$error":"#N/A"}]
["SINAPI",88316,{"$f":"IFERROR(INDEX(INDIRECT(A1013&\"!A:D\"),MATCH(B1013,INDIRECT(A1013&\"!A:A\"),0),2),\"\")","v":""},{"$f":"IFERROR(INDEX(INDIRECT(A1013&\"!A:D\"),MATCH(B1013,INDIRECT(A1013&\"!A:A\"),0),3),\"\")","v":""},{"$f":"IFERROR(INDEX(INDIRECT(A1013&\"!A:D\"),MATCH(B1013,INDIRECT(A1013&\"!A:A\"),0),4),\"\")","v":""},0.5,{"$f":"ROUND(PRODUCT(E1013:F1013),2)","v":0.5},null,"SEDUC 21.04",null,"",{"$error":"#N/A"}]
["iSINAPI",333,{"$f":"IFERROR(INDEX(INDIRECT(A1014&\"!A:D\"),MATCH(B1014,INDIRECT(A1014&\"!A:A\"),0),2),\"\")","v":""},{"$f":"IFERROR(INDEX(INDIRECT(A1014&\"!A:D\"),MATCH(B1014,INDIRECT(A1014&\"!A:A\"),0),3),\"\")","v":""},{"$f":"IFERROR(INDEX(INDIRECT(A1014&\"!A:D\"),MATCH(B1014,INDIRECT(A1014&\"!A:A\"),0),4),\"\")","v":""},7.0000000000000007E-2,{"$f":"ROUND(PRODUCT(E1014:F1014),2)","v":7.0000000000000007E-2},null,"SEDUC 21.04",null,"",{"$error":"#N/A"}]
["iSINAPI",335,{"$f":"IFERROR(INDEX(INDIRECT(A1015&\"!A:D\"),MATCH(B1015,INDIRECT(A1015&\"!A:A\"),0),2),\"\")","v":""},{"$f":"IFERROR(INDEX(INDIRECT(A1015&\"!A:D\"),MATCH(B1015,INDIRECT(A1015&\"!A:A\"),0),3),\"\")","v":""},{"$f":"IFERROR(INDEX(INDIRECT(A1015&\"!A:D\"),MATCH(B1015,INDIRECT(A1015&\"!A:A\"),0),4),\"\")","v":""},0.15,{"$f":"ROUND(PRODUCT(E1015:F1015),2)","v":0.15},null,"SEDUC 21.04",null,"",{"$error":"#N/A"}]
["iSINAPI",7167,{"$f":"IFERROR(INDEX(INDIRECT(A1016&\"!A:D\"),MATCH(B1016,INDIRECT(A1016&\"!A:A\"),0),2),\"\")","v":""},{"$f":"IFERROR(INDEX(INDIRECT(A1016&\"!A:D\"),MATCH(B1016,INDIRECT(A1016&\"!A:A\"),0),3),\"\")","v":""},{"$f":"IFERROR(INDEX(INDIRECT(A1016&\"!A:D\"),MATCH(B1016,INDIRECT(A1016&\"!A:A\"),0),4),\"\")","v":""},1.05,{"$f":"ROUND(PRODUCT(E1016:F1016),2)","v":1.05},null,"SEDUC 21.04",null,"",{"$error":"#N/A"}]
[null,null,null,null,null,null,null,null,"SEDUC 21.04",null,"",{"$error":"#N/A"}]
[null,"SEDUC 21.05","LIMPEZA E POLIMENTO MECANIZADO EM PISO ALTA RESISTENCIA, UTILIZANDO ESTUQUE COM ADESIVO, CIMENTO BRANCO E CORANTE (Ref. SINAPI 73800/1, Out 2015)","M²",null,null,{"$f":"SUM(G1019:G1026)","v":2.65},null,{"$f":"$B$1018","v":"SEDUC 21.05"},null,"","POLIR PISO INDUSTRIAL EXISTENTE COM UTILIZAÇÃO DE POLIDORA, CIMENTO BRANCO E DEMAIS MATERIAIS REVILATIZADORES"]
["iSINAPI",2705,{"$f":"IFERROR(INDEX(INDIRECT(A1019&\"!A:D\"),MATCH(B1019,INDIRECT(A1019&\"!A:A\"),0),2),\"\")","v":""},{"$f":"IFERROR(INDEX(INDIRECT(A1019&\"!A:D\"),MATCH(B1019,INDIRECT(A1019&\"!A:A\"),0),3),\"\")","v":""},{"$f":"IFERROR(INDEX(INDIRECT(A1019&\"!A:D\"),MATCH(B1019,INDIRECT(A1019&\"!A:A\"),0),4),\"\")","v":""},{"$f":"3.5*0.156","v":0.54600000000000004},{"$f":"ROUND(PRODUCT(E1019:F1019),2)","v":0.55000000000000004},null,{"$f":"$B$1018","v":"SEDUC 21.05"},null,"",{"$error":"#N/A"}]
["iSINAPI",13954,"","","",{"$f":"ROUND(0.0003267*0.156+0.0002267,6)","v":2.7799999999999998E-4},0,null,"SEDUC 21.05",null,"",{"$error":"#N/A"}]
["SINAPI",88274,"","","",0.7,0.7,null,"SEDUC 21.05",null,"",{"$error":"#N/A"}]
["SINAPI",88316,"","","",0.5,0.5,null,"SEDUC 21.05",null,"",{"$error":"#N/A"}]
["iSINAPI",1380,"","","",0.1,0.1,null,"SEDUC 21.05",null,"",{"$error":"#N/A"}]
["iSINAPI",2710,"","","",0.18,0.18,null,"SEDUC 21.05",null,"",{"$error":"#N/A"}]
["iSINAPI",5327,"","","",0.1,0.1,null,"SEDUC 21.05",null,"",{"$error":"#N/A"}]
["iSINAPI",7334,"","","",0.52,0.52,null,"SEDUC 21.05",null,"",{"$error":"#N/A"}]
[null,null,null,null,null,null,null,null,"SEDUC 21.05",null,"",{"$error":"#N/A"}]
[null,"SEDUC 21.07","PEÇAS DE APOIO DEFICIENTES C/TUBO INOX P/WC'S (Ref. Seinfra 24.1 C1898 )","M",null,null,{"$f":"SUM(G1029:G1034)","v":2.75},null,{"$f":"$B$1028","v":"SEDUC 21.07"},null,"","FICAR PEÇAS DE APOIO EM TUBOS DE AÇO INOXIDÁVEL SEGUNDO DIMENSÕES APRESENTADAS EM PROJETO; APLICÁVEL EM PORTAS, CORRIMÃOS OU PAREDES."]
["SINAPI",88316,{"$f":"IFERROR(INDEX(INDIRECT(A1029&\"!A:D\"),MATCH(B1029,INDIRECT(A1029&\"!A:A\"),0),2),\"\")","v":""},{"$f":"IFERROR(INDEX(INDIRECT(A1029&\"!A:D\"),MATCH(B1029,INDIRECT(A1029&\"!A:A\"),0),3),\"\")","v":""},{"$f":"IFERROR(INDEX(INDIRECT(A1029&\"!A:D\"),MATCH(B1029,INDIRECT(A1029&\"!A:A\"),0),4),\"\")","v":""},0.35,{"$f":"ROUND(PRODUCT(E1029:F1029),2)","v":0.35},null,{"$f":"$B$1028","v":"SEDUC 21.07"},null,"",{"$error":"#N/A"}]
["SINAPI",88277,"","","",1,1,null,"SEDUC 21.07",null,"",{"$error":"#N/A"}]
["SINAPI",88309,"","","",0.25,0.25,null,"SEDUC 21.07",null,"",{"$error":"#N/A"}]
["iSEINFRA","I1646","","","",1,1,null,"SEDUC 21.07",null,"",{"$error":"#N/A"}]
["iSINAPI",367,"","","",5.0000000000000001E-4,0,null,"SEDUC 21.07",null,"",{"$error":"#N/A"}]
["iSINAPI",34753,"","","",0.15,0.15,null,"SEDUC 21.07",null,"",{"$error":"#N/A"}]
[null,null,null,null,null,null,null,null,"SEDUC 21.07",null,"",{"$error":"#N/A"}]
[null,"SEDUC 21.08","BANCO ARTICULÁVEL PARA BANHO DE DEFICIENTE (Ref. Seinfra 24.1 C4642 )","UN",null,null,{"$f":"SUM(G1037:G1039)","v":1.5},null,{"$f":"$B$1036","v":"SEDUC 21.08"},null,"","INSTALAR BANCO ARTICULÁVEL METÁLICO PARA DEFICIENTES DE ACORDO COM LOCALIZAÇÃO E ALTURA INDICADA EM PROJETO."]
["iSEINFRA","I8641",{"$f":"IFERROR(INDEX(INDIRECT(A1037&\"!A:D\"),MATCH(B1037,INDIRECT(A1037&\"!A:A\"),0),2),\"\")","v":""},{"$f":"IFERROR(INDEX(INDIRECT(A1037&\"!A:D\"),MATCH(B1037,INDIRECT(A1037&\"!A:A\"),0),3),\"\")","v":""},{"$f":"IFERROR(INDEX(INDIRECT(A1037&\"!A:D\"),MATCH(B1037,INDIRECT(A1037&\"!A:A\"),0),4),\"\")","v":""},1,{"$f":"ROUND(PRODUCT(E1037:F1037),2)","v":1},null,{"$f":"$B$1036","v":"SEDUC 21.08"},null,"",{"$error":"#N/A"}]
["SINAPI",88316,{"$f":"IFERROR(INDEX(INDIRECT(A1038&\"!A:D\"),MATCH(B1038,INDIRECT(A1038&\"!A:A\"),0),2),\"\")","v":""},{"$f":"IFERROR(INDEX(INDIRECT(A1038&\"!A:D\"),MATCH(B1038,INDIRECT(A1038&\"!A:A\"),0),3),\"\")","v":""},{"$f":"IFERROR(INDEX(INDIRECT(A1038&\"!A:D\"),MATCH(B1038,INDIRECT(A1038&\"!A:A\"),0),4),\"\")","v":""},0.25,{"$f":"ROUND(PRODUCT(E1038:F1038),2)","v":0.25},null,{"$f":"$B$1036","v":"SEDUC 21.08"},null,"",{"$error":"#N/A"}]
["SINAPI",88277,{"$f":"IFERROR(INDEX(INDIRECT(A1039&\"!A:D\"),MATCH(B1039,INDIRECT(A1039&\"!A:A\"),0),2),\"\")","v":""},{"$f":"IFERROR(INDEX(INDIRECT(A1039&\"!A:D\"),MATCH(B1039,INDIRECT(A1039&\"!A:A\"),0),3),\"\")","v":""},{"$f":"IFERROR(INDEX(INDIRECT(A1039&\"!A:D\"),MATCH(B1039,INDIRECT(A1039&\"!A:A\"),0),4),\"\")","v":""},0.25,{"$f":"ROUND(PRODUCT(E1039:F1039),2)","v":0.25},null,{"$f":"$B$1036","v":"SEDUC 21.08"},null,"",{"$error":"#N/A"}]
[null,null,null,null,null,null,null,null,{"$f":"$B$1036","v":"SEDUC 21.08"},null,"",{"$error":"#N/A"}]
[null,"SEDUC 21.09","VENTILADOR DE TETO METÁLICO (Ref. Seinfra 24.1 C2664 )","UN",null,null,{"$f":"SUM(G1042:G1044)","v":2.6},null,{"$f":"$B$1041","v":"SEDUC 21.09"},null,"","INSTALAR VENTILADORES METÁLICOS DE TETO SOB FORRO OU LAJES SEGUNDO PROJETO OU INDICAÇÃO DA ADMINISTRAÇÃO."]
["iSEINFRA","I2246",{"$f":"IFERROR(INDEX(INDIRECT(A1042&\"!A:D\"),MATCH(B1042,INDIRECT(A1042&\"!A:A\"),0),2),\"\")","v":""},{"$f":"IFERROR(INDEX(INDIRECT(A1042&\"!A:D\"),MATCH(B1042,INDIRECT(A1042&\"!A:A\"),0),3),\"\")","v":""},{"$f":"IFERROR(INDEX(INDIRECT(A1042&\"!A:D\"),MATCH(B1042,INDIRECT(A1042&\"!A:A\"),0),4),\"\")","v":""},1,{"$f":"ROUND(PRODUCT(E1042:F1042),2)","v":1},null,{"$f":"$B$1041","v":"SEDUC 21.09"},null,{"$f":"IF(A1042=\"\",\"\",IF(E1042=0,\"ERRO\",\"\"))","v":""},{"$error":"#N/A"}]
["SINAPI",88264,{"$f":"IFERROR(INDEX(INDIRECT(A1043&\"!A:D\"),MATCH(B1043,INDIRECT(A1043&\"!A:A\"),0),2),\"\")","v":""},{"$f":"IFERROR(INDEX(INDIRECT(A1043&\"!A:D\"),MATCH(B1043,INDIRECT(A1043&\"!A:A\"),0),3),\"\")","v":""},{"$f":"IFERROR(INDEX(INDIRECT(A1043&\"!A:D\"),MATCH(B1043,INDIRECT(A1043&\"!A:A\"),0),4),\"\")","v":""},0.8,{"$f":"ROUND(PRODUCT(E1043:F1043),2)","v":0.8},null,{"$f":"$B$1041","v":"SEDUC 21.09"},null,"",{"$error":"#N/A"}]
["SINAPI",88247,{"$f":"IFERROR(INDEX(INDIRECT(A1044&\"!A:D\"),MATCH(B1044,INDIRECT(A1044&\"!A:A\"),0),2),\"\")","v":""},{"$f":"IFERROR(INDEX(INDIRECT(A1044&\"!A:D\"),MATCH(B1044,INDIRECT(A1044&\"!A:A\"),0),3),\"\")","v":""},{"$f":"IFERROR(INDEX(INDIRECT(A1044&\"!A:D\"),MATCH(B1044,INDIRECT(A1044&\"!A:A\"),0),4),\"\")","v":""},0.8,{"$f":"ROUND(PRODUCT(E1044:F1044),2)","v":0.8},null,{"$f":"$B$1041","v":"SEDUC 21.09"},null,"",{"$error":"#N/A"}]
[null,null,null,null,null,null,null,null,{"$f":"$B$1041","v":"SEDUC 21.09"},null,"",{"$error":"#N/A"}]
[null,"SEDUC 21.10","ARMADURA CA-60 FINA D=3,40 A 6,40mm (Ref. Seinfra 24.1 C0217 )","KG",null,null,{"$f":"SUM(G1047:G1050)","v":1.31},null,{"$f":"$B$1046","v":"SEDUC 21.10"},null,"",0]
["SINAPI",88238,{"$f":"IFERROR(INDEX(INDIRECT(A1047&\"!A:D\"),MATCH(B1047,INDIRECT(A1047&\"!A:A\"),0),2),\"\")","v":""},{"$f":"IFERROR(INDEX(INDIRECT(A1047&\"!A:D\"),MATCH(B1047,INDIRECT(A1047&\"!A:A\"),0),3),\"\")","v":""},{"$f":"IFERROR(INDEX(INDIRECT(A1047&\"!A:D\"),MATCH(B1047,INDIRECT(A1047&\"!A:A\"),0),4),\"\")","v":""},7.0000000000000007E-2,{"$f":"ROUND(PRODUCT(E1047:F1047),2)","v":7.0000000000000007E-2},null,"SEDUC 21.10",null,"",{"$error":"#N/A"}]
["SINAPI",88245,{"$f":"IFERROR(INDEX(INDIRECT(A1048&\"!A:D\"),MATCH(B1048,INDIRECT(A1048&\"!A:A\"),0),2),\"\")","v":""},{"$f":"IFERROR(INDEX(INDIRECT(A1048&\"!A:D\"),MATCH(B1048,INDIRECT(A1048&\"!A:A\"),0),3),\"\")","v":""},{"$f":"IFERROR(INDEX(INDIRECT(A1048&\"!A:D\"),MATCH(B1048,INDIRECT(A1048&\"!A:A\"),0),4),\"\")","v":""},7.0000000000000007E-2,{"$f":"ROUND(PRODUCT(E1048:F1048),2)","v":7.0000000000000007E-2},null,"SEDUC 21.10",null,"",{"$error":"#N/A"}]
["iSINAPI",337,{"$f":"IFERROR(INDEX(INDIRECT(A1049&\"!A:D\"),MATCH(B1049,INDIRECT(A1049&\"!A:A\"),0),2),\"\")","v":""},{"$f":"IFERROR(INDEX(INDIRECT(A1049&\"!A:D\"),MATCH(B1049,INDIRECT(A1049&\"!A:A\"),0),3),\"\")","v":""},{"$f":"IFERROR(INDEX(INDIRECT(A1049&\"!A:D\"),MATCH(B1049,INDIRECT(A1049&\"!A:A\"),0),4),\"\")","v":""},0.02,{"$f":"ROUND(PRODUCT(E1049:F1049),2)","v":0.02},null,"SEDUC 21.10",null,"",{"$error":"#N/A"}]
["iSEINFRA","I0169",{"$f":"IFERROR(INDEX(INDIRECT(A1050&\"!A:D\"),MATCH(B1050,INDIRECT(A1050&\"!A:A\"),0),2),\"\")","v":""},{"$f":"IFERROR(INDEX(INDIRECT(A1050&\"!A:D\"),MATCH(B1050,INDIRECT(A1050&\"!A:A\"),0),3),\"\")","v":""},{"$f":"IFERROR(INDEX(INDIRECT(A1050&\"!A:D\"),MATCH(B1050,INDIRECT(A1050&\"!A:A\"),0),4),\"\")","v":""},1.1499999999999999,{"$f":"ROUND(PRODUCT(E1050:F1050),2)","v":1.1499999999999999},null,"SEDUC 21.10",null,"",{"$error":"#N/A"}]
[null,null,null,null,null,null,null,null,"SEDUC 21.10",null,"",{"$error":"#N/A"}]
[null,"SEDUC 21.11","ARMADURA CA-25 MÉDIA D=6,30 A 10,00mm (Ref. Seinfra 24.1 C0214 )","KG",null,null,{"$f":"SUM(G1053:G1056)","v":1.38},null,{"$f":"$B$1052","v":"SEDUC 21.11"},null,"",0]
["SINAPI",88238,{"$f":"IFERROR(INDEX(INDIRECT(A1053&\"!A:D\"),MATCH(B1053,INDIRECT(A1053&\"!A:A\"),0),2),\"\")","v":""},{"$f":"IFERROR(INDEX(INDIRECT(A1053&\"!A:D\"),MATCH(B1053,INDIRECT(A1053&\"!A:A\"),0),3),\"\")","v":""},{"$f":"IFERROR(INDEX(INDIRECT(A1053&\"!A:D\"),MATCH(B1053,INDIRECT(A1053&\"!A:A\"),0),4),\"\")","v":""},0.08,{"$f":"ROUND(PRODUCT(E1053:F1053),2)","v":0.08},null,"SEDUC 21.11",null,"",{"$error":"#N/A"}]
["SINAPI",88245,{"$f":"IFERROR(INDEX(INDIRECT(A1054&\"!A:D\"),MATCH(B1054,INDIRECT(A1054&\"!A:A\"),0),2),\"\")","v":""},{"$f":"IFERROR(INDEX(INDIRECT(A1054&\"!A:D\"),MATCH(B1054,INDIRECT(A1054&\"!A:A\"),0),3),\"\")","v":""},{"$f":"IFERROR(INDEX(INDIRECT(A1054&\"!A:D\"),MATCH(B1054,INDIRECT(A1054&\"!A:A\"),0),4),\"\")","v":""},0.08,{"$f":"ROUND(PRODUCT(E1054:F1054),2)","v":0.08},null,"SEDUC 21.11",null,"",{"$error":"#N/A"}]
["iSINAPI",337,{"$f":"IFERROR(INDEX(INDIRECT(A1055&\"!A:D\"),MATCH(B1055,INDIRECT(A1055&\"!A:A\"),0),2),\"\")","v":""},{"$f":"IFERROR(INDEX(INDIRECT(A1055&\"!A:D\"),MATCH(B1055,INDIRECT(A1055&\"!A:A\"),0),3),\"\")","v":""},{"$f":"IFERROR(INDEX(INDIRECT(A1055&\"!A:D\"),MATCH(B1055,INDIRECT(A1055&\"!A:A\"),0),4),\"\")","v":""},0.02,{"$f":"ROUND(PRODUCT(E1055:F1055),2)","v":0.02},null,"SEDUC 21.11",null,"",{"$error":"#N/A"}]
["iSEINFRA","I0157",{"$f":"IFERROR(INDEX(INDIRECT(A1056&\"!A:D\"),MATCH(B1056,INDIRECT(A1056&\"!A:A\"),0),2),\"\")","v":""},{"$f":"IFERROR(INDEX(INDIRECT(A1056&\"!A:D\"),MATCH(B1056,INDIRECT(A1056&\"!A:A\"),0),3),\"\")","v":""},{"$f":"IFERROR(INDEX(INDIRECT(A1056&\"!A:D\"),MATCH(B1056,INDIRECT(A1056&\"!A:A\"),0),4),\"\")","v":""},1.2,{"$f":"ROUND(PRODUCT(E1056:F1056),2)","v":1.2},null,"SEDUC 21.11",null,"",{"$error":"#N/A"}]
[null,null,null,null,null,null,null,null,"SEDUC 21.11",null,"",{"$error":"#N/A"}]
[null,"SEDUC 21.12","ESTRUTURA METÁLICA C/ TABELAS DE BASQUETE (Ref. Seinfra 24.1 C1347 )","CJ",null,null,{"$f":"SUM(G1059:G1061)","v":2.09},null,{"$f":"$B$1058","v":"SEDUC 21.12"},null,"","EXECUTAR ESTRUTURA METÁLICA TRELIÇADA COM TABELAS DE BASQUETE; MEDIDAS OFICIAIS; FIXAR EM PISO DE CONCRETO."]
["iSEINFRA","I1139",{"$f":"IFERROR(INDEX(INDIRECT(A1059&\"!A:D\"),MATCH(B1059,INDIRECT(A1059&\"!A:A\"),0),2),\"\")","v":""},{"$f":"IFERROR(INDEX(INDIRECT(A1059&\"!A:D\"),MATCH(B1059,INDIRECT(A1059&\"!A:A\"),0),3),\"\")","v":""},{"$f":"IFERROR(INDEX(INDIRECT(A1059&\"!A:D\"),MATCH(B1059,INDIRECT(A1059&\"!A:A\"),0),4),\"\")","v":""},1,{"$f":"ROUND(PRODUCT(E1059:F1059),2)","v":1},null,{"$f":"$B$1058","v":"SEDUC 21.12"},null,"",{"$error":"#N/A"}]
["iSINAPI",25400,{"$f":"IFERROR(INDEX(INDIRECT(A1060&\"!A:D\"),MATCH(B1060,INDIRECT(A1060&\"!A:A\"),0),2),\"\")","v":""},{"$f":"IFERROR(INDEX(INDIRECT(A1060&\"!A:D\"),MATCH(B1060,INDIRECT(A1060&\"!A:A\"),0),3),\"\")","v":""},{"$f":"IFERROR(INDEX(INDIRECT(A1060&\"!A:D\"),MATCH(B1060,INDIRECT(A1060&\"!A:A\"),0),4),\"\")","v":""},1,{"$f":"ROUND(PRODUCT(E1060:F1060),2)","v":1},null,{"$f":"$B$1058","v":"SEDUC 21.12"},null,"",{"$error":"#N/A"}]
["SINAPI",94963,{"$f":"IFERROR(INDEX(INDIRECT(A1061&\"!A:D\"),MATCH(B1061,INDIRECT(A1061&\"!A:A\"),0),2),\"\")","v":""},{"$f":"IFERROR(INDEX(INDIRECT(A1061&\"!A:D\"),MATCH(B1061,INDIRECT(A1061&\"!A:A\"),0),3),\"\")","v":""},{"$f":"IFERROR(INDEX(INDIRECT(A1061&\"!A:D\"),MATCH(B1061,INDIRECT(A1061&\"!A:A\"),0),4),\"\")","v":""},8.6499999999999994E-2,{"$f":"ROUND(PRODUCT(E1061:F1061),2)","v":0.09},null,{"$f":"$B$1058","v":"SEDUC 21.12"},null,"",{"$error":"#N/A"}]
[null,null,null,null,null,null,null,null,{"$f":"$B$1058","v":"SEDUC 21.12"},null,"",{"$error":"#N/A"}]
[null,"SEDUC 21.13","PLACA DE SINALIZAÇÃO DE ABANDONO EM ACRÍLICO 20X20 (Ref. ORSE 4275)","UN",null,null,{"$f":"SUM(G1064:G1064)","v":1},null,{"$f":"$B$1063","v":"SEDUC 21.13"},null,"",{"$error":"#N/A"}]
["iSINAPI",37556,{"$f":"IFERROR(INDEX(INDIRECT(A1064&\"!A:D\"),MATCH(B1064,INDIRECT(A1064&\"!A:A\"),0),2),\"\")","v":""},{"$f":"IFERROR(INDEX(INDIRECT(A1064&\"!A:D\"),MATCH(B1064,INDIRECT(A1064&\"!A:A\"),0),3),\"\")","v":""},{"$f":"IFERROR(INDEX(INDIRECT(A1064&\"!A:D\"),MATCH(B1064,INDIRECT(A1064&\"!A:A\"),0),4),\"\")","v":""},1,{"$f":"ROUND(PRODUCT(E1064:F1064),2)","v":1},null,{"$f":"$B$1063","v":"SEDUC 21.13"},null,"",{"$error":"#N/A"}]
[null,null,null,null,null,null,null,null,{"$f":"$B$1063","v":"SEDUC 21.13"},null,"",{"$error":"#N/A"}]
[null,"SEDUC 21.14","PLACA DE SINALIZAÇÃO DE ABANDONO EM ACRÍLICO 20X40 (Ref. ORSE 4275)","UN",null,null,{"$f":"SUM(G1067:G1067)","v":1},null,{"$f":"$B$1066","v":"SEDUC 21.14"},null,{"$f":"IF(A1066=\"\",\"\",IF(E1066=0,\"ERRO\",\"\"))","v":""},{"$error":"#N/A"}]
["iSINAPI",37558,{"$f":"IFERROR(INDEX(INDIRECT(A1067&\"!A:D\"),MATCH(B1067,INDIRECT(A1067&\"!A:A\"),0),2),\"\")","v":""},{"$f":"IFERROR(INDEX(INDIRECT(A1067&\"!A:D\"),MATCH(B1067,INDIRECT(A1067&\"!A:A\"),0),3),\"\")","v":""},{"$f":"IFERROR(INDEX(INDIRECT(A1067&\"!A:D\"),MATCH(B1067,INDIRECT(A1067&\"!A:A\"),0),4),\"\")","v":""},1,{"$f":"ROUND(PRODUCT(E1067:F1067),2)","v":1},null,{"$f":"$B$1066","v":"SEDUC 21.14"},null,{"$f":"IF(A1067=\"\",\"\",IF(E1067=0,\"ERRO\",\"\"))","v":""},{"$error":"#N/A"}]
[null,null,null,null,null,null,null,null,{"$f":"$B$1066","v":"SEDUC 21.14"},null,{"$f":"IF(A1068=\"\",\"\",IF(E1068=0,\"ERRO\",\"\"))","v":""},{"$error":"#N/A"}]
[null,"SEDUC 21.15","CONCERTINA EM AÇO GALVANIZADO, ESPIRAL DE 450MM, 3 CLIPS POR ESPIRAL, LÂMINA DE 30MM E FIO INTERNO DE 2,50MM, INCLUSIVE INSTALAÇÃO (Ref. ORSE 4713)","M",null,null,{"$f":"SUM(G1070:G1070)","v":1},null,{"$f":"$B$1069","v":"SEDUC 21.15"},null,"",{"$error":"#N/A"}]
["iORSE",4306,{"$f":"IFERROR(INDEX(INDIRECT(A1070&\"!A:D\"),MATCH(B1070,INDIRECT(A1070&\"!A:A\"),0),2),\"\")","v":""},{"$f":"IFERROR(INDEX(INDIRECT(A1070&\"!A:D\"),MATCH(B1070,INDIRECT(A1070&\"!A:A\"),0),3),\"\")","v":""},{"$f":"IFERROR(INDEX(INDIRECT(A1070&\"!A:D\"),MATCH(B1070,INDIRECT(A1070&\"!A:A\"),0),4),\"\")","v":""},1,{"$f":"ROUND(PRODUCT(E1070:F1070),2)","v":1},null,{"$f":"$B$1069","v":"SEDUC 21.15"},null,"",{"$error":"#N/A"}]
[null,null,null,null,null,null,null,null,{"$f":"$B$1069","v":"SEDUC 21.15"},null,""]
[null,"SEDUC 21.16","LIMPEZA FINA DA OBRA (Ref. SINAPI 9537 - 11/2018)","M²",null,null,{"$f":"SUM(G1073:G1074)","v":0.19},null,{"$f":"$B$1072","v":"SEDUC 21.16"},null,"",{"$error":"#N/A"}]
["iSINAPI",3,{"$f":"IFERROR(INDEX(INDIRECT(A1073&\"!A:D\"),MATCH(B1073,INDIRECT(A1073&\"!A:A\"),0),2),\"\")","v":""},{"$f":"IFERROR(INDEX(INDIRECT(A1073&\"!A:D\"),MATCH(B1073,INDIRECT(A1073&\"!A:A\"),0),3),\"\")","v":""},{"$f":"IFERROR(INDEX(INDIRECT(A1073&\"!A:D\"),MATCH(B1073,INDIRECT(A1073&\"!A:A\"),0),4),\"\")","v":""},0.05,{"$f":"ROUND(PRODUCT(E1073:F1073),2)","v":0.05},null,{"$f":"$B$1072","v":"SEDUC 21.16"},null,"",{"$error":"#N/A"}]
["SINAPI",88316,{"$f":"IFERROR(INDEX(INDIRECT(A1074&\"!A:D\"),MATCH(B1074,INDIRECT(A1074&\"!A:A\"),0),2),\"\")","v":""},{"$f":"IFERROR(INDEX(INDIRECT(A1074&\"!A:D\"),MATCH(B1074,INDIRECT(A1074&\"!A:A\"),0),3),\"\")","v":""},{"$f":"IFERROR(INDEX(INDIRECT(A1074&\"!A:D\"),MATCH(B1074,INDIRECT(A1074&\"!A:A\"),0),4),\"\")","v":""},0.14000000000000001,{"$f":"ROUND(PRODUCT(E1074:F1074),2)","v":0.14000000000000001},null,{"$f":"$B$1072","v":"SEDUC 21.16"}]
[null,null,null,null,null,null,null,null,{"$f":"$B$1072","v":"SEDUC 21.16"}]
[null,"SEDUC 21.18","PLACA EM AÇO GALVANIZADO C/ APLICAÇÃO EM 1 FACE EM VINIL E FUNDO C/ PINTURA EM ESMALTE SINTÉTICO PRETO FOSCO (FORNECIMENTO E MONTAGEM) (Ref. SEINFRA: C4629 )","M2",null,null,{"$f":"SUM(G1077:G1091)","v":15.17},null,{"$f":"$B$1076","v":"SEDUC 21.18"},null,{"$f":"IF(A1076=\"\",\"\",IF(E1076=0,\"ERRO\",\"\"))","v":""},"EXECUTAR ESTRUTURA METÁLICA TRELIÇADA COM TABELAS DE BASQUETE; MEDIDAS OFICIAIS; FIXAR EM PISO DE CONCRETO."]
["iSINAPI",25966,{"$f":"IFERROR(INDEX(INDIRECT(A1077&\"!A:D\"),MATCH(B1077,INDIRECT(A1077&\"!A:A\"),0),2),\"\")","v":""},{"$f":"IFERROR(INDEX(INDIRECT(A1077&\"!A:D\"),MATCH(B1077,INDIRECT(A1077&\"!A:A\"),0),3),\"\")","v":""},{"$f":"IFERROR(INDEX(INDIRECT(A1077&\"!A:D\"),MATCH(B1077,INDIRECT(A1077&\"!A:A\"),0),4),\"\")","v":""},0.1,{"$f":"ROUND(PRODUCT(E1077:F1077),2)","v":0.1},null,{"$f":"$B$1076","v":"SEDUC 21.18"},null,{"$f":"IF(A1077=\"\",\"\",IF(E1077=0,\"ERRO\",\"\"))","v":""},{"$error":"#N/A"}]
["iSEINFRA","I8629","","","",1.05,1.05,null,"SEDUC 21.18",null,{"$f":"IF(A1078=\"\",\"\",IF(E1078=0,\"ERRO\",\"\"))","v":""},{"$error":"#N/A"}]
["iSINAPI",38383,"","","",0.5,0.5,null,"SEDUC 21.18",null,{"$f":"IF(A1079=\"\",\"\",IF(E1079=0,\"ERRO\",\"\"))","v":""},{"$error":"#N/A"}]
["iSEINFRA","I8630","","","",0.01,0.01,null,"SEDUC 21.18",null,{"$f":"IF(A1080=\"\",\"\",IF(E1080=0,\"ERRO\",\"\"))","v":""},{"$error":"#N/A"}]
["iSINAPI",11051,"","","",{"$f":"1.05*4","v":4.2},4.2,null,"SEDUC 21.18",null,{"$f":"IF(A1081=\"\",\"\",IF(E1081=0,\"ERRO\",\"\"))","v":""},{"$error":"#N/A"}]
["iSINAPI",7288,"","","",0.3,0.3,null,{"$f":"$B$1076","v":"SEDUC 21.18"},null,"",{"$error":"#N/A"}]
["iSINAPI",11174,"","","",{"$f":"0.4/18","v":2.2200000000000001E-2},0.02,null,"SEDUC 21.18",null,"",{"$error":"#N/A"}]
["iSINAPI",6,"","","",0.1,0.1,null,"SEDUC 21.18",null,"",{"$error":"#N/A"}]
["iSEINFRA","I8625","","","",1,1,null,"SEDUC 21.18",null,"",{"$error":"#N/A"}]
["SINAPI",90972,"","","",0.89,0.89,null,"SEDUC 21.18",null,"",{"$error":"#N/A"},null,null,90968]
["SINAPI",73467,"","","",1,1,null,"SEDUC 21.18",null,{"$f":"IF(A1087=\"\",\"\",IF(E1087=0,\"ERRO\",\"\"))","v":""},{"$error":"#N/A"},null,null,90971]
["SINAPI",88316,"","","",3,3,null,"SEDUC 21.18",null,{"$f":"IF(A1088=\"\",\"\",IF(E1088=0,\"ERRO\",\"\"))","v":""},{"$error":"#N/A"}]
["SINAPI",90776,"","","",1,1,null,"SEDUC 21.18",null,{"$f":"IF(A1089=\"\",\"\",IF(E1089=0,\"ERRO\",\"\"))","v":""},{"$error":"#N/A"}]
["SINAPI",88277,"","","",1,1,null,"SEDUC 21.18",null,"",{"$error":"#N/A"}]
["SINAPI",88310,"","","",1,1,null,"SEDUC 21.18",null,"",{"$error":"#N/A"}]
[null,null,null,null,null,null,null,null,"SEDUC 21.18",null,"",{"$error":"#N/A"}]
[null," COMP. 02 SEAD ",{"$f":"'ORÇ. DESON.'!O25","v":"ALAMBRADO (HT=4.00M) COM TELA GALV. 2\"X2\" (H=1,50M), MONTANTES EM TUBO DE AÇO GALVANIZADO DE 2\" A CADA 2M, TUBO DE AÇO GALVANIZADO DE 1\" (HORIZONTAIS), MURETA (H=0,50M) EM ALVENARIA DE BLOCOS DE CIMENTO REVESTIDA E PINTADA EM PVA LÁTEX 2 DEMÃOS (Ref. ORSE  4301)"},"M",null,null,null,{"$f":"(SUM(H1095:H1112))","v":422.8},{"$f":"SUM(I1095:I1112)","v":411.05},null,null,null,null,null,{"$f":"SUM(H1095:H1112)","v":422.8}]
[]
["SINAPI",95467,"EMBASAMENTO C/PEDRA ARGAMASSADA UTILIZANDO ARG.CIM/AREIA 1:4","m³",384.04,360.16,0.09,{"$f":"E1095*G1095","v":34.56},{"$f":"F1095*G1095","v":32.409999999999997}," 29,90",null,null,null,null,411.01]
["SINAPI",73361,"CONCRETO CICLOPICO FCK=10MPA 30% PEDRA DE MAO INCLUSIVE LANCAMENTO","m³",371.71,352.99,1.4E-2,{"$f":"E1096*G1096","v":5.2},{"$f":"F1096*G1096","v":4.9400000000000004}," 4,43"]
["SINAPI",89292,"ALVENARIA ESTRUTURAL DE BLOCOS CERÂMICOS 14X19X29, (ESPESSURA DE 14 CM), PARA PAREDES COM ÁREA LÍQUIDA MAIOR OU IGUAL A 6M², SEM VÃOS, UTILIZANDO PALHETA E ARGAMASSA DE ASSENTAMENTO COM PREPARO EM BETONEIRA. AF_12/2014","m²",74.83,72.42,0.45,33.67,32.590000000000003," 22,01"]
["SINAPI",87792,"EMBOÇO OU MASSA ÚNICA EM ARGAMASSA TRAÇO 1:2:8, PREPARO MECÂNICO COM BETONEIRA 400 L, APLICADA MANUALMENTE EM PANOS CEGOS DE FACHADA (SEM PRESENÇA DE VÃOS), ESPESSURA DE 25 MM. AF_06/2014","m²",29.36,27.68,1.05,30.83,29.06," 23,87"]
["SINAPI",88489,"APLICAÇÃO MANUAL DE PINTURA COM TINTA LÁTEX ACRÍLICA EM PAREDES, DUAS DEMÃOS. AF_06/2014","m²",10.6,10.119999999999999,1.05,11.13,10.63," 10,72"]
["SINAPI",93358,"ESCAVAÇÃO MANUAL DE VALA COM PROFUNDIDADE MENOR OU IGUAL A 1,30 M. AF_03/2016","m³",60.72,54.9,0.09,5.46,4.9400000000000004," 4,58"]
["SINAPI",87905,"CHAPISCO APLICADO EM ALVENARIA (COM PRESENÇA DE VÃOS) E ESTRUTURAS DE CONCRETO DE FACHADA, COM COLHER DE PEDREIRO.  ARGAMASSA TRAÇO 1:3 COM PREPARO EM BETONEIRA 400L. AF_06/2014","m²",6.82,6.27,1.05,7.16,6.58," 5,95"]
["SINAPI",88316,"SERVENTE COM ENCARGOS COMPLEMENTARES","H",15.35,13.88,0.4,6.14,5.55," 5,15"]
["SINAPI",88317,"SOLDADOR COM ENCARGOS COMPLEMENTARES","H",20.41,18.36,0.4,8.16,7.34," 6,85"]
["SINAPI",88277,"MONTADOR (TUBO AÇO/EQUIPAMENTOS) COM ENCARGOS COMPLEMENTARES","H",23.08,20.46,0.4,9.23,8.18," 7,39"]
["iORSE",2313,"Tubo de aço galvanizado leve c/ costura c/ rosca BSP Ø = 60,30mm ( 2\" ), e = 2,65mm, l = 6000mm NBR 5580","m",54.18,54.18,1.1499999999999999,62.31,62.31," 45,04"]
["iORSE",2310,"Tubo de aço galvanizado leve c/ costura c/ rosca BSP Ø = 33,7mm (1\"), e = 2,25mm, l = 6000mm NBR 5580","m",25.78,25.78,4,103.12,103.12," 74,56"]
["iSINAPI",10997,"ELETRODO REVESTIDO AWS - E7018, DIAMETRO IGUAL A 4,00 MM","KG",26.24,26.24,0.2,5.25,5.25," 3,41"]
["iSINAPI",2701,"INSTALADOR DE TUBULACOES (TUBOS/EQUIPAMENTOS)","H",19.07,16.48,0.4,7.63,6.59," 4,18"]
["iSINAPI",6160,"SOLDADOR","H",14.93,12.9,0.4,5.97,5.16," 5,92"]
["iSINAPI",6111,"SERVENTE DE OBRAS","H",10.6,9.16,0.4,4.24,3.66," 4,79"]
["iSINAPI",7158,"TELA DE ARAME GALVANIZADA QUADRANGULAR / LOSANGULAR, FIO 2,77 MM (12 BWG), MALHA 5 X 5 CM, H = 2 M","m²",25.88,25.88,3,77.64,77.64," 3,40"]
["iSINAPI",43132,"ARAME RECOZIDO 16 BWG, D = 1,65 MM (0,016 KG/M) OU 18 BWG, D = 1,25 MM (0,01 KG/M)","KG",17,17,0.3,5.0999999999999996,5.0999999999999996," 74,52"]

{"sheet":"ETAPAS DA OBRA","index":11,"n_rows":23,"n_cols":1,"rows_kept":23,"cut":false,"hidden":true,"merged":[]}
["ADMINISTRAÇÃO DA OBRA"]
["SERVIÇOS PRELIMINARES"]
["DEMOLIÇÕES E RETIRADAS"]
["MOVIMENTO DE TERRA"]
["INFRAESTRUTURA"]
["SUPERESTRUTURA"]
["PAREDES E DIVISORIAS"]
["COBERTURAS"]
["INSTALAÇÕES HIDRÁULICAS"]
["INSTALAÇÕES SANITÁRIAS"]
["INSTALAÇÕES ELÉTRICAS"]
["INSTALAÇÕES DE GÁS"]
["DRENAGEM PLUVIAL"]
["ESQUADRIAS"]
["PAVIMENTAÇÃO"]
["REVESTIMENTOS"]
["FORROS"]
["PINTURAS"]
["COMBATE A INCÊNDIO E PÂNICO"]
["BANCADAS E DIVISÓRIAS"]
["LOUÇAS E ACESSÓRIOS"]
["SEVIRÇOS DIVERSOS"]
["LIMPEZA DA OBRA"]